BEGIN:VCALENDAR
VERSION:2.0
PRODID:gruene-suedhardt.de
METHOD:PUBLISH
BEGIN:VTIMEZONE
TZID:Europe/Berlin
X-LIC-LOCATION:Europe/Berlin
BEGIN:DAYLIGHT
TZOFFSETFROM:+0100
TZOFFSETTO:+0200
TZNAME:CEST
DTSTART:19700329T020000
RRULE:FREQ=YEARLY;INTERVAL=1;BYDAY=-1SU;BYMONTH=3
END:DAYLIGHT
BEGIN:STANDARD
TZOFFSETFROM:+0200
TZOFFSETTO:+0100
TZNAME:CET
DTSTART:19701025T030000
RRULE:FREQ=YEARLY;INTERVAL=1;BYDAY=-1SU;BYMONTH=10
END:STANDARD
END:VTIMEZONE
BEGIN:VEVENT
UID:4399bd21dcecd578b8fafef19098bd49@gruene-suedhardt.de
URL;VALUE=URI:https://gruene-suedhardt.de/termine/5-mitgliederversammlung
 /
LOCATION:GoToMeeting
SUMMARY:1. Digitaler Grüner Stammtisch
DESCRIPTION;ALTREP="data:text/html,Trotz%20des%20nach%20wie%20vor%20beste
 henden%20Kontaktverbots%20wollen%20wir%20unsere%20Gespr%C3%A4che%20nicht%
 20abrei%C3%9Fen%20lassen%20und%20laden%20euch%20deshalb%20zu%20unserem%20
 1.%20Digitalen%20Gr%C3%BCnen%20Stammtisch%20ein.%0D%0A%0D%0ADazu%20werden
 %20wir%20am%2014.%20Mai%20um%2019%3A00Uhr%20eine%20Videokonferenz%20start
 en%20zu%20dem%20alle%20Mitglieder%20und%20Gr%C3%BCne%20Interessierte%20de
 s%20OVs%20herzlich%20eingeladen%20sind.%0D%0A%0D%0AAls%20Gast%20d%C3%BCrf
 en%20wir%20MdL%20Thomas%20Hentschel%20begr%C3%BC%C3%9Fen%2C%20der%20uns%2
 0eine%20kurze%20Einf%C3%BChrung%20zur%20Situation%20aus%20gr%C3%BCner%20S
 icht%20geben%20wird.%20Anschlie%C3%9Fend%20bleibt%20uns%20Zeit%20f%C3%BCr
 %20Fragen%20und%20Diskussionen.%0D%0A%0D%0ADer%20Stammtisch%20wird%20per%
 20Videokonferenz%20%28GoToMeeting%29%20stattfinden.%20Anmelden%20k%C3%B6n
 nt%20ihr%20euch%20unter%20%3Ca%20href%3D%22https%3A%2F%2Fgruenlink.de%2F1
 r1a%22%3Ehttps%3A%2F%2Fgruenlink.de%2F1r1a%3C%2Fa%3E":Trotz des nach wie 
 vor bestehenden Kontaktverbots wollen wir unsere Gespräche nicht abreiß
 en lassen und laden euch deshalb zu unserem 1. Digitalen Grünen Stammtis
 ch ein.\n\nDazu werden wir am 14. Mai um 19:00Uhr eine Videokonferenz sta
 rten zu dem alle Mitglieder und Grüne Interessierte des OVs herzlich ein
 geladen sind.\n\nAls Gast dürfen wir MdL Thomas Hentschel begrüßen\, d
 er uns eine kurze Einführung zur Situation aus grüner Sicht geben wird.
  Anschließend bleibt uns Zeit für Fragen und Diskussionen.\n\nDer Stamm
 tisch wird per Videokonferenz (GoToMeeting) stattfinden. Anmelden könnt 
 ihr euch unter https://gruenlink.de/1r1a
CLASS:PUBLIC
DTSTART;TZID=Europe/Berlin:20200514T190000
DTEND;TZID=Europe/Berlin:20200514T200000
DTSTAMP:20260422T112211
END:VEVENT
END:VCALENDAR