BEGIN:VCALENDAR
VERSION:2.0
PRODID:gruene-suedhardt.de
METHOD:PUBLISH
BEGIN:VTIMEZONE
TZID:Europe/Berlin
X-LIC-LOCATION:Europe/Berlin
BEGIN:DAYLIGHT
TZOFFSETFROM:+0100
TZOFFSETTO:+0200
TZNAME:CEST
DTSTART:19700329T020000
RRULE:FREQ=YEARLY;INTERVAL=1;BYDAY=-1SU;BYMONTH=3
END:DAYLIGHT
BEGIN:STANDARD
TZOFFSETFROM:+0200
TZOFFSETTO:+0100
TZNAME:CET
DTSTART:19701025T030000
RRULE:FREQ=YEARLY;INTERVAL=1;BYDAY=-1SU;BYMONTH=10
END:STANDARD
END:VTIMEZONE
BEGIN:VEVENT
UID:2cfa3d873d9fbabd1f05db8c5448ab6e@gruene-suedhardt.de
URL;VALUE=URI:https://gruene-suedhardt.de/termine/6-mitgliederversammlung
 /
LOCATION:Alter Tabackschuppen - Stöckwiese 6, 76467 Bietigheim
SUMMARY:6. Mitgliederversammlung
DESCRIPTION;ALTREP="data:text/html,In%20dieser%20Mitgliederversammlung%20
 d%C3%BCrfen%20wir%20zwei%20G%C3%A4ste%20begr%C3%BC%C3%9Fen%3A%0D%0A%0D%0A
 1.%20Eine%20Botschafterin%20der%20Foodsharing-Bewegung%20die%20uns%20eine
 n%20Einblick%20in%20das%20Themenfeld%20Lebensmittelverschwendung%20und%20
 Foodsharing%20geben%20wird%0D%0A%0D%0Aund%0D%0A%0D%0A2.%20Constatin%20Bra
 un%2C%20B%C3%BCrgermeister%20der%20Gemeinde%20Bietigheim%2C%20mit%20dem%2
 0wir%20%C3%BCber%20die%20aktuellen%20Projekte%20der%20Gemeinde%20Bietighe
 im%20wie%20z.B.%20das%20Carsharing%20Projekt%20sprechen%20wollen.%0D%0A%0
 D%0A%3Cem%3EBitte%20Mund-Nasen-Schutz%20mitbringen.%20Aufgrund%20der%20Hy
 gienevorschriften%20ist%20die%20Teilnehmeranzahl%20leider%20beschr%C3%A4n
 kt.%3C%2Fem%3E":In dieser Mitgliederversammlung dürfen wir zwei Gäste b
 egrüßen:\n\n1. Eine Botschafterin der Foodsharing-Bewegung die uns eine
 n Einblick in das Themenfeld Lebensmittelverschwendung und Foodsharing ge
 ben wird\n\nund\n\n2. Constatin Braun\, Bürgermeister der Gemeinde Bieti
 gheim\, mit dem wir über die aktuellen Projekte der Gemeinde Bietigheim 
 wie z.B. das Carsharing Projekt sprechen wollen.\n\nBitte Mund-Nasen-Schu
 tz mitbringen. Aufgrund der Hygienevorschriften ist die Teilnehmeranzahl 
 leider beschränkt.
CLASS:PUBLIC
DTSTART;TZID=Europe/Berlin:20200716T184500
DTEND;TZID=Europe/Berlin:20200716T194500
DTSTAMP:20260422T112231
END:VEVENT
END:VCALENDAR