BEGIN:VCALENDAR
VERSION:2.0
PRODID:gruene-suedhardt.de
METHOD:PUBLISH
BEGIN:VTIMEZONE
TZID:Europe/Berlin
X-LIC-LOCATION:Europe/Berlin
BEGIN:DAYLIGHT
TZOFFSETFROM:+0100
TZOFFSETTO:+0200
TZNAME:CEST
DTSTART:19700329T020000
RRULE:FREQ=YEARLY;INTERVAL=1;BYDAY=-1SU;BYMONTH=3
END:DAYLIGHT
BEGIN:STANDARD
TZOFFSETFROM:+0200
TZOFFSETTO:+0100
TZNAME:CET
DTSTART:19701025T030000
RRULE:FREQ=YEARLY;INTERVAL=1;BYDAY=-1SU;BYMONTH=10
END:STANDARD
END:VTIMEZONE
BEGIN:VEVENT
UID:a2aa24d6f0362128d07c3043735c78ed@gruene-suedhardt.de
URL;VALUE=URI:https://gruene-suedhardt.de/termine/amerika-hat-gewaehlt-we
 lche-folgen-hat-das-wahlergebnis/
LOCATION:
SUMMARY:Amerika hat gewählt – Welche Folgen hat das Wahlergebnis?
DESCRIPTION;ALTREP="data:text/html,Thomas%20Hentschel%20MdL%20diskutiert%
 20im%20Livestream%20mit%20Cindy%20Holmberg%20%C3%BCber%20die%20Folgen%20d
 es%20Wahlergebnis%20in%20den%20USA.%20Diskutieren%20Sie%20mit%21%0D%0A%3C
 h1%3E%3Ca%20href%3D%22https%3A%2F%2Fwww.facebook.com%2Fmdl.thomas.hentsch
 el%2Fposts%2F154493496352719%22%3EZum%20Stream%3C%2Fa%3E%3C%2Fh1%3E":Thom
 as Hentschel MdL diskutiert im Livestream mit Cindy Holmberg über die Fo
 lgen des Wahlergebnis in den USA. Diskutieren Sie mit!\n\nZum Stream
CLASS:PUBLIC
DTSTART;TZID=Europe/Berlin:20201106T190000
DTEND;TZID=Europe/Berlin:20201106T200000
DTSTAMP:20260422T112359
END:VEVENT
END:VCALENDAR