BEGIN:VCALENDAR
VERSION:2.0
PRODID:gruene-suedhardt.de
METHOD:PUBLISH
BEGIN:VTIMEZONE
TZID:Europe/Berlin
X-LIC-LOCATION:Europe/Berlin
BEGIN:DAYLIGHT
TZOFFSETFROM:+0100
TZOFFSETTO:+0200
TZNAME:CEST
DTSTART:19700329T020000
RRULE:FREQ=YEARLY;INTERVAL=1;BYDAY=-1SU;BYMONTH=3
END:DAYLIGHT
BEGIN:STANDARD
TZOFFSETFROM:+0200
TZOFFSETTO:+0100
TZNAME:CET
DTSTART:19701025T030000
RRULE:FREQ=YEARLY;INTERVAL=1;BYDAY=-1SU;BYMONTH=10
END:STANDARD
END:VTIMEZONE
BEGIN:VEVENT
UID:9114187a4a17682d99eff78d6cd7f1b5@gruene-suedhardt.de
URL;VALUE=URI:https://gruene-suedhardt.de/termine/befahrung-radschnellweg
 -rastatt-karlsruhe/
LOCATION:Parkplatz der Hardtsporthalle, Triftstraße 11, 76448 Durmershei
 m
SUMMARY:Befahrung: Radschnellweg Rastatt – Karlsruhe
DESCRIPTION;ALTREP="data:text/html,%3Cdiv%20class%3D%22description%22%3E%
 0D%0A%3Cdiv%3E%0D%0A%3Cp%20class%3D%22bodytext%22%3EWir%20werden%20zusamm
 en%20mit%20MdL%20Thomas%20Hentschel%20mit%20dem%20Rad%20von%20Durmersheim
 %20nach%20Rastatt%2C%20die%20zwei%20Streckenvorschl%C3%A4ge%20f%C3%BCr%20
 einen%20Radschnellweg%20zwischen%20Rastatt%20und%20Karlsruhe%20befahren.%
 3C%2Fp%3E%0D%0AStart%20und%20Zielpunkt%20ist%20der%20Parkplatz%20der%20Ha
 rdtsporthalle%20in%20Durmersheim%20%2850m%20zur%20Bahnhaltestelle%20Durme
 rsheim%20Nord%29%0D%0ADannach%20fahren%20wir%20zun%C3%A4chst%20auf%20der%
 20einen%20Route%20nach%20Rastatt%20und%20und%20auf%20der%20Alternativrout
 e%20wieder%20zur%C3%BCck%20nach%20Durmersheim%20%28insgesamt%20ca.%2020%2
 0Kilometer%29%0D%0A%0D%0ABitte%20Verpflegung%20%28Getr%C3%A4nke%20und%20g
 gf.%20kleiner%20Snack%29%20selbst%20mitbringen%0D%0A%3Cp%20class%3D%22bod
 ytext%22%3EWegen%20der%20aktuellen%20Lage%20ist%20eine%20Anmeldung%20mit%
 20Name%2C%20Adresse%20und%20Telefonnumer%20notwendig%21%3C%2Fp%3E%0D%0A%3
 Cp%20class%3D%22bodytext%22%3EBitte%20per%20E-Mail%20unter%20%3Ca%3Ethoma
 s.hentschel.wk%28at%29gruene.landtag-bw.de%3C%2Fa%3E%20oder%20telefonisch
 %20unter%2007222%207871255%20anmelden%3C%2Fp%3E%0D%0A%0D%0A%3C%2Fdiv%3E%0
 D%0A%3C%2Fdiv%3E":Wir werden zusammen mit MdL Thomas Hentschel mit dem Ra
 d von Durmersheim nach Rastatt\, die zwei Streckenvorschläge für einen 
 Radschnellweg zwischen Rastatt und Karlsruhe befahren.\n\nStart und Zielp
 unkt ist der Parkplatz der Hardtsporthalle in Durmersheim (50m zur Bahnha
 ltestelle Durmersheim Nord)\n\nDannach fahren wir zunächst auf der einen
  Route nach Rastatt und und auf der Alternativroute wieder zurück nach D
 urmersheim (insgesamt ca. 20 Kilometer)\n\nBitte Verpflegung (Getränke u
 nd ggf. kleiner Snack) selbst mitbringen\n\nWegen der aktuellen Lage ist 
 eine Anmeldung mit Name\, Adresse und Telefonnumer notwendig!\n\nBitte pe
 r E-Mail unter thomas.hentschel.wk(at)gruene.landtag-bw.de oder telefonis
 ch unter 07222 7871255 anmelden
CLASS:PUBLIC
DTSTART;TZID=Europe/Berlin:20200813T180000
DTEND;TZID=Europe/Berlin:20200813T190000
DTSTAMP:20260422T112351
END:VEVENT
END:VCALENDAR