BEGIN:VCALENDAR
VERSION:2.0
PRODID:gruene-suedhardt.de
METHOD:PUBLISH
BEGIN:VTIMEZONE
TZID:Europe/Berlin
X-LIC-LOCATION:Europe/Berlin
BEGIN:DAYLIGHT
TZOFFSETFROM:+0100
TZOFFSETTO:+0200
TZNAME:CEST
DTSTART:19700329T020000
RRULE:FREQ=YEARLY;INTERVAL=1;BYDAY=-1SU;BYMONTH=3
END:DAYLIGHT
BEGIN:STANDARD
TZOFFSETFROM:+0200
TZOFFSETTO:+0100
TZNAME:CET
DTSTART:19701025T030000
RRULE:FREQ=YEARLY;INTERVAL=1;BYDAY=-1SU;BYMONTH=10
END:STANDARD
END:VTIMEZONE
BEGIN:VEVENT
UID:267025a8476390c329bae291ce1612dc@gruene-suedhardt.de
URL;VALUE=URI:https://gruene-suedhardt.de/termine/demokratie-ist-bunt/
LOCATION:Bickesheimer Platz, Bickesheimer Platz, Durmersheim
SUMMARY:WIR HALTEN ZUSAMMEN!
DESCRIPTION;ALTREP="data:text/html,%0A%3Cp%3EUnser%20Mitgef%C3%BChl%20gil
 t%20den%20Betroffenen%20und%20Angeh%C3%B6rigen%20des%20j%C3%BCngsten%20An
 schlags%20in%20M%C3%BCnchen.%20Unser%20gro%C3%9Fer%20Dank%20geb%C3%BChrt%
 20den%20Einsatzkr%C3%A4ften%2C%20die%20schnell%20und%20entschlossen%20zur
 %20Stelle%20waren%20und%20gehandelt%20haben.%3C%2Fp%3E%0A%0A%0A%0A%3Cp%3E
 Wir%20verstehen%2C%20dass%20sich%20die%20Menschen%20Sorgen%20machen%2C%20
 nach%20einer%20Reihe%20von%20furchtbaren%20Anschl%C3%A4gen.%3C%2Fp%3E%0A%
 0A%0A%0A%3Cp%3EUmso%20wichtiger%20ist%20es%2C%20dass%20wir%20als%20Gesell
 schaft%20zusammenhalten%2C%20uns%20nicht%20spalten%20lassen%20von%20denen
 %2C%20die%20diese%20Taten%20ver%C3%BCben%20oder%20sie%20f%C3%BCr%20ihre%2
 0Zwecke%20benutzen.%3C%2Fp%3E%0A%0A%0A%0A%3Cp%3EWir%2C%20die%20gesellscha
 ftliche%20Mitte%20stellen%20uns%20dem%20zusammen%20entgegen.%3Cbr%3E%3Cst
 rong%3EWir%20sind%20die%20Brandmauer%20und%20das%20Bollwerk%20gegen%20Ang
 riffe%20von%20innen%20und%20au%C3%9Fen%3C%2Fstrong%3E.%3Cbr%3EDiese%20Ang
 riffe%20haben%20das%20Ziel%20unserer%20Demokratie%20und%20unserer%20Gesel
 lschaft%20zu%20schaden.%20Es%20wird%20Gewalt%20verbreitet%20und%20Angst%2
 0gesch%C3%BCrt%2C%20um%20die%20Menschen%20zu%20verunsichern.%20und%20dem%
 20schauen%20wir%20nicht%20tatenlos%20zu.%3C%2Fp%3E%0A%0A%0A%0A%3Cp%3EUnse
 r%20Land%20braucht%20einen%20anderen%20Sicherheitsplan%2C%20das%20steht%2
 0au%C3%9Fer%20Frage%2C%20die%20Kooperation%20der%20Sicherheitsbeh%C3%B6rd
 en%20ist%20zu%20verbessern.%20Dazu%20geh%C3%B6ren%20auch%20Ma%C3%9Fnahmen
 %20zu%20einer%20besser%20geordneten%20Migration.%3Cbr%3E%3Cbr%3EDie%20Ges
 ellschaft%20in%20unserem%20Land%20ist%20vielf%C3%A4ltig%20und%20bunt%2C%2
 0wir%20haben%20eine%20lebendige%20Demokratie%20die%20das%20widerspiegelt%
 20%E2%80%93%20daf%C3%BCr%20treten%20wir%20gemeinsam%20ein%2C%20wir%20halt
 en%20zusammen%2C%20gemeinsam%20sind%20wir%20stark%21%3C%2Fp%3E%0A%0A%0A%0
 A%3Cp%3EUm%20das%20zu%20zeigen%20rufen%20wir%20zur%20Teilnahme%20an%20der
 %20Kundgebung%20%E2%80%9EDemokratie%20ist%20bunt%20%E2%80%93%20wir%20halt
 en%20zusammen%E2%80%9C%20auf%2C%20am%20Sonntag%2C%2016.%20Februar%202025%
 20um%2018%20Uhr%20auf%20dem%20Bickesheimer%20Platz%20in%20Durmersheim.%3C
 br%3E%3Cbr%3E%3Cstrong%3EGemeinsam%20wollen%20wir%20ein%20Zeichen%20setze
 n%3A%20f%C3%BCr%20unsere%20Demokratie%20und%20gesellschaftlichen%20Zusamm
 enhalt%21%3C%2Fstrong%3E%3C%2Fp%3E%0A":Unser Mitgefühl gilt den Betroffe
 nen und Angehörigen des jüngsten Anschlags in München. Unser großer D
 ank gebührt den Einsatzkräften\, die schnell und entschlossen zur Stell
 e waren und gehandelt haben.\n\nWir verstehen\, dass sich die Menschen So
 rgen machen\, nach einer Reihe von furchtbaren Anschlägen.\n\nUmso wicht
 iger ist es\, dass wir als Gesellschaft zusammenhalten\, uns nicht spalte
 n lassen von denen\, die diese Taten verüben oder sie für ihre Zwecke b
 enutzen.\n\nWir\, die gesellschaftliche Mitte stellen uns dem zusammen en
 tgegen.Wir sind die Brandmauer und das Bollwerk gegen Angriffe von innen 
 und außen.Diese Angriffe haben das Ziel unserer Demokratie und unserer G
 esellschaft zu schaden. Es wird Gewalt verbreitet und Angst geschürt\, u
 m die Menschen zu verunsichern. und dem schauen wir nicht tatenlos zu.\n\
 nUnser Land braucht einen anderen Sicherheitsplan\, das steht außer Frag
 e\, die Kooperation der Sicherheitsbehörden ist zu verbessern. Dazu geh
 ören auch Maßnahmen zu einer besser geordneten Migration.Die Gesellscha
 ft in unserem Land ist vielfältig und bunt\, wir haben eine lebendige De
 mokratie die das widerspiegelt – dafür treten wir gemeinsam ein\, wir 
 halten zusammen\, gemeinsam sind wir stark!\n\nUm das zu zeigen rufen wir
  zur Teilnahme an der Kundgebung „Demokratie ist bunt – wir halten zu
 sammen“ auf\, am Sonntag\, 16. Februar 2025 um 18 Uhr auf dem Bickeshei
 mer Platz in Durmersheim.Gemeinsam wollen wir ein Zeichen setzen: für un
 sere Demokratie und gesellschaftlichen Zusammenhalt!
CLASS:PUBLIC
DTSTART;TZID=Europe/Berlin:20250216T180000
DTEND;TZID=Europe/Berlin:20250216T193000
DTSTAMP:20260424T135809
END:VEVENT
END:VCALENDAR