BEGIN:VCALENDAR
VERSION:2.0
PRODID:gruene-suedhardt.de
METHOD:PUBLISH
BEGIN:VTIMEZONE
TZID:Europe/Berlin
X-LIC-LOCATION:Europe/Berlin
BEGIN:DAYLIGHT
TZOFFSETFROM:+0100
TZOFFSETTO:+0200
TZNAME:CEST
DTSTART:19700329T020000
RRULE:FREQ=YEARLY;INTERVAL=1;BYDAY=-1SU;BYMONTH=3
END:DAYLIGHT
BEGIN:STANDARD
TZOFFSETFROM:+0200
TZOFFSETTO:+0100
TZNAME:CET
DTSTART:19701025T030000
RRULE:FREQ=YEARLY;INTERVAL=1;BYDAY=-1SU;BYMONTH=10
END:STANDARD
END:VTIMEZONE
BEGIN:VEVENT
UID:1a7dd1c9148ca6e6a96f260f0b87d1e2@gruene-suedhardt.de
URL;VALUE=URI:https://gruene-suedhardt.de/termine/der-weg-ins-solarzeital
 ter/
LOCATION:Zoom
SUMMARY:Der Weg ins Solarzeitalter
DESCRIPTION;ALTREP="data:text/html,%3Cdiv%20class%3D%22kvgmc6g5%20cxmmr5t
 8%20oygrvhab%20hcukyx3x%20c1et5uql%22%3EEiner%20der%20profiliertesten%20S
 olarforscher%20kommt%20-%20%C3%BCber%20den%20virtuellen%20Weg%20-%20zu%20
 unseren%20Freunden%20in%20den%20OV%20Region%20B%C3%BChl%21%0D%0AIn%20eine
 m%20Live-Vortrag%20stellt%20Prof.%20Weber%20die%20neuesten%20Photovoltaik
 -Technologien%20vor.%20Er%20zeigt%2C%20warum%20Solarenergie%20global%2C%2
 0in%20Europa%2C%20in%20Deutschland%20und%20in%20unserer%20Region%20Zukunf
 t%20hat%20und%20warum%20wir%20diese%20Art%20der%20Energieerzeugung%20noch
 %20st%C3%A4rker%20ausbauen%20sollten.%20Er%20erl%C3%A4utert%2C%20weshalb%
 20falsche%20Energiepolitik%20wirtschaftliche%20Chancen%20verspielen%20k%C
 3%B6nnte.%3C%2Fdiv%3E%0D%0A%3Cdiv%20class%3D%22o9v6fnle%20cxmmr5t8%20oygr
 vhab%20hcukyx3x%20c1et5uql%22%3EProfessor%20Eicke%20Weber%20lehrte%20an%2
 0zahlreichen%20Universit%C3%A4ten%20in%20aller%20Welt.%20Er%20war%20unter
 %20anderem%20Inhaber%20des%20Lehrstuhls%20f%C3%BCr%20Physik%2FSolarenergi
 e%20an%20der%20Universit%C3%A4t%20Freiburg.%20Von%202006%20bis%202016%20w
 ar%20er%20au%C3%9Ferdem%20Leiter%20des%20Fraunhofer-Instituts%20f%C3%BCr%
 20Solare%20Energiesysteme.%0D%0AAls%20Wissenschaftler%20hat%20er%20sich%2
 0mit%20einer%20Vielzahl%20wissenschaftlicher%20Ver%C3%B6ffentlichungen%20
 einen%20Namen%20gemacht.%20Daf%C3%BCr%20erhielt%20er%20neben%20zahlreiche
 n%20Wissenschaftspreisen%20auch%20das%20Bundesverdienstkreuz%20am%20Bande
 .%3C%2Fdiv%3E%0D%0A%3Cdiv%20class%3D%22o9v6fnle%20cxmmr5t8%20oygrvhab%20h
 cukyx3x%20c1et5uql%22%3EWir%20freuen%20uns%20auf%20einen%20lehrreichen%20
 Vortrag%20eines%20hochkar%C3%A4tigen%20Kenners%20der%20Solarbranche%21%0D
 %0ADa%20es%20sich%20um%20einen%20interaktiven%20Vortrag%20handelt%2C%20is
 t%20es%20m%C3%B6glich%2C%20w%C3%A4hrend%20des%20Vortrages%20Fragen%20im%2
 0Chat%20zu%20stellen.%20Im%20Anschluss%20des%20Vortrages%20ist%20ausreich
 end%20Zeit%20zur%20Beantwortung%20von%20Fragen.%3C%2Fdiv%3E%0D%0A%3Cdiv%2
 0class%3D%22o9v6fnle%20cxmmr5t8%20oygrvhab%20hcukyx3x%20c1et5uql%22%3EDer
 %20Vortrag%20findet%20%C3%BCber%20das%20Video-Konferenz-Tool%20%22Zoom%22
 %20statt.%20Wenn%20man%20noch%20nie%20mit%20%22Zoom%22%20gearbeitet%20hat
 %2C%20ist%20es%20hilfreich%2C%20den%20unten%20stehenden%20Link%20im%20Vor
 feld%20des%20Vortrags%20aufzurufen%2C%20um%20sich%20mit%20der%20Funktiona
 lit%C3%A4t%20der%20Software%20vertraut%20zu%20machen.%0D%0ADer%20Vortrag%
 20wird%20aufgezeichnet.%20Zur%20Wahrung%20der%20eigenen%20Anonymit%C3%A4t
 %20kann%20man%20sich%20mit%20einem%20%22Alias-Namen%22%20anmelden.%3C%2Fd
 iv%3E%0D%0A%3Cdiv%20class%3D%22o9v6fnle%20cxmmr5t8%20oygrvhab%20hcukyx3x%
 20c1et5uql%22%3EDer%20Link%20zum%20Meeting%2FVortrag%20lautet%3A%20%3Ca%2
 0class%3D%22oajrlxb2%20g5ia77u1%20qu0x051f%20esr5mh6w%20e9989ue4%20r7d6kg
 cz%20rq0escxv%20nhd2j8a9%20nc684nl6%20p7hjln8o%20kvgmc6g5%20cxmmr5t8%20oy
 grvhab%20hcukyx3x%20jb3vyjys%20rz4wbd8a%20qt6c0cv9%20a8nywdso%20i1ao9s8h%
 20esuyzwwr%20f1sip0of%20lzcic4wl%20py34i1dx%20gpro0wi8%22%20role%3D%22lin
 k%22%20href%3D%22https%3A%2F%2Fl.facebook.com%2Fl.php%3Fu%3Dhttps%253A%25
 2F%252Fus02web.zoom.us%252F%253Ffbclid%253DIwAR0cALvuIKekQMbqlw5FjI67-ql5
 0j2Aoztqd-Ay0XejcXO_7LFdr1aprFs%26amp%3Bh%3DAT0WmDsh9KrxnuT4CBRvq5gux6i74
 oKPVMazatV95jwE4965VryKsgHvkVMtLDhPUEodZMRw1Acd0y7zfRtk-Ih0wvU18qEsDyY2wW
 D6aaH0A3rqinPlMPcIClsg-vcPy8D0EOOzTw%22%20target%3D%22_blank%22%20rel%3D%
 22nofollow%20noopener%20noreferrer%22%3Ehttps%3A%2F%2Fus02web.zoom.us%2F%
 3C%2Fa%3E%2C%20die%20Meeting-ID%20lautet%3A%20862%209844%205231.%3C%2Fdiv
 %3E%0D%0A%26nbsp%3B":Einer der profiliertesten Solarforscher kommt - übe
 r den virtuellen Weg - zu unseren Freunden in den OV Region Bühl!\n\nIn 
 einem Live-Vortrag stellt Prof. Weber die neuesten Photovoltaik-Technolog
 ien vor. Er zeigt\, warum Solarenergie global\, in Europa\, in Deutschlan
 d und in unserer Region Zukunft hat und warum wir diese Art der Energieer
 zeugung noch stärker ausbauen sollten. Er erläutert\, weshalb falsche E
 nergiepolitik wirtschaftliche Chancen verspielen könnte.\n\nProfessor Ei
 cke Weber lehrte an zahlreichen Universitäten in aller Welt. Er war unte
 r anderem Inhaber des Lehrstuhls für Physik/Solarenergie an der Universi
 tät Freiburg. Von 2006 bis 2016 war er außerdem Leiter des Fraunhofer-I
 nstituts für Solare Energiesysteme.\n\nAls Wissenschaftler hat er sich m
 it einer Vielzahl wissenschaftlicher Veröffentlichungen einen Namen gema
 cht. Dafür erhielt er neben zahlreichen Wissenschaftspreisen auch das Bu
 ndesverdienstkreuz am Bande.\n\nWir freuen uns auf einen lehrreichen Vort
 rag eines hochkarätigen Kenners der Solarbranche!\n\nDa es sich um einen
  interaktiven Vortrag handelt\, ist es möglich\, während des Vortrages 
 Fragen im Chat zu stellen. Im Anschluss des Vortrages ist ausreichend Zei
 t zur Beantwortung von Fragen.\n\nDer Vortrag findet über das Video-Konf
 erenz-Tool "Zoom" statt. Wenn man noch nie mit "Zoom" gearbeitet hat\, is
 t es hilfreich\, den unten stehenden Link im Vorfeld des Vortrags aufzuru
 fen\, um sich mit der Funktionalität der Software vertraut zu machen.\n\
 nDer Vortrag wird aufgezeichnet. Zur Wahrung der eigenen Anonymität kann
  man sich mit einem "Alias-Namen" anmelden.\n\nDer Link zum Meeting/Vortr
 ag lautet: https://us02web.zoom.us/\, die Meeting-ID lautet: 862 9844 523
 1.\n\n 
CLASS:PUBLIC
DTSTART;TZID=Europe/Berlin:20200608T180000
DTEND;TZID=Europe/Berlin:20200608T200000
DTSTAMP:20260424T094750
END:VEVENT
END:VCALENDAR