BEGIN:VCALENDAR
VERSION:2.0
PRODID:gruene-suedhardt.de
METHOD:PUBLISH
BEGIN:VTIMEZONE
TZID:Europe/Berlin
X-LIC-LOCATION:Europe/Berlin
BEGIN:DAYLIGHT
TZOFFSETFROM:+0100
TZOFFSETTO:+0200
TZNAME:CEST
DTSTART:19700329T020000
RRULE:FREQ=YEARLY;INTERVAL=1;BYDAY=-1SU;BYMONTH=3
END:DAYLIGHT
BEGIN:STANDARD
TZOFFSETFROM:+0200
TZOFFSETTO:+0100
TZNAME:CET
DTSTART:19701025T030000
RRULE:FREQ=YEARLY;INTERVAL=1;BYDAY=-1SU;BYMONTH=10
END:STANDARD
END:VTIMEZONE
BEGIN:VEVENT
UID:84dcc4120f65136e47b8e3353ef9ff5d@gruene-suedhardt.de
URL;VALUE=URI:https://gruene-suedhardt.de/termine/digitale-mitgliedervers
 ammlung/
LOCATION:Online
SUMMARY:Digitale Mitgliederversammlung
DESCRIPTION;ALTREP="data:text/html,Am%2017.03.2021%20findet%20unsere%20n%
 C3%A4chste%20Mitgliederversammlung%20statt.%0D%0A%0D%0ADabei%20wird%20es%
 20um%20Themen%20wie%20die%20nach%20wie%20vor%20existierenden%20Schotterg%
 C3%A4rten%20sowie%20Carsharingangebote%20gehen.%C2%A0%20Au%C3%9Ferdem%20w
 ollen%20wir%20Ergebnisse%20der%20Landtagswahl%20er%C3%B6rtern.%0D%0A%0D%0
 ADie%20Veranstaltung%20findet%20online%20unter%20%3Ca%20href%3D%22https%3
 A%2F%2Fmeet.jit.si%2Fgruene.suedhardt%22%3Ehttps%3A%2F%2Fmeet.jit.si%2Fgr
 uene.suedhardt%3C%2Fa%3E%20statt.%20Um%20Jitsi%20Meet%20reibunglos%20verw
 enden%20zu%20k%C3%B6nnen%20empfehlen%20wir%20den%20Browser%20Google%20Chr
 ome.":Am 17.03.2021 findet unsere nächste Mitgliederversammlung statt.\n
 \nDabei wird es um Themen wie die nach wie vor existierenden Schottergär
 ten sowie Carsharingangebote gehen.  Außerdem wollen wir Ergebnisse der
  Landtagswahl erörtern.\n\nDie Veranstaltung findet online unter https:/
 /meet.jit.si/gruene.suedhardt statt. Um Jitsi Meet reibunglos verwenden z
 u können empfehlen wir den Browser Google Chrome.
CLASS:PUBLIC
DTSTART;TZID=Europe/Berlin:20210317T191500
DTEND;TZID=Europe/Berlin:20210317T201500
DTSTAMP:20260422T112232
END:VEVENT
END:VCALENDAR