BEGIN:VCALENDAR
VERSION:2.0
PRODID:gruene-suedhardt.de
METHOD:PUBLISH
BEGIN:VTIMEZONE
TZID:Europe/Berlin
X-LIC-LOCATION:Europe/Berlin
BEGIN:DAYLIGHT
TZOFFSETFROM:+0100
TZOFFSETTO:+0200
TZNAME:CEST
DTSTART:19700329T020000
RRULE:FREQ=YEARLY;INTERVAL=1;BYDAY=-1SU;BYMONTH=3
END:DAYLIGHT
BEGIN:STANDARD
TZOFFSETFROM:+0200
TZOFFSETTO:+0100
TZNAME:CET
DTSTART:19701025T030000
RRULE:FREQ=YEARLY;INTERVAL=1;BYDAY=-1SU;BYMONTH=10
END:STANDARD
END:VTIMEZONE
BEGIN:VEVENT
UID:11a416f1cce2af0b69b0d2b24d333344@gruene-suedhardt.de
URL;VALUE=URI:https://gruene-suedhardt.de/termine/digitaler-regenbogenemp
 fang-2021/
LOCATION:
SUMMARY:Digitaler Regenbogenempfang 2021
DESCRIPTION;ALTREP="data:text/html,%3Csection%20id%3D%22inhalt%22%20class
 %3D%22text-editor%22%3E%3Cheader%3E%0D%0A%3Ch1%20class%3D%22section-heade
 r%22%3EINHALT%3C%2Fh1%3E%0D%0A%3C%2Fheader%3E%0D%0A%3Cdiv%3E%0D%0A%0D%0AW
 ir%20verlegen%20den%20traditionellen%20Regenbogenempfang%20von%20B%C3%9CN
 DNIS%2090%2FDIE%20GR%C3%9CNEN%20Baden-W%C3%BCrttemberg%20erneut%20ins%20N
 etz.%20Im%20Vorfeld%20der%20Bundestagswahl%20wollen%20wir%20gemeinsam%20m
 it%20Euch%20ein%20starkes%20Signal%20setzen%20und%20klare%20politische%20
 Forderungen%20formulieren%3A%20F%C3%BCr%20sexuelle%20und%20geschlechtlich
 e%20Vielfalt.%20F%C3%BCr%20Akzeptanz%20und%20gleiche%20Rechte.%20F%C3%BCr
 %20Zusammenhalt%20und%20neuen%20Mut.%0D%0A%0D%0AAuf%20einen%20regenbogenb
 unten%20Abend%20im%20digitalen%20Format%20freut%20sich%3A%0D%0A%0D%0A%E2%
 80%A2%20Oliver%20Hildenbrand%20MdL%2C%20Landesvorsitzender%0D%0A%0D%0A%3C
 %2Fdiv%3E%0D%0A%3C%2Fsection%3E%3Csection%20id%3D%22teilnehmen%22%3E%3Che
 ader%3E%0D%0A%0D%0A%3Chr%20%2F%3E%0D%0A%0D%0A%3Ch1%3EAnmeldung%20zum%20Re
 genbogenempfang%3C%2Fh1%3E%0D%0A%3C%2Fheader%3E%0D%0A%3Cdiv%20class%3D%22
 text-editor%22%3E%0D%0A%0D%0A%3Ca%20href%3D%22https%3A%2F%2Fforms.office.
 com%2FPages%2FResponsePage.aspx%3Fid%3DCImnGIj9i0-p4h8CkKcxnwrwY7vUVIdLm0
 J9H0l_419UMFpVQVE2TDhITk44OVI1MVRVWE5NSFlNUi4u%22%3EZur%20besseren%20Plan
 ung%20bitten%20wir%20um%20eine%20Anmeldung%3C%2Fa%3E.%0D%0A%0D%0A%3C%2Fdi
 v%3E%0D%0A%3C%2Fsection%3E":INHALT\n\nWir verlegen den traditionellen Reg
 enbogenempfang von BÜNDNIS 90/DIE GRÜNEN Baden-Württemberg erneut ins 
 Netz. Im Vorfeld der Bundestagswahl wollen wir gemeinsam mit Euch ein sta
 rkes Signal setzen und klare politische Forderungen formulieren: Für sex
 uelle und geschlechtliche Vielfalt. Für Akzeptanz und gleiche Rechte. F
 ür Zusammenhalt und neuen Mut.\n\nAuf einen regenbogenbunten Abend im di
 gitalen Format freut sich:\n\n• Oliver Hildenbrand MdL\, Landesvorsitze
 nder\n\nAnmeldung zum Regenbogenempfang\n\nZur besseren Planung bitten wi
 r um eine Anmeldung.
CLASS:PUBLIC
DTSTART;TZID=Europe/Berlin:20210730T190000
DTEND;TZID=Europe/Berlin:20210730T200000
DTSTAMP:20260424T094744
END:VEVENT
END:VCALENDAR