BEGIN:VCALENDAR
VERSION:2.0
PRODID:gruene-suedhardt.de
METHOD:PUBLISH
BEGIN:VTIMEZONE
TZID:Europe/Berlin
X-LIC-LOCATION:Europe/Berlin
BEGIN:DAYLIGHT
TZOFFSETFROM:+0100
TZOFFSETTO:+0200
TZNAME:CEST
DTSTART:19700329T020000
RRULE:FREQ=YEARLY;INTERVAL=1;BYDAY=-1SU;BYMONTH=3
END:DAYLIGHT
BEGIN:STANDARD
TZOFFSETFROM:+0200
TZOFFSETTO:+0100
TZNAME:CET
DTSTART:19701025T030000
RRULE:FREQ=YEARLY;INTERVAL=1;BYDAY=-1SU;BYMONTH=10
END:STANDARD
END:VTIMEZONE
BEGIN:VEVENT
UID:179a9a624eff79991389de29bbc2e912@gruene-suedhardt.de
URL;VALUE=URI:https://gruene-suedhardt.de/termine/durmersheim-vereint/
LOCATION:Helmholzstraße 1/1, Durmersheim
SUMMARY:Durmersheim Verein(t)
DESCRIPTION;ALTREP="data:text/html,In%20Durmersheim%20sind%20rund%2080%20
 Vereine%20und%20Organisationen%20aktiv.%20Hier%20kann%20man%20sich%20spor
 tlich%2C%20kulturell%2C%20sozial%20und%20politisch%20oder%20auch%20in%20w
 eiteren%20Bereichen%20einbringen%20und%20mitmachen.%20Das%20f%C3%B6rdert%
 20das%20gesellschaftliche%20Miteinander%20im%20Ort%20und%20schafft%20Verb
 indungen.%0D%0A%0D%0ADank%20dieses%20vielseitigen%20ehrenamtlichen%20Enga
 gements%20und%20des%20breit%20gef%C3%A4cherten%20Angebots%20an%20Aktivit%
 C3%A4ten%20stehen%20allen%20Generationen%20damit%20verschiedenste%20Freiz
 eitaktivit%C3%A4ten%20offen.%0D%0A%0D%0A%3Cstrong%3EDie%20Gemeindeverwalt
 ung%20Durmersheim%20l%C3%A4dt%20alle%20B%C3%BCrgerinnen%20und%20B%C3%BCrg
 er%20aus%20Durmersheim%20und%20W%C3%BCrmersheim%20zu%20%E2%80%9CDurmershe
 im%20Verein%28t%29%E2%80%9D%20am%2012.%20Oktober%202024%20von%2015%20bis%
 2017%3A30%20Uhr%20in%20die%20Mensa%20Schulzentrum%20ein.%3C%2Fstrong%3E%0
 D%0A%0D%0ADie%20Gr%C3%BCnen%20in%20Durmersheim%20werden%20stellvertretend
 %20f%C3%BCr%20den%20Gr%C3%BCne%20OV%20S%C3%BCdhardt%20teilnehmen.%20Komme
 n%20Sie%20vorbei%20und%20sprechen%20Sie%20mit%20uns%20dar%C3%BCber%20wie%
 20wir%20die%20Zukunft%20f%C3%BCr%20Durmersheim%20und%20die%20Region%20ges
 talten%20k%C3%B6nnen%21":In Durmersheim sind rund 80 Vereine und Organisa
 tionen aktiv. Hier kann man sich sportlich\, kulturell\, sozial und polit
 isch oder auch in weiteren Bereichen einbringen und mitmachen. Das förde
 rt das gesellschaftliche Miteinander im Ort und schafft Verbindungen.\n\n
 Dank dieses vielseitigen ehrenamtlichen Engagements und des breit gefäch
 erten Angebots an Aktivitäten stehen allen Generationen damit verschiede
 nste Freizeitaktivitäten offen.\n\nDie Gemeindeverwaltung Durmersheim l
 ädt alle Bürgerinnen und Bürger aus Durmersheim und Würmersheim zu 
 “Durmersheim Verein(t)” am 12. Oktober 2024 von 15 bis 17:30 Uhr in d
 ie Mensa Schulzentrum ein.\n\nDie Grünen in Durmersheim werden stellvert
 retend für den Grüne OV Südhardt teilnehmen. Kommen Sie vorbei und spr
 echen Sie mit uns darüber wie wir die Zukunft für Durmersheim und die R
 egion gestalten können!
CLASS:PUBLIC
DTSTART;TZID=Europe/Berlin:20241012T150000
DTEND;TZID=Europe/Berlin:20241012T173000
DTSTAMP:20260422T112342
END:VEVENT
END:VCALENDAR