BEGIN:VCALENDAR
VERSION:2.0
PRODID:gruene-suedhardt.de
METHOD:PUBLISH
BEGIN:VTIMEZONE
TZID:Europe/Berlin
X-LIC-LOCATION:Europe/Berlin
BEGIN:DAYLIGHT
TZOFFSETFROM:+0100
TZOFFSETTO:+0200
TZNAME:CEST
DTSTART:19700329T020000
RRULE:FREQ=YEARLY;INTERVAL=1;BYDAY=-1SU;BYMONTH=3
END:DAYLIGHT
BEGIN:STANDARD
TZOFFSETFROM:+0200
TZOFFSETTO:+0100
TZNAME:CET
DTSTART:19701025T030000
RRULE:FREQ=YEARLY;INTERVAL=1;BYDAY=-1SU;BYMONTH=10
END:STANDARD
END:VTIMEZONE
BEGIN:VEVENT
UID:bd83a7fbf737e2dc57ed9e72853fea48@gruene-suedhardt.de
URL;VALUE=URI:https://gruene-suedhardt.de/termine/earth-hour-2021/
LOCATION:weltweit
SUMMARY:Earth Hour 2021
DESCRIPTION;ALTREP="data:text/html,%3Csection%20id%3D%22c27368%22%20class
 %3D%22section%20x-content-type-mask_text_intro%22%3E%0D%0A%3Cdiv%20class%
 3D%22container%20container--small%22%3E%0D%0A%3Cp%20class%3D%22intro-text
 %22%3EDie%20Earth%20Hour%202021%20findet%20am%2027.%20M%C3%A4rz%20statt.%
 20Um%2020.30%20Uhr%20Ortszeit%20gilt%20dann%20bei%20Millionen%20Menschen%
 20auf%20der%20ganzen%20Welt%2C%20tausenden%20St%C3%A4dten%20und%20Unterne
 hmen%20f%C3%BCr%20eine%20Stunde%3A%20Licht%20aus.%20Klimaschutz%20an.%20G
 emeinsam%20setzen%20wir%20so%20ein%20globales%20Zeichen%20f%C3%BCr%20den%
 20Klimaschutz%20und%20einen%20lebendigen%20Planeten.%3C%2Fp%3E%0D%0A%0D%0
 A%3C%2Fdiv%3E%0D%0A%3C%2Fsection%3E%3Csection%20id%3D%22c10164%22%20class
 %3D%22section%20x-content-type-mask_text%22%3E%0D%0A%3Cdiv%20class%3D%22c
 ontainer%20container--small%22%3E%0D%0A%3Ch3%20class%3D%22headline%22%3ES
 eien%20Sie%20bei%20der%20Earth%20Hour%20dabei%21%3C%2Fh3%3E%0D%0A%3C%2Fdi
 v%3E%0D%0A%3Cdiv%20class%3D%22container%20container--small%22%3E%0D%0A%3C
 div%20class%3D%22text%22%3E%0D%0A%0D%0ADie%20Earth%20Hour%20des%20WWF%20i
 st%20die%20gr%C3%B6%C3%9Fte%20weltweite%20Klima-%20und%20Umweltschutzakti
 on.%C2%A0Und%20obwohl%20die%20weltweite%20Situation%20in%20diesem%20Jahr%
 20aufgrund%20von%20COVID-19%20keine%20leichte%20ist%2C%20so%20haben%20wir
 %20mit%20der%20Earth%20Hour%202021%20dennoch%20die%20Chance%2C%20online%2
 0und%20von%20zu%20Hause%20aus%20Einfluss%20zu%20nehmen.%20%3Cstrong%3EEga
 l%20wo%20Sie%20sich%20auf%20der%20Welt%20befinden%2C%20Sie%20k%C3%B6nnen%
 20sich%20mit%20der%20Earth%20Hour%202021%20f%C3%BCr%20mehr%20Anstrengunge
 n%20beim%20Klimaschutz%20aussprechen%21%3C%2Fstrong%3E%0D%0A%0D%0A%3C%2Fd
 iv%3E%0D%0A%3C%2Fdiv%3E%0D%0A%3C%2Fsection%3E%3Csection%20id%3D%22c29288%
 22%20class%3D%22section%20x-content-type-mask_text%22%3E%0D%0A%3Cdiv%20cl
 ass%3D%22container%20container--small%22%3E%0D%0A%3Ch3%20class%3D%22headl
 ine%22%3EUnd%20so%20geht%27s%3A%3C%2Fh3%3E%0D%0A%3C%2Fdiv%3E%0D%0A%3Cdiv%
 20class%3D%22container%20container--small%22%3E%0D%0A%3Cdiv%20class%3D%22
 text%22%3E%0D%0A%3Col%3E%0D%0A%20%09%3Cli%3ESchalten%20Sie%20am%20Tag%20d
 er%20Earth%20Hour%20am%2027.%20M%C3%A4rz%202021%20um%2020.30%20Uhr%20f%C3
 %BCr%20eine%20Stunde%20bei%20sich%20Zuhause%20das%20Licht%20aus.%20Der%20
 WWF%20hat%20viele%20%3Cstrong%3E%3Ca%20href%3D%22https%3A%2F%2Fwww.wwf.de
 %2Fearth-hour%2Ftipps%22%3ETipps%20f%C3%BCr%20Sie%3C%2Fa%3E%3C%2Fstrong%3
 E%2C%20wie%20Sie%20Ihre%20ganz%20pers%C3%B6nliche%C2%A0Earth%20Hour%20ges
 talten%20k%C3%B6nnen%2C%20auch%20in%20Zeiten%20von%20Corona.%3C%2Fli%3E%0
 D%0A%20%09%3Cli%3EMachen%20Sie%20ein%20Foto%20oder%20Video%20von%20sich%2
 0beim%C2%A0Lichtausschalten%20und%20posten%20Sie%20es%20in%20den%20sozial
 en%20Netzwerken.%20Teilen%20Sie%20der%20Welt%20mit%2C%20warum%20Sie%20bei
 %20der%20Earth%20Hour%20mitmachen.%C2%A0F%C3%BCr%20einen%20lebendigen%20P
 laneten%3F%20Oder%20die%20Energiewende%3F%20F%C3%BCr%20mehr%20Klimagerech
 tigkeit%3F%20F%C3%BCr%20eine%20Zukunft%20ohne%20Klimakrise%3F%20Nutzen%20
 Sie%20die%20Hashtags%20%3Cstrong%3E%23LICHTAUS%3C%2Fstrong%3E%20und%20%3C
 strong%3E%23EARTHHOUR%3C%2Fstrong%3E.%3C%2Fli%3E%0D%0A%3C%2Fol%3E%0D%0AMe
 hr%20zur%20Aktion%20finden%20sie%20unter%20%3Ca%20href%3D%22https%3A%2F%2
 Fwww.wwf.de%2Fearth-hour%2F%22%3Ehttps%3A%2F%2Fwww.wwf.de%2Fearth-hour%2F
 %3C%2Fa%3E%0D%0A%0D%0A%26nbsp%3B%0D%0A%0D%0A%3C%2Fdiv%3E%0D%0A%3C%2Fdiv%3
 E%0D%0A%3C%2Fsection%3E":Die Earth Hour 2021 findet am 27. März statt. U
 m 20.30 Uhr Ortszeit gilt dann bei Millionen Menschen auf der ganzen Welt
 \, tausenden Städten und Unternehmen für eine Stunde: Licht aus. Klimas
 chutz an. Gemeinsam setzen wir so ein globales Zeichen für den Klimaschu
 tz und einen lebendigen Planeten.\n\nSeien Sie bei der Earth Hour dabei!\
 n\nDie Earth Hour des WWF ist die größte weltweite Klima- und Umweltsch
 utzaktion. Und obwohl die weltweite Situation in diesem Jahr aufgrund vo
 n COVID-19 keine leichte ist\, so haben wir mit der Earth Hour 2021 denno
 ch die Chance\, online und von zu Hause aus Einfluss zu nehmen. Egal wo S
 ie sich auf der Welt befinden\, Sie können sich mit der Earth Hour 2021 
 für mehr Anstrengungen beim Klimaschutz aussprechen!\n\nUnd so geht's:\n
 \n 	Schalten Sie am Tag der Earth Hour am 27. März 2021 um 20.30 Uhr fü
 r eine Stunde bei sich Zuhause das Licht aus. Der WWF hat viele Tipps fü
 r Sie\, wie Sie Ihre ganz persönliche Earth Hour gestalten können\, au
 ch in Zeiten von Corona.\n\n 	Machen Sie ein Foto oder Video von sich bei
 m Lichtausschalten und posten Sie es in den sozialen Netzwerken. Teilen 
 Sie der Welt mit\, warum Sie bei der Earth Hour mitmachen. Für einen le
 bendigen Planeten? Oder die Energiewende? Für mehr Klimagerechtigkeit? F
 ür eine Zukunft ohne Klimakrise? Nutzen Sie die Hashtags #LICHTAUS und #
 EARTHHOUR.\n\nMehr zur Aktion finden sie unter https://www.wwf.de/earth-h
 our/\n\n 
CLASS:PUBLIC
DTSTART;TZID=Europe/Berlin:20210327T203000
DTEND;TZID=Europe/Berlin:20210327T213000
DTSTAMP:20260424T093957
END:VEVENT
END:VCALENDAR