BEGIN:VCALENDAR
VERSION:2.0
PRODID:gruene-suedhardt.de
METHOD:PUBLISH
BEGIN:VTIMEZONE
TZID:Europe/Berlin
X-LIC-LOCATION:Europe/Berlin
BEGIN:DAYLIGHT
TZOFFSETFROM:+0100
TZOFFSETTO:+0200
TZNAME:CEST
DTSTART:19700329T020000
RRULE:FREQ=YEARLY;INTERVAL=1;BYDAY=-1SU;BYMONTH=3
END:DAYLIGHT
BEGIN:STANDARD
TZOFFSETFROM:+0200
TZOFFSETTO:+0100
TZNAME:CET
DTSTART:19701025T030000
RRULE:FREQ=YEARLY;INTERVAL=1;BYDAY=-1SU;BYMONTH=10
END:STANDARD
END:VTIMEZONE
BEGIN:VEVENT
UID:cf1e5e157e61a80e94e60e733086070a@gruene-suedhardt.de
URL;VALUE=URI:https://gruene-suedhardt.de/termine/ein-mann-ist-keine-alte
 rsvorsorge-mit-helma-sick/
LOCATION:Rossi-Haus, Herrenstraße 13, Rastatt
SUMMARY:Ein Mann ist keine Altersvorsorge mit Helma Sick
DESCRIPTION;ALTREP="data:text/html,%3Cspan%20class%3D%22d2edcug0%20hpfvmr
 gz%20qv66sw1b%20c1et5uql%20lr9zc1uh%20a8c37x1j%20keod5gw0%20nxhoafnm%20ai
 gsh9s9%20d3f4x2em%20fe6kdd0r%20mau55g9w%20c8b282yb%20iv3no6db%20jq4qci2q%
 20a3bd9o3v%20b1v8xokw%20oo9gr5id%22%20dir%3D%22auto%22%3EDas%20GR%C3%9CNE
 %20FRAUENNETZ%20RASTATT%20BADEN-BADEN%20l%C3%A4dt%20Frauen%20und%20M%C3%A
 4nner%20herzlich%20ein%20zu%20der%20Veranstaltung%0D%0AEin%20Mann%20ist%2
 0keine%20Altersvorsorge%20mit%20Helma%20Sick%20am%2018.11.2021%20%2C%20um
 %2018.45%20Uhr%2C%20im%20Rossi-Haus%20in%20Rastatt%20%28Herrenstra%C3%9Fe
 %2013%29.%0D%0AHelma%20Sick%20engagiert%20sich%20seit%20%C3%BCber%2030%20
 Jahren%20f%C3%BCr%20die%20finanzielle%20Unabh%C3%A4ngigkeit%20von%20Fraue
 n.%20Sie%20ist%20eine%20bundesweit%20bekannte%20Finanzexpertin%2C%20eine%
 20erfolgreiche%20Autorin%20und%20eine%20brillante%20Rednerin.%0D%0ANeben%
 20vielen%20Publikationen%20und%20Vortr%C3%A4gen%20ist%20sie%20auch%20als%
 20Kolumnistin%20t%C3%A4tig.%0D%0AIm%20Buchhandel%20sind%20u.a.%20folgende
 %20B%C3%BCcher%20von%20Helma%20Sick%20zu%20finden%3A%0D%0A%E2%80%9EFrau%2
 0und%20Geld%E2%80%9C%2C%20%E2%80%9EEin%20Mann%20ist%20keine%20Altersvorso
 rge%E2%80%9C%2C%20%E2%80%9EAufgeben%20kam%20nie%20in%20Frage%E2%80%9C%0D%
 0AHelma%20Sick%20ist%20per%20Internet%20zugeschaltet.%20Im%20Anschluss%20
 an%20den%20Vortrag%20gibt%20es%20Gelegenheit%2C%20mit%20ihr%20ins%20Gespr
 %C3%A4ch%20zu%20kommen%20und%20miteinander%20zu%20diskutieren.%0D%0AWir%2
 0bitten%20um%20Anmeldung%20bis%20zum%2016.11.2021%20unter%20%3Ca%20href%3
 D%22mailto%3Afrauennetz%40gruene-ra-bad.de%22%3Efrauennetz%40gruene-ra-ba
 d.de%3C%2Fa%3E.%0D%0AAn%20der%20Veranstaltung%20kann%20sowohl%20in%20Pr%C
 3%A4senz%20als%20auch%20per%20Zoom-Videokonferenz%20teilgenommen%20werden
 .%20Wir%20bitten%20darum%2C%20bei%20der%20Anmeldung%20mitzuteilen%2C%20ob
 %20eine%20Teilnahme%20vor%20Ort%20oder%20via%20Zoom%20erfolgen%20wird.%20
 Wenn%20wir%20die%20Emailadresse%20f%C3%BCr%20die%20Einladung%20zu%20komme
 nden%20Veranstaltungen%20speichern%20und%20verwenden%20d%C3%BCrfen%2C%20b
 itten%20wir%20um%20eine%20entsprechende%20Erkl%C3%A4rung%20auf%20der%20An
 meldung.%0D%0ADas%20GR%C3%9CNE%20FRAUENNETZ%20RASTATT%20BADEN-BADEN%20kon
 nte%20f%C3%BCr%20diese%20Veranstaltung%20auch%20die%20Buchhandlung%20Wort
 werke%20in%20Rastatt%20von%20Frau%20Claudia%20Neud%C3%B6rfer%20gewinnen.%
 0D%0ADie%20Teilnahme%20ist%20entsprechend%20der%20zu%20diesem%20Zeitpunkt
 %20g%C3%BCltigen%20Coronaregel%20nach%203G%20oder%202G%20Regel%20m%C3%B6g
 lich.%0D%0A%3C%2Fspan%3E":Das GRÜNE FRAUENNETZ RASTATT BADEN-BADEN lädt
  Frauen und Männer herzlich ein zu der Veranstaltung\n\nEin Mann ist kei
 ne Altersvorsorge mit Helma Sick am 18.11.2021 \, um 18.45 Uhr\, im Rossi
 -Haus in Rastatt (Herrenstraße 13).\n\nHelma Sick engagiert sich seit ü
 ber 30 Jahren für die finanzielle Unabhängigkeit von Frauen. Sie ist ei
 ne bundesweit bekannte Finanzexpertin\, eine erfolgreiche Autorin und ein
 e brillante Rednerin.\n\nNeben vielen Publikationen und Vorträgen ist si
 e auch als Kolumnistin tätig.\n\nIm Buchhandel sind u.a. folgende Büche
 r von Helma Sick zu finden:\n\n„Frau und Geld“\, „Ein Mann ist kein
 e Altersvorsorge“\, „Aufgeben kam nie in Frage“\n\nHelma Sick ist p
 er Internet zugeschaltet. Im Anschluss an den Vortrag gibt es Gelegenheit
 \, mit ihr ins Gespräch zu kommen und miteinander zu diskutieren.\n\nWir
  bitten um Anmeldung bis zum 16.11.2021 unter frauennetz@gruene-ra-bad.de
 .\n\nAn der Veranstaltung kann sowohl in Präsenz als auch per Zoom-Video
 konferenz teilgenommen werden. Wir bitten darum\, bei der Anmeldung mitzu
 teilen\, ob eine Teilnahme vor Ort oder via Zoom erfolgen wird. Wenn wir 
 die Emailadresse für die Einladung zu kommenden Veranstaltungen speicher
 n und verwenden dürfen\, bitten wir um eine entsprechende Erklärung auf
  der Anmeldung.\n\nDas GRÜNE FRAUENNETZ RASTATT BADEN-BADEN konnte für 
 diese Veranstaltung auch die Buchhandlung Wortwerke in Rastatt von Frau C
 laudia Neudörfer gewinnen.\n\nDie Teilnahme ist entsprechend der zu dies
 em Zeitpunkt gültigen Coronaregel nach 3G oder 2G Regel möglich.
CLASS:PUBLIC
DTSTART;TZID=Europe/Berlin:20211118T184500
DTEND;TZID=Europe/Berlin:20211118T194500
DTSTAMP:20260422T112400
END:VEVENT
END:VCALENDAR