BEGIN:VCALENDAR
VERSION:2.0
PRODID:gruene-suedhardt.de
METHOD:PUBLISH
BEGIN:VTIMEZONE
TZID:Europe/Berlin
X-LIC-LOCATION:Europe/Berlin
BEGIN:DAYLIGHT
TZOFFSETFROM:+0100
TZOFFSETTO:+0200
TZNAME:CEST
DTSTART:19700329T020000
RRULE:FREQ=YEARLY;INTERVAL=1;BYDAY=-1SU;BYMONTH=3
END:DAYLIGHT
BEGIN:STANDARD
TZOFFSETFROM:+0200
TZOFFSETTO:+0100
TZNAME:CET
DTSTART:19701025T030000
RRULE:FREQ=YEARLY;INTERVAL=1;BYDAY=-1SU;BYMONTH=10
END:STANDARD
END:VTIMEZONE
BEGIN:VEVENT
UID:a4421d99580c56a91ceb29c79a7265ef@gruene-suedhardt.de
URL;VALUE=URI:https://gruene-suedhardt.de/termine/fahrraddemo-zum-radschn
 ellweg/
LOCATION:Fliederplatz, Karlsruhe
SUMMARY:Fahrraddemo zum Radschnellweg
DESCRIPTION;ALTREP="data:text/html,Wie%20schon%20vielfach%20berichtet%2C%
 20findet%20am%20Samstag%20dieser%20Woche%20eine%20vom%20ADFC%20organisier
 te%20Fahrraddemo%20auf%20der%20B36%20zwischen%20Karlsruhe%20und%20Rastatt
 %20statt.%20Wir%20wollen%20gemeinsam%20f%C3%BCr%20einen%20%22echten%22%20
 Radschnellweg%20zwischen%20den%20beiden%20St%C3%A4dten%20k%C3%A4mpfen%20u
 nd%20selbstverst%C3%A4ndlich%20werden%20auch%20wir%20Gr%C3%BCne%20im%20Or
 tsverband%20S%C3%BCdhardt%20bei%20der%20Demo%20mit%20dabei%20sein.%0D%0AW
 ie%20schon%20von%20der%20Gemeindeverwaltung%20angeregt%2C%20sind%20alle%2
 0%C3%96tigheimer%2C%20die%20sich%20f%C3%BCr%20einen%20Radschnellweg%20ein
 setzen%20wollen%2C%20der%20diesen%20Namen%20auch%20verdient%2C%20herzlich
 %20eingeladen%2C%20mitzufahren.%0D%0AGestartet%20wird%20um%2014%20Uhr%20a
 uf%20dem%20Fliederplatz%20in%20Karlsruhe-M%C3%BChlburg%2C%20gegen%2015%3A
 30%20Uhr%20ist%20dann%20auf%20dem%20Bickesheimer%20Platz%20in%20Durmershe
 im%20eine%20Zwischenkundgebung%20geplant%2C%20ehe%20es%20dann%20weiter%20
 nach%20Rastatt%20geht.%20Gemeinsamer%20Treffpunkt%20f%C3%BCr%20die%20Fahr
 t%20mit%20dem%20Rad%20nach%20Karlsruhe%20ist%20um%2012%3A30%20Uhr%20auf%2
 0dem%20Bickesheimer%20Platz%20in%20Durmersheim.%20Wer%20nicht%20die%20gan
 ze%20Strecke%20nach%20Karlsruhe%20und%20zur%C3%BCck%20mitfahren%20will%2C
 %20kann%20sich%20dem%20Tross%20auch%20bei%2C%20Zwischenstopp%20in%20Durme
 rsheim%20anschlie%C3%9Fen.%20In%20diesem%20Zusammenhang%20wird%20auch%20a
 uf%20die%20Infos%20der%20Gemeinde%20verwiesen%2C%20m%C3%B6glicherweise%20
 ist%20eine%20gemeinsame%20Fahrt%20nach%20Durmersheim%20geplant.":Wie scho
 n vielfach berichtet\, findet am Samstag dieser Woche eine vom ADFC organ
 isierte Fahrraddemo auf der B36 zwischen Karlsruhe und Rastatt statt. Wir
  wollen gemeinsam für einen "echten" Radschnellweg zwischen den beiden S
 tädten kämpfen und selbstverständlich werden auch wir Grüne im Ortsve
 rband Südhardt bei der Demo mit dabei sein.\n\nWie schon von der Gemeind
 everwaltung angeregt\, sind alle Ötigheimer\, die sich für einen Radsch
 nellweg einsetzen wollen\, der diesen Namen auch verdient\, herzlich eing
 eladen\, mitzufahren.\n\nGestartet wird um 14 Uhr auf dem Fliederplatz in
  Karlsruhe-Mühlburg\, gegen 15:30 Uhr ist dann auf dem Bickesheimer Plat
 z in Durmersheim eine Zwischenkundgebung geplant\, ehe es dann weiter nac
 h Rastatt geht. Gemeinsamer Treffpunkt für die Fahrt mit dem Rad nach Ka
 rlsruhe ist um 12:30 Uhr auf dem Bickesheimer Platz in Durmersheim. Wer n
 icht die ganze Strecke nach Karlsruhe und zurück mitfahren will\, kann s
 ich dem Tross auch bei\, Zwischenstopp in Durmersheim anschließen. In di
 esem Zusammenhang wird auch auf die Infos der Gemeinde verwiesen\, mögli
 cherweise ist eine gemeinsame Fahrt nach Durmersheim geplant.
CLASS:PUBLIC
DTSTART;TZID=Europe/Berlin:20230624T140000
DTEND;TZID=Europe/Berlin:20230624T150000
DTSTAMP:20260424T094912
END:VEVENT
END:VCALENDAR