BEGIN:VCALENDAR
VERSION:2.0
PRODID:gruene-suedhardt.de
METHOD:PUBLISH
BEGIN:VTIMEZONE
TZID:Europe/Berlin
X-LIC-LOCATION:Europe/Berlin
BEGIN:DAYLIGHT
TZOFFSETFROM:+0100
TZOFFSETTO:+0200
TZNAME:CEST
DTSTART:19700329T020000
RRULE:FREQ=YEARLY;INTERVAL=1;BYDAY=-1SU;BYMONTH=3
END:DAYLIGHT
BEGIN:STANDARD
TZOFFSETFROM:+0200
TZOFFSETTO:+0100
TZNAME:CET
DTSTART:19701025T030000
RRULE:FREQ=YEARLY;INTERVAL=1;BYDAY=-1SU;BYMONTH=10
END:STANDARD
END:VTIMEZONE
BEGIN:VEVENT
UID:6fe6adf53e5a322bae5b71f8670d2d45@gruene-suedhardt.de
URL;VALUE=URI:https://gruene-suedhardt.de/termine/fest-der-grenzueberschr
 eitenden-buslinie-231/
LOCATION:
SUMMARY:Fest der grenzüberschreitenden Buslinie 231
DESCRIPTION;ALTREP="data:text/html,%3Cstrong%3EAm%20Sonntag%2C%2014.%20Ma
 i%2C%20wird%20in%20den%20Gemeinden%20rund%20um%20die%20Haltestellen%20des
 %20neuen%20grenz%C3%BCberschreitenden%20Busses%20gefeiert%21%3C%2Fstrong%
 3E%0D%0A%0D%0ADen%20ganzen%20Tag%20%C3%BCber%20erwartet%20dich%20in%20den
 %20sieben%20Gemeinden%20entlang%20der%20Route%20ein%20abwechslungsreiches
 %20Programm%20f%C3%BCr%20die%20ganze%20Familie%3A%20Verschiedene%20Spiele
 %20und%20Aktionen%2C%20zahlreiche%20Infost%C3%A4nde%2C%20musikalische%20U
 nterhaltung%20und%20nicht%20zuletzt%20badische%20und%20els%C3%A4ssische%2
 0Spezialit%C3%A4ten.%0D%0A%0D%0ALos%20geht%20es%20um%2011%20Uhr%20in%20So
 ufflenheim%2C%20wo%20das%20Fest%20ganz%20im%20Zeichen%20des%20Europamonat
 s%20Mai%20startet.%0D%0A%0D%0ADer%20grenz%C3%BCberschreitende%20Bus%20bri
 ngt%20dich%20dabei%20bequem%20und%20kostenlos%20von%20Station%20zu%20Stat
 ion.%0D%0A%0D%0AAlle%20Informationen%20zum%20Fest%20findet%20ihr%20unter%
 3A%20https%3A%2F%2Fwww.kvv.de%2Fservice%2Ffreizeit%2Fausflugsziele%2Felsa
 ss-bus.html%0D%0A%0D%0A%26nbsp%3B":Am Sonntag\, 14. Mai\, wird in den Gem
 einden rund um die Haltestellen des neuen grenzüberschreitenden Busses g
 efeiert!\n\nDen ganzen Tag über erwartet dich in den sieben Gemeinden en
 tlang der Route ein abwechslungsreiches Programm für die ganze Familie: 
 Verschiedene Spiele und Aktionen\, zahlreiche Infostände\, musikalische 
 Unterhaltung und nicht zuletzt badische und elsässische Spezialitäten.\
 n\nLos geht es um 11 Uhr in Soufflenheim\, wo das Fest ganz im Zeichen de
 s Europamonats Mai startet.\n\nDer grenzüberschreitende Bus bringt dich 
 dabei bequem und kostenlos von Station zu Station.\n\nAlle Informationen 
 zum Fest findet ihr unter: https://www.kvv.de/service/freizeit/ausflugszi
 ele/elsass-bus.html\n\n 
CLASS:PUBLIC
DTSTART;TZID=Europe/Berlin:20230514T110000
DTEND;TZID=Europe/Berlin:20230514T120000
DTSTAMP:20260422T112359
END:VEVENT
END:VCALENDAR