BEGIN:VCALENDAR
VERSION:2.0
PRODID:gruene-suedhardt.de
METHOD:PUBLISH
BEGIN:VTIMEZONE
TZID:Europe/Berlin
X-LIC-LOCATION:Europe/Berlin
BEGIN:DAYLIGHT
TZOFFSETFROM:+0100
TZOFFSETTO:+0200
TZNAME:CEST
DTSTART:19700329T020000
RRULE:FREQ=YEARLY;INTERVAL=1;BYDAY=-1SU;BYMONTH=3
END:DAYLIGHT
BEGIN:STANDARD
TZOFFSETFROM:+0200
TZOFFSETTO:+0100
TZNAME:CET
DTSTART:19701025T030000
RRULE:FREQ=YEARLY;INTERVAL=1;BYDAY=-1SU;BYMONTH=10
END:STANDARD
END:VTIMEZONE
BEGIN:VEVENT
UID:4e4e47525e0f2b779985decce7c433a1@gruene-suedhardt.de
URL;VALUE=URI:https://gruene-suedhardt.de/termine/gruene-gespraeche-bei-g
 ruener-sosse/
LOCATION:Bouleplatz beim Tiergehege, Muggensturm
SUMMARY:Grüne Gespräche bei Grüner Soße
DESCRIPTION;ALTREP="data:text/html,%3Cdiv%20class%3D%22relative%20flex%20
 w-%5Bcalc%28100%25-50px%29%5D%20flex-col%20gap-1%20md%3Agap-3%20lg%3Aw-%5
 Bcalc%28100%25-115px%29%5D%22%3E%0D%0A%3Cdiv%20class%3D%22flex%20flex-gro
 w%20flex-col%20gap-3%22%3E%0D%0A%3Cdiv%20class%3D%22min-h-%5B20px%5D%20fl
 ex%20flex-col%20items-start%20gap-4%20whitespace-pre-wrap%22%3E%0D%0A%3Cd
 iv%20class%3D%22markdown%20prose%20w-full%20break-words%20dark%3Aprose-in
 vert%20light%22%3E%0D%0A%0D%0ALiebe%20B%C3%BCrgerinnen%20und%20B%C3%BCrge
 r%20von%20Muggensturm%2C%0D%0A%0D%0Adie%20Gr%C3%BCnen%20in%20Muggensturm%
 20laden%20Sie%20herzlich%20zu%20%22Gr%C3%BCnen%20Gespr%C3%A4chen%20bei%20
 Gr%C3%BCner%20So%C3%9Fe%22%20ein.%20Wir%20m%C3%B6chten%20mit%20Ihnen%20in
 %20entspannter%20Atmosph%C3%A4re%20%C3%BCber%20politische%20Themen%20disk
 utieren.%20Dabei%20servieren%20wir%20Ihnen%20leckere%20Gr%C3%BCne%20So%C3
 %9Fe%20mit%20Kartoffeln.%0D%0A%0D%0ADie%20Veranstaltung%20findet%20am%205
 .%20April%20um%2017%20Uhr%20statt%20und%20wird%20am%20Bouleplatz%20beim%2
 0Tiergehege%20in%20Muggensturm%20stattfinden.%20Wir%20freuen%20uns%20auf%
 20Ihre%20Teilnahme%20und%20einen%20interessanten%20Austausch.%0D%0A%0D%0A
 Ihre%20Gr%C3%BCnen%20in%20Muggensturm%0D%0A%0D%0A%3C%2Fdiv%3E%0D%0A%3C%2F
 div%3E%0D%0A%3C%2Fdiv%3E%0D%0A%3Cdiv%20class%3D%22flex%20justify-between%
 22%3E%0D%0A%3Cdiv%20class%3D%22text-gray-400%20flex%20self-end%20lg%3Asel
 f-center%20justify-center%20mt-2%20gap-3%20md%3Agap-4%20lg%3Agap-1%20lg%3
 Aabsolute%20lg%3Atop-0%20lg%3Atranslate-x-full%20lg%3Aright-0%20lg%3Amt-0
 %20lg%3Apl-2%20visible%22%3E%3C%2Fdiv%3E%0D%0A%3C%2Fdiv%3E%0D%0A%3C%2Fdiv
 %3E":Liebe Bürgerinnen und Bürger von Muggensturm\,\n\ndie Grünen in M
 uggensturm laden Sie herzlich zu "Grünen Gesprächen bei Grüner Soße" 
 ein. Wir möchten mit Ihnen in entspannter Atmosphäre über politische T
 hemen diskutieren. Dabei servieren wir Ihnen leckere Grüne Soße mit Kar
 toffeln.\n\nDie Veranstaltung findet am 5. April um 17 Uhr statt und wird
  am Bouleplatz beim Tiergehege in Muggensturm stattfinden. Wir freuen uns
  auf Ihre Teilnahme und einen interessanten Austausch.\n\nIhre Grünen in
  Muggensturm
CLASS:PUBLIC
DTSTART;TZID=Europe/Berlin:20230405T170000
DTEND;TZID=Europe/Berlin:20230405T180000
DTSTAMP:20260422T125417
END:VEVENT
END:VCALENDAR