BEGIN:VCALENDAR
VERSION:2.0
PRODID:gruene-suedhardt.de
METHOD:PUBLISH
BEGIN:VTIMEZONE
TZID:Europe/Berlin
X-LIC-LOCATION:Europe/Berlin
BEGIN:DAYLIGHT
TZOFFSETFROM:+0100
TZOFFSETTO:+0200
TZNAME:CEST
DTSTART:19700329T020000
RRULE:FREQ=YEARLY;INTERVAL=1;BYDAY=-1SU;BYMONTH=3
END:DAYLIGHT
BEGIN:STANDARD
TZOFFSETFROM:+0200
TZOFFSETTO:+0100
TZNAME:CET
DTSTART:19701025T030000
RRULE:FREQ=YEARLY;INTERVAL=1;BYDAY=-1SU;BYMONTH=10
END:STANDARD
END:VTIMEZONE
BEGIN:VEVENT
UID:9bc2f2ccd7e569438d1e2a528f44230c@gruene-suedhardt.de
URL;VALUE=URI:https://gruene-suedhardt.de/termine/gruener-stammtisch/
LOCATION:Bürgerstube Saba, Schulstraße 10, 76467 Bietigheim
SUMMARY:Grüner Stammtisch
DESCRIPTION;ALTREP="data:text/html,In%20diesen%20Zeiten%20ist%20es%20wich
 tig%20sich%20regelm%C3%A4%C3%9Fig%20auszutauschen%20deswegen%20findet%20a
 m%2009.03.%20um%2019%3A00Uhr%20wieder%20unser%20Gr%C3%BCner%20Stammtisch%
 20in%20der%20%3Ca%20href%3D%22https%3A%2F%2Fburgerstube-saba.com%2F%22%20
 target%3D%22_blank%22%20rel%3D%22noopener%22%3EB%C3%BCrgerstube%3C%2Fa%3E
 %20in%20Bietigheim%20statt.":In diesen Zeiten ist es wichtig sich regelm
 äßig auszutauschen deswegen findet am 09.03. um 19:00Uhr wieder unser G
 rüner Stammtisch in der Bürgerstube in Bietigheim statt.
CLASS:PUBLIC
DTSTART;TZID=Europe/Berlin:20220309T190000
DTEND;TZID=Europe/Berlin:20220309T200000
DTSTAMP:20260422T112342
END:VEVENT
END:VCALENDAR