BEGIN:VCALENDAR
VERSION:2.0
PRODID:gruene-suedhardt.de
METHOD:PUBLISH
BEGIN:VTIMEZONE
TZID:Europe/Berlin
X-LIC-LOCATION:Europe/Berlin
BEGIN:DAYLIGHT
TZOFFSETFROM:+0100
TZOFFSETTO:+0200
TZNAME:CEST
DTSTART:19700329T020000
RRULE:FREQ=YEARLY;INTERVAL=1;BYDAY=-1SU;BYMONTH=3
END:DAYLIGHT
BEGIN:STANDARD
TZOFFSETFROM:+0200
TZOFFSETTO:+0100
TZNAME:CET
DTSTART:19701025T030000
RRULE:FREQ=YEARLY;INTERVAL=1;BYDAY=-1SU;BYMONTH=10
END:STANDARD
END:VTIMEZONE
BEGIN:VEVENT
UID:e8fb91511e96a04d20978bedb198f5e8@gruene-suedhardt.de
URL;VALUE=URI:https://gruene-suedhardt.de/termine/hand-in-hand-demokratie
 foerderung-klimaschutz/
LOCATION:Innenstadt, Baden-Baden
SUMMARY:HAND IN HAND „Demokratieförderung & Klimaschutz“
DESCRIPTION;ALTREP="data:text/html,%3Cimg%20class%3D%22alignnone%20size-m
 edium%20wp-image-1188%22%20src%3D%22https%3A%2F%2Fb90grneovsdhardt.live-w
 ebsite.com%2Fwp-content%2Fuploads%2F2024%2F12%2FDemo-Flyer-hochkant-400x5
 66.png%22%20alt%3D%22%22%20width%3D%22400%22%20height%3D%22566%22%20%2F%3
 E":
CLASS:PUBLIC
DTSTART;TZID=Europe/Berlin:20241228T143000
DTEND;TZID=Europe/Berlin:20241228T153000
DTSTAMP:20260424T134508
END:VEVENT
END:VCALENDAR