BEGIN:VCALENDAR
VERSION:2.0
PRODID:gruene-suedhardt.de
METHOD:PUBLISH
BEGIN:VTIMEZONE
TZID:Europe/Berlin
X-LIC-LOCATION:Europe/Berlin
BEGIN:DAYLIGHT
TZOFFSETFROM:+0100
TZOFFSETTO:+0200
TZNAME:CEST
DTSTART:19700329T020000
RRULE:FREQ=YEARLY;INTERVAL=1;BYDAY=-1SU;BYMONTH=3
END:DAYLIGHT
BEGIN:STANDARD
TZOFFSETFROM:+0200
TZOFFSETTO:+0100
TZNAME:CET
DTSTART:19701025T030000
RRULE:FREQ=YEARLY;INTERVAL=1;BYDAY=-1SU;BYMONTH=10
END:STANDARD
END:VTIMEZONE
BEGIN:VEVENT
UID:3ebbb83f6261a5cb81b167a352e77ca6@gruene-suedhardt.de
URL;VALUE=URI:https://gruene-suedhardt.de/termine/in-durmersheim-vor-ort-
 2025-01-18/
LOCATION:EDEKA Huck, Karlsruher Straße 27b, 76448 Durmersheim
SUMMARY:In Durmersheim vor Ort
DESCRIPTION;ALTREP="data:text/html,%0A%3Cp%3EEs%20geht%20los%21%20%F0%9F%
 8C%BB.%3C%2Fp%3E%0A%0A%0A%0A%3Cp%3EUnser%20Team%20ist%20am%20Samstag%2C%2
 018.01.25%20ab%20etwa%2010%20Uhr%20beim%20EDEKA%20in%20Durmersheim%20vor%
 20Ort.%20%3Cbr%3EKommen%20Sie%20vorbei%2C%20sprechen%20Sie%20uns%20an%2C%
 20wir%20tun%20es%20auf%20jeden%20Fall%20%F0%9F%92%9A%3C%2Fp%3E%0A%0A%0A%0
 A%3Cp%3E%3C%2Fp%3E%0A":Es geht los! 🌻.\n\nUnser Team ist am Samstag\, 
 18.01.25 ab etwa 10 Uhr beim EDEKA in Durmersheim vor Ort. Kommen Sie vor
 bei\, sprechen Sie uns an\, wir tun es auf jeden Fall 💚
CLASS:PUBLIC
DTSTART;TZID=Europe/Berlin:20250118T100000
DTEND;TZID=Europe/Berlin:20250118T110000
DTSTAMP:20260422T094746
END:VEVENT
END:VCALENDAR