BEGIN:VCALENDAR
VERSION:2.0
PRODID:gruene-suedhardt.de
METHOD:PUBLISH
BEGIN:VTIMEZONE
TZID:Europe/Berlin
X-LIC-LOCATION:Europe/Berlin
BEGIN:DAYLIGHT
TZOFFSETFROM:+0100
TZOFFSETTO:+0200
TZNAME:CEST
DTSTART:19700329T020000
RRULE:FREQ=YEARLY;INTERVAL=1;BYDAY=-1SU;BYMONTH=3
END:DAYLIGHT
BEGIN:STANDARD
TZOFFSETFROM:+0200
TZOFFSETTO:+0100
TZNAME:CET
DTSTART:19701025T030000
RRULE:FREQ=YEARLY;INTERVAL=1;BYDAY=-1SU;BYMONTH=10
END:STANDARD
END:VTIMEZONE
BEGIN:VEVENT
UID:6dea8d40460bc1559ecb1dd20bc3ecbb@gruene-suedhardt.de
URL;VALUE=URI:https://gruene-suedhardt.de/termine/infostand-in-oetigheim/
LOCATION:Vor der Bäckerei Schröder, Ötigheim
SUMMARY:Infostand in Ötigheim
DESCRIPTION;ALTREP="data:text/html,Wir%20laden%20euch%20herzlich%20zu%20u
 nserem%20Infostand%20der%20Offenen%20Liste%20zur%20Gemeinderatswahl%20ein
 %21%0D%0A%0D%0ATrefft%20unseren%20engagierten%20Kandidaten%20Winnie%20Hec
 k%20und%20nutzt%20die%20Gelegenheit%2C%20ihn%20pers%C3%B6nlich%20kennenzu
 lernen.%20Winnie%20freut%20sich%20darauf%2C%20mit%20euch%20%C3%BCber%20se
 ine%20Ideen%20und%20Visionen%20f%C3%BCr%20unsere%20Gemeinde%20zu%20sprech
 en.%0D%0A%0D%0AWarum%20vorbeikommen%3F%0D%0A%3Cul%3E%0D%0A%20%09%3Cli%3E%
 3Cstrong%3EDirekter%20Austausch%3A%3C%2Fstrong%3E%20Stellt%20eure%20Frage
 n%20und%20teilt%20eure%20Anliegen%20direkt%20mit%20Winnie%20Heck.%3C%2Fli
 %3E%0D%0A%20%09%3Cli%3E%3Cstrong%3EInformationen%20aus%20erster%20Hand%3A
 %3C%2Fstrong%3E%20Erfahrt%20mehr%20%C3%BCber%20die%20Ziele%20und%20Pl%C3%
 A4ne%20der%20Offenen%20Liste%20f%C3%BCr%20die%20Gemeinderatswahl.%3C%2Fli
 %3E%0D%0A%20%09%3Cli%3E%3Cstrong%3EMitgestaltung%3A%3C%2Fstrong%3E%20Trag
 t%20aktiv%20zur%20Zukunft%20unserer%20Gemeinde%20bei%20und%20informiert%2
 0euch%20%C3%BCber%20eure%20M%C3%B6glichkeiten%2C%20Einfluss%20zu%20nehmen
 .%3C%2Fli%3E%0D%0A%3C%2Ful%3E%0D%0AUnser%20Infostand%20bietet%20die%20per
 fekte%20Plattform%2C%20um%20sich%20%C3%BCber%20die%20bevorstehenden%20Wah
 len%20zu%20informieren%20und%20sich%20aktiv%20an%20der%20Gestaltung%20uns
 eres%20gemeinschaftlichen%20Lebens%20zu%20beteiligen.%0D%0A%0D%0AWir%20fr
 euen%20uns%20auf%20euren%20Besuch%20und%20auf%20viele%20interessante%20Ge
 spr%C3%A4che%21%0D%0A%0D%0A%3Cstrong%3EGemeinsam%20gestalten%20wir%20die%
 20Zukunft%20von%20%C3%96tigheim%21%3C%2Fstrong%3E":Wir laden euch herzlic
 h zu unserem Infostand der Offenen Liste zur Gemeinderatswahl ein!\n\nTre
 fft unseren engagierten Kandidaten Winnie Heck und nutzt die Gelegenheit\
 , ihn persönlich kennenzulernen. Winnie freut sich darauf\, mit euch üb
 er seine Ideen und Visionen für unsere Gemeinde zu sprechen.\n\nWarum vo
 rbeikommen?\n\n 	Direkter Austausch: Stellt eure Fragen und teilt eure An
 liegen direkt mit Winnie Heck.\n\n 	Informationen aus erster Hand: Erfahr
 t mehr über die Ziele und Pläne der Offenen Liste für die Gemeinderats
 wahl.\n\n 	Mitgestaltung: Tragt aktiv zur Zukunft unserer Gemeinde bei un
 d informiert euch über eure Möglichkeiten\, Einfluss zu nehmen.\n\nUnse
 r Infostand bietet die perfekte Plattform\, um sich über die bevorstehen
 den Wahlen zu informieren und sich aktiv an der Gestaltung unseres gemein
 schaftlichen Lebens zu beteiligen.\n\nWir freuen uns auf euren Besuch und
  auf viele interessante Gespräche!\n\nGemeinsam gestalten wir die Zukunf
 t von Ötigheim!
CLASS:PUBLIC
DTSTART;TZID=Europe/Berlin:20240601T073000
DTEND;TZID=Europe/Berlin:20240601T083000
DTSTAMP:20260422T094747
END:VEVENT
END:VCALENDAR