BEGIN:VCALENDAR
VERSION:2.0
PRODID:gruene-suedhardt.de
METHOD:PUBLISH
BEGIN:VTIMEZONE
TZID:Europe/Berlin
X-LIC-LOCATION:Europe/Berlin
BEGIN:DAYLIGHT
TZOFFSETFROM:+0100
TZOFFSETTO:+0200
TZNAME:CEST
DTSTART:19700329T020000
RRULE:FREQ=YEARLY;INTERVAL=1;BYDAY=-1SU;BYMONTH=3
END:DAYLIGHT
BEGIN:STANDARD
TZOFFSETFROM:+0200
TZOFFSETTO:+0100
TZNAME:CET
DTSTART:19701025T030000
RRULE:FREQ=YEARLY;INTERVAL=1;BYDAY=-1SU;BYMONTH=10
END:STANDARD
END:VTIMEZONE
BEGIN:VEVENT
UID:e6f6815eef01028e205d792b7ad87b2e@gruene-suedhardt.de
URL;VALUE=URI:https://gruene-suedhardt.de/termine/jahreshauptversammlung/
LOCATION:Bürgerstube Saba, Bietigheim
SUMMARY:Jahreshauptversammlung
DESCRIPTION;ALTREP="data:text/html,%3Ch3%3ETagesordnung%3C%2Fh3%3E%0D%0A%
 3Col%3E%0D%0A%20%09%3Cli%3EBegr%C3%BC%C3%9Fung%0D%0Aa.%20Feststellung%20d
 er%20ordnungsgem%C3%A4%C3%9Fen%20Einladung%20und%20Beschlussf%C3%A4higkei
 t%3C%2Fli%3E%0D%0A%20%09%3Cli%3EBericht%20aus%20dem%20Vorstand%3C%2Fli%3E
 %0D%0A%20%09%3Cli%3EBerichte%20zur%20Kommunalwahl%0D%0Aa.%20Muggensturm%0
 D%0Ab.%20Durmersheim%0D%0Ac.%20%C3%96tigheim%3C%2Fli%3E%0D%0A%20%09%3Cli%
 3EEntlastung%20des%20Vorstands%3C%2Fli%3E%0D%0A%20%09%3Cli%3ENeuwahl%20de
 s%20Vorstands%0D%0Aa.%20Wahl%20der%20Wahlleitung%0D%0Ab.%20Vorstellung%20
 der%20Kandidatinnen%20und%20Kandidaten%20zur%20Neu-%20oder%0D%0AWiederwah
 l%0D%0Ac.%20Festlegung%20des%20Abstimmungsverfahrens%0D%0Ad.%20Durchf%C3%
 BChrung%20der%20Wahl%0D%0Ai.%20Vorsitzende%0D%0Aii.%20Co-Vorsitzende%2Fr%
 0D%0Aiii.%20Kassier%2Fin%0D%0Aiv.%20Beisitzer%3C%2Fli%3E%0D%0A%20%09%3Cli
 %3EDie%20Vorsitzenden%20haben%20das%20Wort%3C%2Fli%3E%0D%0A%20%09%3Cli%3E
 Antr%C3%A4ge%20zur%20Mitgliederversammlung%3C%2Fli%3E%0D%0A%20%09%3Cli%3E
 Sonstiges%3C%2Fli%3E%0D%0A%20%09%3Cli%3ESchlie%C3%9Fen%20der%20Versammlun
 g%3C%2Fli%3E%0D%0A%3C%2Fol%3E":Tagesordnung\n\n 	Begrüßung\n\na. Festst
 ellung der ordnungsgemäßen Einladung und Beschlussfähigkeit\n\n 	Beric
 ht aus dem Vorstand\n\n 	Berichte zur Kommunalwahl\n\na. Muggensturm\n\nb
 . Durmersheim\n\nc. Ötigheim\n\n 	Entlastung des Vorstands\n\n 	Neuwahl 
 des Vorstands\n\na. Wahl der Wahlleitung\n\nb. Vorstellung der Kandidatin
 nen und Kandidaten zur Neu- oder\n\nWiederwahl\n\nc. Festlegung des Absti
 mmungsverfahrens\n\nd. Durchführung der Wahl\n\ni. Vorsitzende\n\nii. Co
 -Vorsitzende/r\n\niii. Kassier/in\n\niv. Beisitzer\n\n 	Die Vorsitzenden 
 haben das Wort\n\n 	Anträge zur Mitgliederversammlung\n\n 	Sonstiges\n\n
  	Schließen der Versammlung
CLASS:PUBLIC
DTSTART;TZID=Europe/Berlin:20240925T193000
DTEND;TZID=Europe/Berlin:20240925T203000
DTSTAMP:20260422T112217
END:VEVENT
END:VCALENDAR