BEGIN:VCALENDAR
VERSION:2.0
PRODID:gruene-suedhardt.de
METHOD:PUBLISH
BEGIN:VTIMEZONE
TZID:Europe/Berlin
X-LIC-LOCATION:Europe/Berlin
BEGIN:DAYLIGHT
TZOFFSETFROM:+0100
TZOFFSETTO:+0200
TZNAME:CEST
DTSTART:19700329T020000
RRULE:FREQ=YEARLY;INTERVAL=1;BYDAY=-1SU;BYMONTH=3
END:DAYLIGHT
BEGIN:STANDARD
TZOFFSETFROM:+0200
TZOFFSETTO:+0100
TZNAME:CET
DTSTART:19701025T030000
RRULE:FREQ=YEARLY;INTERVAL=1;BYDAY=-1SU;BYMONTH=10
END:STANDARD
END:VTIMEZONE
BEGIN:VEVENT
UID:d78c827b0c4f272fcf00773720842a22@gruene-suedhardt.de
URL;VALUE=URI:https://gruene-suedhardt.de/termine/klimaschutz-im-klinikum
 -mittelbaden/
LOCATION:Hotel Kohlers Engel, 77815 Bühl-Vimbuch
SUMMARY:Klimaschutz im Klinikum Mittelbaden
DESCRIPTION;ALTREP="data:text/html,%3Cdiv%20class%3D%22kvgmc6g5%20cxmmr5t
 8%20oygrvhab%20hcukyx3x%20c1et5uql%20ii04i59q%22%3E%0D%0A%3Cdiv%20dir%3D%
 22auto%22%3E%3Cspan%20class%3D%22pq6dq46d%20tbxw36s4%20knj5qynh%20kvgmc6g
 5%20ditlmg2l%20oygrvhab%20nvdbi5me%20sf5mxxl7%20gl3lb2sf%20hhz5lgdu%22%3E
 %3Cimg%20src%3D%22https%3A%2F%2Fwww.facebook.com%2Fimages%2Femoji.php%2Fv
 9%2Ft55%2F1.5%2F16%2F1f7e2.png%22%20alt%3D%22%F0%9F%9F%A2%22%20width%3D%2
 216%22%20height%3D%2216%22%20%2F%3E%3C%2Fspan%3EAm%2022.11.21%20um%2019%2
 0wird%20uns%20der%20Energiemanager%20des%20%22Klinikum%20Mittelbaden%22%2
 0Markus%20Enderle%20einen%20Einblick%20in%20seine%20Arbeit%20geben%20und%
 20erl%C3%A4utern%2C%20welche%20Ma%C3%9Fnahmen%20das%20Klinikum%20zum%20Sc
 hutz%20des%20Klimas%20ergreift.%20Erg%C3%A4nzt%20wird%20der%20Vortrag%20d
 urch%20Hans-Peter%20Behrens%20MdL%2C%20der%20den%20politischen%20Blickwin
 kel%20auf%20das%20Thema%20einbringt.%3C%2Fdiv%3E%0D%0A%3C%2Fdiv%3E%0D%0A%
 3Cdiv%20class%3D%22o9v6fnle%20cxmmr5t8%20oygrvhab%20hcukyx3x%20c1et5uql%2
 0ii04i59q%22%3E%0D%0A%3Cdiv%20dir%3D%22auto%22%3E%3Cspan%20class%3D%22pq6
 dq46d%20tbxw36s4%20knj5qynh%20kvgmc6g5%20ditlmg2l%20oygrvhab%20nvdbi5me%2
 0sf5mxxl7%20gl3lb2sf%20hhz5lgdu%22%3E%3Cimg%20src%3D%22https%3A%2F%2Fwww.
 facebook.com%2Fimages%2Femoji.php%2Fv9%2Ftd4%2F1.5%2F16%2F1f7e1.png%22%20
 alt%3D%22%F0%9F%9F%A1%22%20width%3D%2216%22%20height%3D%2216%22%20%2F%3E%
 3C%2Fspan%3E%20Daran%20teilnehmen%20k%C3%B6nnt%20ihr%20so%2C%20wie%20es%2
 0euch%20am%20besten%20passt%3A%20Entweder%20in%20Pr%C3%A4senz%20%28Hotel%
 20Kohlers%20Engel%20in%2077815%20B%C3%BChl-Vimbuch%29%20oder%20online%20v
 ia%20Zoom%20%28Link%20wird%20folgen%29.%3C%2Fdiv%3E%0D%0A%3C%2Fdiv%3E%0D%
 0A%3Cdiv%20class%3D%22o9v6fnle%20cxmmr5t8%20oygrvhab%20hcukyx3x%20c1et5uq
 l%20ii04i59q%22%3E%0D%0A%3Cdiv%20dir%3D%22auto%22%3E%3Cspan%20class%3D%22
 pq6dq46d%20tbxw36s4%20knj5qynh%20kvgmc6g5%20ditlmg2l%20oygrvhab%20nvdbi5m
 e%20sf5mxxl7%20gl3lb2sf%20hhz5lgdu%22%3E%3Cimg%20src%3D%22https%3A%2F%2Fw
 ww.facebook.com%2Fimages%2Femoji.php%2Fv9%2Ftc2%2F1.5%2F16%2F1f331.png%22
 %20alt%3D%22%F0%9F%8C%B1%22%20width%3D%2216%22%20height%3D%2216%22%20%2F%
 3E%3C%2Fspan%3EBitte%20gebt%20die%20Art%20eurer%20Teilnahme%20in%20der%20
 Anmeldung%20per%20Mail%20an%20patrick.graf%40gruene-ra-bad.de%20an.%3C%2F
 div%3E%0D%0A%3C%2Fdiv%3E%0D%0A%3Cdiv%20class%3D%22o9v6fnle%20cxmmr5t8%20o
 ygrvhab%20hcukyx3x%20c1et5uql%20ii04i59q%22%3E%0D%0A%3Cdiv%20dir%3D%22aut
 o%22%3EWir%20freuen%20uns%20auf%20eine%20spannende%20Veranstaltung%21%20%
 3Cspan%20class%3D%22pq6dq46d%20tbxw36s4%20knj5qynh%20kvgmc6g5%20ditlmg2l%
 20oygrvhab%20nvdbi5me%20sf5mxxl7%20gl3lb2sf%20hhz5lgdu%22%3E%3Cimg%20src%
 3D%22https%3A%2F%2Fwww.facebook.com%2Fimages%2Femoji.php%2Fv9%2Fta9%2F1.5
 %2F16%2F1f525.png%22%20alt%3D%22%F0%9F%94%A5%22%20width%3D%2216%22%20heig
 ht%3D%2216%22%20%2F%3E%3C%2Fspan%3E%3C%2Fdiv%3E%0D%0A%3C%2Fdiv%3E":Am 22.
 11.21 um 19 wird uns der Energiemanager des "Klinikum Mittelbaden" Markus
  Enderle einen Einblick in seine Arbeit geben und erläutern\, welche Ma
 ßnahmen das Klinikum zum Schutz des Klimas ergreift. Ergänzt wird der V
 ortrag durch Hans-Peter Behrens MdL\, der den politischen Blickwinkel auf
  das Thema einbringt.\n\n Daran teilnehmen könnt ihr so\, wie es euch am
  besten passt: Entweder in Präsenz (Hotel Kohlers Engel in 77815 Bühl-V
 imbuch) oder online via Zoom (Link wird folgen).\n\nBitte gebt die Art eu
 rer Teilnahme in der Anmeldung per Mail an patrick.graf@gruene-ra-bad.de 
 an.\n\nWir freuen uns auf eine spannende Veranstaltung!
CLASS:PUBLIC
DTSTART;TZID=Europe/Berlin:20211122T190000
DTEND;TZID=Europe/Berlin:20211122T200000
DTSTAMP:20260422T112341
END:VEVENT
END:VCALENDAR