BEGIN:VCALENDAR
VERSION:2.0
PRODID:gruene-suedhardt.de
METHOD:PUBLISH
BEGIN:VTIMEZONE
TZID:Europe/Berlin
X-LIC-LOCATION:Europe/Berlin
BEGIN:DAYLIGHT
TZOFFSETFROM:+0100
TZOFFSETTO:+0200
TZNAME:CEST
DTSTART:19700329T020000
RRULE:FREQ=YEARLY;INTERVAL=1;BYDAY=-1SU;BYMONTH=3
END:DAYLIGHT
BEGIN:STANDARD
TZOFFSETFROM:+0200
TZOFFSETTO:+0100
TZNAME:CET
DTSTART:19701025T030000
RRULE:FREQ=YEARLY;INTERVAL=1;BYDAY=-1SU;BYMONTH=10
END:STANDARD
END:VTIMEZONE
BEGIN:VEVENT
UID:d62ba58006f267a08736a4ec872ba6e6@gruene-suedhardt.de
URL;VALUE=URI:https://gruene-suedhardt.de/termine/kreismitgliederversamml
 ung/
LOCATION:Nebenraum der Pagodenburg, Kappellenstraße 34, 76437 Rastatt
SUMMARY:ABGESAGT: Kreismitgliederversammlung
DESCRIPTION;ALTREP="data:text/html,%3Ch3%3EThema%3A%20Nominierung%20f%C3%
 BCr%20die%20Landtagswahl%202021%20im%20Wahlkreis%2032%3C%2Fh3%3E":Thema: 
 Nominierung für die Landtagswahl 2021 im Wahlkreis 32
CLASS:PUBLIC
DTSTART;TZID=Europe/Berlin:20200313T193000
DTEND;TZID=Europe/Berlin:20200313T203000
DTSTAMP:20260422T112343
END:VEVENT
END:VCALENDAR