BEGIN:VCALENDAR
VERSION:2.0
PRODID:gruene-suedhardt.de
METHOD:PUBLISH
BEGIN:VTIMEZONE
TZID:Europe/Berlin
X-LIC-LOCATION:Europe/Berlin
BEGIN:DAYLIGHT
TZOFFSETFROM:+0100
TZOFFSETTO:+0200
TZNAME:CEST
DTSTART:19700329T020000
RRULE:FREQ=YEARLY;INTERVAL=1;BYDAY=-1SU;BYMONTH=3
END:DAYLIGHT
BEGIN:STANDARD
TZOFFSETFROM:+0200
TZOFFSETTO:+0100
TZNAME:CET
DTSTART:19701025T030000
RRULE:FREQ=YEARLY;INTERVAL=1;BYDAY=-1SU;BYMONTH=10
END:STANDARD
END:VTIMEZONE
BEGIN:VEVENT
UID:c4048c94426f393fef02df65d2134f7e@gruene-suedhardt.de
URL;VALUE=URI:https://gruene-suedhardt.de/termine/kreismitgliederversamml
 ung-2/
LOCATION:Cafè Kunsthalle, Lichtentaler Allee 8a, Baden-Baden
SUMMARY:Kreismitgliederversammlung
DESCRIPTION;ALTREP="data:text/html,Auf%20der%20Tagesordnung%20steht%20unt
 er%20anderem%20ein%20Vortrag%20von%20Frank%20Brede%3A%20%22Demokratie%20s
 ch%C3%BCtzen%20-%20Verbot%20der%20AfD%20jetzt%3F%22%0D%0A%0D%0AFrank%20Br
 ede%20ist%20Pr%C3%A4sident%20des%20Landgerichts%20Baden-Baden%20und%20war
 %20sechs%20Jahre%20wissenschaftlicher%20Mitarbeiter%20des%20Bundesverfass
 ungsgerichts%20in%20dem%20f%C3%BCr%20das%20Parteienrecht%20zust%C3%A4ndig
 en%20Richterdezernat.":Auf der Tagesordnung steht unter anderem ein Vortr
 ag von Frank Brede: "Demokratie schützen - Verbot der AfD jetzt?"\n\nFra
 nk Brede ist Präsident des Landgerichts Baden-Baden und war sechs Jahre 
 wissenschaftlicher Mitarbeiter des Bundesverfassungsgerichts in dem für 
 das Parteienrecht zuständigen Richterdezernat.
CLASS:PUBLIC
DTSTART;TZID=Europe/Berlin:20240315T193000
DTEND;TZID=Europe/Berlin:20240315T203000
DTSTAMP:20260422T112344
END:VEVENT
END:VCALENDAR