BEGIN:VCALENDAR
VERSION:2.0
PRODID:gruene-suedhardt.de
METHOD:PUBLISH
BEGIN:VTIMEZONE
TZID:Europe/Berlin
X-LIC-LOCATION:Europe/Berlin
BEGIN:DAYLIGHT
TZOFFSETFROM:+0100
TZOFFSETTO:+0200
TZNAME:CEST
DTSTART:19700329T020000
RRULE:FREQ=YEARLY;INTERVAL=1;BYDAY=-1SU;BYMONTH=3
END:DAYLIGHT
BEGIN:STANDARD
TZOFFSETFROM:+0200
TZOFFSETTO:+0100
TZNAME:CET
DTSTART:19701025T030000
RRULE:FREQ=YEARLY;INTERVAL=1;BYDAY=-1SU;BYMONTH=10
END:STANDARD
END:VTIMEZONE
BEGIN:VEVENT
UID:407420ce1ae90d45c21661f89d165d4d@gruene-suedhardt.de
URL;VALUE=URI:https://gruene-suedhardt.de/termine/mach-mit-oekologischer-
 fussabdruck/
LOCATION:Bietigheimer Dorffest, Wilhelmstr. 4, Bietigheim (Baden)
SUMMARY:Mach Mit – Ökologischer Fußabdruck
DESCRIPTION;ALTREP="data:text/html,%0A%3Cp%3EAm%20Sonntag%2C%207.9.25%2C%
 20sind%20wir%20von%2010%20-%2014%20Uhr%20auf%20dem%20Bietigheimer%20Dorff
 est%20und%20pr%C3%A4sentieren%20unsere%20Mit-Mach-Aktion%20%22%C3%96kolog
 ischer%20Fu%C3%9Fabdruck%22%3Cbr%3E%3Cbr%3E%3C%2Fp%3E%0A%0A%0A%0A%3Cp%3E%
 3C%2Fp%3E%0A":Am Sonntag\, 7.9.25\, sind wir von 10 - 14 Uhr auf dem Biet
 igheimer Dorffest und präsentieren unsere Mit-Mach-Aktion "Ökologischer
  Fußabdruck"
CLASS:PUBLIC
DTSTART;TZID=Europe/Berlin:20250907T100000
DTEND;TZID=Europe/Berlin:20250907T140000
DTSTAMP:20260422T112350
END:VEVENT
END:VCALENDAR