BEGIN:VCALENDAR
VERSION:2.0
PRODID:gruene-suedhardt.de
METHOD:PUBLISH
BEGIN:VTIMEZONE
TZID:Europe/Berlin
X-LIC-LOCATION:Europe/Berlin
BEGIN:DAYLIGHT
TZOFFSETFROM:+0100
TZOFFSETTO:+0200
TZNAME:CEST
DTSTART:19700329T020000
RRULE:FREQ=YEARLY;INTERVAL=1;BYDAY=-1SU;BYMONTH=3
END:DAYLIGHT
BEGIN:STANDARD
TZOFFSETFROM:+0200
TZOFFSETTO:+0100
TZNAME:CET
DTSTART:19701025T030000
RRULE:FREQ=YEARLY;INTERVAL=1;BYDAY=-1SU;BYMONTH=10
END:STANDARD
END:VTIMEZONE
BEGIN:VEVENT
UID:faedc9e613a90657de9fa27d10ad5a37@gruene-suedhardt.de
URL;VALUE=URI:https://gruene-suedhardt.de/termine/mahnwache/
LOCATION:Bickesheimer Platz, Durmersheim
SUMMARY:Mahnwache
DESCRIPTION;ALTREP="data:text/html,%3Cdiv%20data-contents%3D%22true%22%3E
 %3Cspan%20class%3D%22ng-binding%20ng-isolate-scope%22%3EWir%2C%20der%20GR
 %C3%9CNE%20OV%20S%C3%BCdhardt%2C%20sagen%20unsere%20Mahnwache%20in%20Biet
 igheim%20ab%20und%20schlie%C3%9Fen%20uns%20der%20Mahnwache%20am%20Sonntag
 %2C%2020.3.%20um%2015%20Uhr%20in%20Durmersheim%20am%20Bickesheimer%20Plat
 z%20an.%20Allen%20eine%20gute%20Woche%2C%20wir%20sehen%20uns%20hoffentlic
 h%20am%20Sonntag%20in%20Durmersheim%21%3C%2Fspan%3E%3C%2Fdiv%3E":Wir\, de
 r GRÜNE OV Südhardt\, sagen unsere Mahnwache in Bietigheim ab und schli
 eßen uns der Mahnwache am Sonntag\, 20.3. um 15 Uhr in Durmersheim am Bi
 ckesheimer Platz an. Allen eine gute Woche\, wir sehen uns hoffentlich am
  Sonntag in Durmersheim!
CLASS:PUBLIC
DTSTART;TZID=Europe/Berlin:20220320T150000
DTEND;TZID=Europe/Berlin:20220320T160000
DTSTAMP:20260422T112212
END:VEVENT
END:VCALENDAR