BEGIN:VCALENDAR
VERSION:2.0
PRODID:gruene-suedhardt.de
METHOD:PUBLISH
BEGIN:VTIMEZONE
TZID:Europe/Berlin
X-LIC-LOCATION:Europe/Berlin
BEGIN:DAYLIGHT
TZOFFSETFROM:+0100
TZOFFSETTO:+0200
TZNAME:CEST
DTSTART:19700329T020000
RRULE:FREQ=YEARLY;INTERVAL=1;BYDAY=-1SU;BYMONTH=3
END:DAYLIGHT
BEGIN:STANDARD
TZOFFSETFROM:+0200
TZOFFSETTO:+0100
TZNAME:CET
DTSTART:19701025T030000
RRULE:FREQ=YEARLY;INTERVAL=1;BYDAY=-1SU;BYMONTH=10
END:STANDARD
END:VTIMEZONE
BEGIN:VEVENT
UID:d06a210b27dcec9b26ef3e4ff434fcd9@gruene-suedhardt.de
URL;VALUE=URI:https://gruene-suedhardt.de/termine/mitgliederversammlung/
LOCATION:Bürgerhaus Alter Farrenstall, Bietigheim
SUMMARY:3. Öffentliche Mitgliederversammlung
DESCRIPTION;ALTREP="data:text/html,Wir%20laden%20alle%20Mitglieder%2C%20I
 nteressierten%20und%20Freunde%20herzlich%20zu%20unserer%203.%20%C3%B6ffen
 tlichen%20Mitgliederversammlung%20ein.%0D%0A%0D%0ADie%20Tagesordnungspunk
 te%20sind%3A%0D%0A%0D%0ATOP%201%3A%20Begr%C3%BC%C3%9Fung%20durch%20den%20
 Vorstand%0D%0A%0D%0ATOP%202%3A%20Annahme%20des%20Protokolls%20der%20letzt
 en%20MV%20vom%2013.11.2019%0D%0A%0D%0ATOP%203%3A%20Manuel%20Hummel%20%E2%
 80%93%20Bericht%20%C3%96PNV%20mit%20dem%20Schwerpunkt%20Radschnellweg%20d
 urch%20die%20OV-Kommunen%2C%20Koordinierung%20zwischen%20OV%2C%20BuG%2C%2
 0Kreistag%20und%20Regionalversammlung%0D%0A%0D%0ATOP%204%3A%C2%A0Regional
 konferenz%20der%20Gr%C3%BCnen%20mit%20Annalena%20Baerbock%20Thema%3A%20Gr
 undsatzprogramm%20weiterschreiben%0D%0A%0D%0ATOP%205%3A%C2%A0Berichte%20a
 us%20den%20Arbeitskreisen%0D%0A%0D%0ATOP%206%3A%20Verschiedenes%0D%0A%0D%
 0AWir%20freuen%20uns%20%C3%BCber%20die%20Teilnahme%20von%20m%C3%B6glichst
 %20vielen%20Mitgliedern%20Interessierten%2C%20Freunden%20und%20Bekannten.
 ":Wir laden alle Mitglieder\, Interessierten und Freunde herzlich zu unse
 rer 3. öffentlichen Mitgliederversammlung ein.\n\nDie Tagesordnungspunkt
 e sind:\n\nTOP 1: Begrüßung durch den Vorstand\n\nTOP 2: Annahme des Pr
 otokolls der letzten MV vom 13.11.2019\n\nTOP 3: Manuel Hummel – Berich
 t ÖPNV mit dem Schwerpunkt Radschnellweg durch die OV-Kommunen\, Koordin
 ierung zwischen OV\, BuG\, Kreistag und Regionalversammlung\n\nTOP 4: Re
 gionalkonferenz der Grünen mit Annalena Baerbock Thema: Grundsatzprogram
 m weiterschreiben\n\nTOP 5: Berichte aus den Arbeitskreisen\n\nTOP 6: Ve
 rschiedenes\n\nWir freuen uns über die Teilnahme von möglichst vielen M
 itgliedern Interessierten\, Freunden und Bekannten.
CLASS:PUBLIC
DTSTART;TZID=Europe/Berlin:20200109T190000
DTEND;TZID=Europe/Berlin:20200109T210000
DTSTAMP:20260424T094602
END:VEVENT
END:VCALENDAR