BEGIN:VCALENDAR
VERSION:2.0
PRODID:gruene-suedhardt.de
METHOD:PUBLISH
BEGIN:VTIMEZONE
TZID:Europe/Berlin
X-LIC-LOCATION:Europe/Berlin
BEGIN:DAYLIGHT
TZOFFSETFROM:+0100
TZOFFSETTO:+0200
TZNAME:CEST
DTSTART:19700329T020000
RRULE:FREQ=YEARLY;INTERVAL=1;BYDAY=-1SU;BYMONTH=3
END:DAYLIGHT
BEGIN:STANDARD
TZOFFSETFROM:+0200
TZOFFSETTO:+0100
TZNAME:CET
DTSTART:19701025T030000
RRULE:FREQ=YEARLY;INTERVAL=1;BYDAY=-1SU;BYMONTH=10
END:STANDARD
END:VTIMEZONE
BEGIN:VEVENT
UID:022cb46a73b4f3d68e67360c29d0e0d3@gruene-suedhardt.de
URL;VALUE=URI:https://gruene-suedhardt.de/termine/mitgliederversammlung-1
 1/
LOCATION:Farrenstall, Bietigheim
SUMMARY:Mitgliederversammlung – ABGESAGT –
DESCRIPTION;ALTREP="data:text/html,Liebe%20Mitglieder%20und%20Gr%C3%BCne%
 20Interessierte%2C%0D%0A%0D%0Adieser%20Termin%20musste%20aus%20terminlich
 en%20Gr%C3%BCnden%20leider%20abgesagt%20werden.":Liebe Mitglieder und Gr
 üne Interessierte\,\n\ndieser Termin musste aus terminlichen Gründen le
 ider abgesagt werden.
CLASS:PUBLIC
DTSTART;TZID=Europe/Berlin:20240613T193000
DTEND;TZID=Europe/Berlin:20240613T203000
DTSTAMP:20260422T112231
END:VEVENT
END:VCALENDAR