BEGIN:VCALENDAR
VERSION:2.0
PRODID:gruene-suedhardt.de
METHOD:PUBLISH
BEGIN:VTIMEZONE
TZID:Europe/Berlin
X-LIC-LOCATION:Europe/Berlin
BEGIN:DAYLIGHT
TZOFFSETFROM:+0100
TZOFFSETTO:+0200
TZNAME:CEST
DTSTART:19700329T020000
RRULE:FREQ=YEARLY;INTERVAL=1;BYDAY=-1SU;BYMONTH=3
END:DAYLIGHT
BEGIN:STANDARD
TZOFFSETFROM:+0200
TZOFFSETTO:+0100
TZNAME:CET
DTSTART:19701025T030000
RRULE:FREQ=YEARLY;INTERVAL=1;BYDAY=-1SU;BYMONTH=10
END:STANDARD
END:VTIMEZONE
BEGIN:VEVENT
UID:31161fbc17954b2ca7bb11089236e42c@gruene-suedhardt.de
URL;VALUE=URI:https://gruene-suedhardt.de/termine/mitgliederversammlung-2
 /
LOCATION:Online
SUMMARY:Mitgliederversammlung – Chancen der Elektromobilität
DESCRIPTION;ALTREP="data:text/html,Unter%20diesem%20Titel%20wird%20unser%
 20Landtagsabgeordneter%20und%20Sprecher%20f%C3%BCr%20Elektromobilit%C3%A4
 t%20in%20der%20Landtagsfraktion%2C%20Thomas%20Hentschel%2C%20%C3%BCber%20
 den%20aktuellen%20Stand%20in%20Sachen%20Elektromobilit%C3%A4t%20und%20Alt
 ernative%20Antriebe%20berichten.%20Nach%20seiner%20Einf%C3%BChrung%20wird
 %20ausreichend%20Zeit%20f%C3%BCr%20Fragen%20und%20Diskussion%20sein%2C%20
 auf%20die%20wir%20uns%20sehr%20freuen.%0D%0A%0D%0AAlle%20Gr%C3%BCne%20und
 %20Interessierte%20k%C3%B6nnen%20sich%20unter%20der%20E-Mail-Adresse%3Ca%
 20href%3D%22mailto%3Ainfo%40gruene-suedhardt.de%22%3E%20info%40gruene-sue
 dhardt.de%3C%2Fa%3E%20anmelden%20und%20bekommen%20dann%20am%2027.01.2021%
 20die%20Zugangsdaten%20zur%20Videokonferenz%20gemailt":Unter diesem Titel
  wird unser Landtagsabgeordneter und Sprecher für Elektromobilität in d
 er Landtagsfraktion\, Thomas Hentschel\, über den aktuellen Stand in Sac
 hen Elektromobilität und Alternative Antriebe berichten. Nach seiner Ein
 führung wird ausreichend Zeit für Fragen und Diskussion sein\, auf die 
 wir uns sehr freuen.\n\nAlle Grüne und Interessierte können sich unter 
 der E-Mail-Adresse info@gruene-suedhardt.de anmelden und bekommen dann am
  27.01.2021 die Zugangsdaten zur Videokonferenz gemailt
CLASS:PUBLIC
DTSTART;TZID=Europe/Berlin:20210128T180000
DTEND;TZID=Europe/Berlin:20210128T200000
DTSTAMP:20260424T094608
END:VEVENT
END:VCALENDAR