BEGIN:VCALENDAR
VERSION:2.0
PRODID:gruene-suedhardt.de
METHOD:PUBLISH
BEGIN:VTIMEZONE
TZID:Europe/Berlin
X-LIC-LOCATION:Europe/Berlin
BEGIN:DAYLIGHT
TZOFFSETFROM:+0100
TZOFFSETTO:+0200
TZNAME:CEST
DTSTART:19700329T020000
RRULE:FREQ=YEARLY;INTERVAL=1;BYDAY=-1SU;BYMONTH=3
END:DAYLIGHT
BEGIN:STANDARD
TZOFFSETFROM:+0200
TZOFFSETTO:+0100
TZNAME:CET
DTSTART:19701025T030000
RRULE:FREQ=YEARLY;INTERVAL=1;BYDAY=-1SU;BYMONTH=10
END:STANDARD
END:VTIMEZONE
BEGIN:VEVENT
UID:506ebceb26aa2e67abc6ae468c860c0f@gruene-suedhardt.de
URL;VALUE=URI:https://gruene-suedhardt.de/termine/mitgliederversammlung-2
 025-02-13/
LOCATION:Bürgerhaus Alter Farrenstall, Leopoldstr. 2, Bietigheim
SUMMARY:Mitgliederversammlung am 13.2.25
DESCRIPTION;ALTREP="data:text/html,%0A%3Cp%3E%3Cstrong%3EEinladung%20zur%
 20Mitgliederversammlung%20des%20B%C3%BCndnis%2090%2FDie%20Gr%C3%BCnen%20-
 %20Ortsverband%20S%C3%BCdhardt%3Cbr%3EDonnerstag%2C%2013.02.25%2C%20um%20
 19%3A00%20Uhr%20im%20B%C3%BCrgerhaus%20%E2%80%9EAlter%20Farrenstall%E2%80
 %9C%2C%20Bietigheim%3C%2Fstrong%3E%3C%2Fp%3E%0A%0A%0A%0A%3Cp%3E%3Cstrong%
 3ETagesordnung%3C%2Fstrong%3E%3C%2Fp%3E%0A%0A%0A%0A%3Col%20class%3D%22wp-
 block-list%22%3E%0A%3Cli%3EBegr%C3%BC%C3%9Fung%3C%2Fli%3E%0A%0A%0A%0A%3Cl
 i%3EEndspurt%20im%20Wahlkampf%3C%2Fli%3E%0A%0A%0A%0A%3Cli%3ESonstiges%3C%
 2Fli%3E%0A%3C%2Fol%3E%0A%0A%0A%0A%3Cp%3ESabrina%20Henschel%20und%20Michae
 l%20Weber%3Cbr%3EVorsitzende%20OV%20S%C3%BCdhardt%3C%2Fp%3E%0A%0A%0A%0A%3
 Cp%3E%3Cstrong%3EInfo%3A%3C%2Fstrong%3E%3Cbr%3EDer%20Gr%C3%BCne%20OV%20S%
 C3%BCdhardt%20ist%20der%20gemeinsame%20Ortsverband%20f%C3%BCr%20die%20Gem
 einden%20Au%20am%20Rhein%2C%20Bietigheim%2C%20Durmersheim%2C%20Elchesheim
 -Illingen%2C%20Muggensturm%2C%20%C3%96tigheim%20und%20Steinmauern.%3C%2Fp
 %3E%0A%0A%0A%0A%3Cp%3E%3Ca%20href%3D%22https%3A%2F%2Fb90grneovsdhardt.liv
 e-website.com%22%3Ehttps%3A%2F%2Fb90grneovsdhardt.live-website.com%3C%2Fa
 %3E%3Cbr%3E%3Ca%20href%3D%22https%3A%2F%2Fwww.facebook.com%2Fgruene.suedh
 ardt%22%3Ehttps%3A%2F%2Fwww.facebook.com%2Fgruene.suedhardt%3C%2Fa%3E%3Cb
 r%3E%3Ca%20href%3D%22https%3A%2F%2Fwww.instagram.com%2Fgruene.suedhardt%2
 F%22%3Ehttps%3A%2F%2Fwww.instagram.com%2Fgruene.suedhardt%3C%2Fa%3E%3Cbr%
 3E%3Ca%20href%3D%22https%3A%2F%2Fbsky.app%2Fprofile%2Fgruene-suedhardt.de
 %22%3Ehttps%3A%2F%2Fbsky.app%2Fprofile%2Fgruene-suedhardt.de%3C%2Fa%3E%3C
 %2Fp%3E%0A%0A%0A%0A%3Cp%3E%3Cstrong%3EKontakt%3A%3C%2Fstrong%3E%3Cbr%3E%3
 Ca%20href%3D%22mailto%3Ainfo%40gruene-suedhardt.de%22%3Ehallo%40gruene-su
 edhardt.de%3C%2Fa%3E%3C%2Fp%3E%0A%0A%0A%0A%3Cp%3E%3C%2Fp%3E%0A":Einladung
  zur Mitgliederversammlung des Bündnis 90/Die Grünen - Ortsverband Süd
 hardtDonnerstag\, 13.02.25\, um 19:00 Uhr im Bürgerhaus „Alter Farrens
 tall“\, Bietigheim\n\nTagesordnung\n\nBegrüßung\n\nEndspurt im Wahlka
 mpf\n\nSonstiges\n\nSabrina Henschel und Michael WeberVorsitzende OV Süd
 hardt\n\nInfo:Der Grüne OV Südhardt ist der gemeinsame Ortsverband für
  die Gemeinden Au am Rhein\, Bietigheim\, Durmersheim\, Elchesheim-Illing
 en\, Muggensturm\, Ötigheim und Steinmauern.\n\nhttps://b90grneovsdhardt
 .live-website.comhttps://www.facebook.com/gruene.suedhardthttps://www.ins
 tagram.com/gruene.suedhardthttps://bsky.app/profile/gruene-suedhardt.de\n
 \nKontakt:hallo@gruene-suedhardt.de
CLASS:PUBLIC
DTSTART;TZID=Europe/Berlin:20250213T190000
DTEND;TZID=Europe/Berlin:20250213T200000
DTSTAMP:20260422T112352
END:VEVENT
END:VCALENDAR