BEGIN:VCALENDAR
VERSION:2.0
PRODID:gruene-suedhardt.de
METHOD:PUBLISH
BEGIN:VTIMEZONE
TZID:Europe/Berlin
X-LIC-LOCATION:Europe/Berlin
BEGIN:DAYLIGHT
TZOFFSETFROM:+0100
TZOFFSETTO:+0200
TZNAME:CEST
DTSTART:19700329T020000
RRULE:FREQ=YEARLY;INTERVAL=1;BYDAY=-1SU;BYMONTH=3
END:DAYLIGHT
BEGIN:STANDARD
TZOFFSETFROM:+0200
TZOFFSETTO:+0100
TZNAME:CET
DTSTART:19701025T030000
RRULE:FREQ=YEARLY;INTERVAL=1;BYDAY=-1SU;BYMONTH=10
END:STANDARD
END:VTIMEZONE
BEGIN:VEVENT
UID:10d636b48129dc6077834a64efe66169@gruene-suedhardt.de
URL;VALUE=URI:https://gruene-suedhardt.de/termine/mitgliederversammlung-2
 3-10-2025/
LOCATION:Bürgerzentrum Alter Farrenstall, Leopoldstr. 2, Bietigheim
SUMMARY:Mitgliederversammlung
DESCRIPTION;ALTREP="data:text/html,%0A%3Cp%3Eunsere%20n%C3%A4chste%26nbsp
 %3BMitgliederversammlung%26nbsp%3Bsteht%20an.%20Die%20pers%C3%B6nliche%20
 Einladung%20mit%26nbsp%3BTagesordnung%20erfolgt%20per%20E-Mail.%3C%2Fp%3E
 %0A%0A%0A%0A%3Cp%3E%F0%9F%93%85%20Donnerstag%2C%2023.%20Oktober%202025%3C
 br%3E%F0%9F%95%96%2019%3A00%20Uhr%3Cbr%3E%F0%9F%91%89%C2%A0B%C3%BCrgerzen
 trum%20%22Alter%20Farrenstall%22%2C%20Leopoldstra%C3%9Fe%202%2C%2076467%2
 0Bietigheim%3C%2Fp%3E%0A%0A%0A%0A%3Ch2%20class%3D%22wp-block-heading%22%3
 EInfo%3C%2Fh2%3E%0A%0A%0A%0A%3Cp%3EDer%20Gr%C3%BCne%20OV%20S%C3%BCdhardt%
 20ist%20der%20gemeinsame%20Ortsverband%20f%C3%BCr%20die%20Gemeinden%20Au%
 20am%20Rhein%2C%20Bietigheim%2C%20Durmersheim%2C%20Elchesheim-Illingen%2C
 %20Muggensturm%2C%20%C3%96tigheim%20und%20Steinmauern.%3C%2Fp%3E%0A%0A%0A
 %0A%3Cp%3Ehttps%3A%2F%2Fgruene-suedhardt.de%3Cbr%3Ehttps%3A%2F%2Fwww.face
 book.com%2Fgruene.suedhardt%3Cbr%3Ehttps%3A%2F%2Fwww.instagram.com%2Fgrue
 ne.suedhardt%2F%3Cbr%3Ehttps%3A%2F%2Fbsky.app%2Fprofile%2Fgruene-suedhard
 t.de%3Cbr%3E%3C%2Fp%3E%0A%0A%0A%0A%3Ch2%20class%3D%22wp-block-heading%22%
 3EKontakt%3C%2Fh2%3E%0A%0A%0A%0A%3Cp%3Ehallo%40gruene-suedhardt.de%3C%2Fp
 %3E%0A":unsere nächste Mitgliederversammlung steht an. Die persönlich
 e Einladung mit Tagesordnung erfolgt per E-Mail.\n\n📅 Donnerstag\, 23
 . Oktober 2025🕖 19:00 Uhr👉 Bürgerzentrum "Alter Farrenstall"\, Le
 opoldstraße 2\, 76467 Bietigheim\n\nInfo\n\nDer Grüne OV Südhardt ist 
 der gemeinsame Ortsverband für die Gemeinden Au am Rhein\, Bietigheim\, 
 Durmersheim\, Elchesheim-Illingen\, Muggensturm\, Ötigheim und Steinmaue
 rn.\n\nhttps://gruene-suedhardt.dehttps://www.facebook.com/gruene.suedhar
 dthttps://www.instagram.com/gruene.suedhardt/https://bsky.app/profile/gru
 ene-suedhardt.de\n\nKontakt\n\nhallo@gruene-suedhardt.de
CLASS:PUBLIC
DTSTART;TZID=Europe/Berlin:20251023T190000
DTEND;TZID=Europe/Berlin:20251023T220000
DTSTAMP:20260424T094750
END:VEVENT
END:VCALENDAR