BEGIN:VCALENDAR
VERSION:2.0
PRODID:gruene-suedhardt.de
METHOD:PUBLISH
BEGIN:VTIMEZONE
TZID:Europe/Berlin
X-LIC-LOCATION:Europe/Berlin
BEGIN:DAYLIGHT
TZOFFSETFROM:+0100
TZOFFSETTO:+0200
TZNAME:CEST
DTSTART:19700329T020000
RRULE:FREQ=YEARLY;INTERVAL=1;BYDAY=-1SU;BYMONTH=3
END:DAYLIGHT
BEGIN:STANDARD
TZOFFSETFROM:+0200
TZOFFSETTO:+0100
TZNAME:CET
DTSTART:19701025T030000
RRULE:FREQ=YEARLY;INTERVAL=1;BYDAY=-1SU;BYMONTH=10
END:STANDARD
END:VTIMEZONE
BEGIN:VEVENT
UID:f9613c199f6754bc8eccbc77bfef7d59@gruene-suedhardt.de
URL;VALUE=URI:https://gruene-suedhardt.de/termine/mitgliederversammlung-2
 5062026/
LOCATION:Bürgerzentrum Alter Farrenstall, Leopoldstr. 2, Bietigheim
SUMMARY:Mitgliederversammlung
DESCRIPTION;ALTREP="data:text/html,%0A%3Cp%3Eunsere%20n%C3%A4chste%26nbsp
 %3BMitgliederversammlung%26nbsp%3Bsteht%20an.%20Die%20pers%C3%B6nliche%20
 Einladung%20mit%26nbsp%3BTagesordnung%20erfolgt%20per%20E-Mail.%3C%2Fp%3E
 %0A%0A%0A%0A%3Cp%3E%F0%9F%93%85%20Donnerstag%2C%2025.%20Juni%202026%3Cbr%
 3E%F0%9F%95%96%2019%3A00%20Uhr%3Cbr%3E%F0%9F%91%89%C2%A0B%C3%BCrgerzentru
 m%20%22Alter%20Farrenstall%22%2C%20Leopoldstra%C3%9Fe%202%2C%2076467%20Bi
 etigheim%3C%2Fp%3E%0A%0A%0A%0A%3Ch2%20class%3D%22wp-block-heading%22%3EIn
 fo%3C%2Fh2%3E%0A%0A%0A%0A%3Cp%3EDer%20Gr%C3%BCne%20OV%20S%C3%BCdhardt%20i
 st%20der%20gemeinsame%20Ortsverband%20f%C3%BCr%20die%20Gemeinden%20Au%20a
 m%20Rhein%2C%20Bietigheim%2C%20Durmersheim%2C%20Elchesheim-Illingen%2C%20
 Muggensturm%2C%20%C3%96tigheim%20und%20Steinmauern.%3C%2Fp%3E%0A%0A%0A%0A
 %3Cp%3E%3C%2Fp%3E%0A":unsere nächste Mitgliederversammlung steht an. D
 ie persönliche Einladung mit Tagesordnung erfolgt per E-Mail.\n\n📅 D
 onnerstag\, 25. Juni 2026🕖 19:00 Uhr👉 Bürgerzentrum "Alter Farren
 stall"\, Leopoldstraße 2\, 76467 Bietigheim\n\nInfo\n\nDer Grüne OV Sü
 dhardt ist der gemeinsame Ortsverband für die Gemeinden Au am Rhein\, Bi
 etigheim\, Durmersheim\, Elchesheim-Illingen\, Muggensturm\, Ötigheim un
 d Steinmauern.
CLASS:PUBLIC
DTSTART;TZID=Europe/Berlin:20260625T190000
DTEND;TZID=Europe/Berlin:20260625T220000
DTSTAMP:20260422T150110
END:VEVENT
END:VCALENDAR