BEGIN:VCALENDAR
VERSION:2.0
PRODID:gruene-suedhardt.de
METHOD:PUBLISH
BEGIN:VTIMEZONE
TZID:Europe/Berlin
X-LIC-LOCATION:Europe/Berlin
BEGIN:DAYLIGHT
TZOFFSETFROM:+0100
TZOFFSETTO:+0200
TZNAME:CEST
DTSTART:19700329T020000
RRULE:FREQ=YEARLY;INTERVAL=1;BYDAY=-1SU;BYMONTH=3
END:DAYLIGHT
BEGIN:STANDARD
TZOFFSETFROM:+0200
TZOFFSETTO:+0100
TZNAME:CET
DTSTART:19701025T030000
RRULE:FREQ=YEARLY;INTERVAL=1;BYDAY=-1SU;BYMONTH=10
END:STANDARD
END:VTIMEZONE
BEGIN:VEVENT
UID:95dc0d3da5c62a9b75d23c56398dc7e1@gruene-suedhardt.de
URL;VALUE=URI:https://gruene-suedhardt.de/termine/mitgliederversammlung-3
 /
LOCATION:
SUMMARY:Mitgliederversammlung
DESCRIPTION;ALTREP="data:text/html,Bei%20unserer%20n%C3%A4chsten%20digita
 len%20Mitgliederversammlung%20wird%20es%20unter%20anderem%20um%20die%20Th
 emen%20Bundestagswahlen%202021%2C%20Schotterg%C3%A4rten%20und%20Plastikm%
 C3%BCll%20gehen.%0D%0A%0D%0AWie%20immer%20sind%20alle%20Gr%C3%BCnen%20und
 %20Interessierte%20herzlich%20eingeladen%20sich%20unter%20dem%20Link%20%3
 Ca%20href%3D%22https%3A%2F%2Fmeet.jit.si%2Fgruene.suedhardt%22%3Ehttps%3A
 %2F%2Fmeet.jit.si%2Fgruene.suedhardt%3C%2Fa%3E%20einzuloggen.":Bei unsere
 r nächsten digitalen Mitgliederversammlung wird es unter anderem um die 
 Themen Bundestagswahlen 2021\, Schottergärten und Plastikmüll gehen.\n\
 nWie immer sind alle Grünen und Interessierte herzlich eingeladen sich u
 nter dem Link https://meet.jit.si/gruene.suedhardt einzuloggen.
CLASS:PUBLIC
DTSTART;TZID=Europe/Berlin:20210520T191500
DTEND;TZID=Europe/Berlin:20210520T201500
DTSTAMP:20260422T112211
END:VEVENT
END:VCALENDAR