BEGIN:VCALENDAR
VERSION:2.0
PRODID:gruene-suedhardt.de
METHOD:PUBLISH
BEGIN:VTIMEZONE
TZID:Europe/Berlin
X-LIC-LOCATION:Europe/Berlin
BEGIN:DAYLIGHT
TZOFFSETFROM:+0100
TZOFFSETTO:+0200
TZNAME:CEST
DTSTART:19700329T020000
RRULE:FREQ=YEARLY;INTERVAL=1;BYDAY=-1SU;BYMONTH=3
END:DAYLIGHT
BEGIN:STANDARD
TZOFFSETFROM:+0200
TZOFFSETTO:+0100
TZNAME:CET
DTSTART:19701025T030000
RRULE:FREQ=YEARLY;INTERVAL=1;BYDAY=-1SU;BYMONTH=10
END:STANDARD
END:VTIMEZONE
BEGIN:VEVENT
UID:0f190dbe8fba60ae3d03b8511c01821e@gruene-suedhardt.de
URL;VALUE=URI:https://gruene-suedhardt.de/termine/mitgliederversammlung-4
 /
LOCATION:Rathaus, Muggensturm
SUMMARY:Mitgliederversammlung
DESCRIPTION;ALTREP="data:text/html,Wir%20freuen%20uns%20alle%20Gr%C3%BCne
 %20und%20gr%C3%BCne%20Interessierte%20zu%20unserer%20n%C3%A4chsten%20Mitg
 liedsversammlung%2C%20erstmals%20wieder%20in%20Pr%C3%A4senz%2C%20einladen
 %20zu%20d%C3%BCrfen.%20Unter%20anderem%20wird%20der%20Klimamanager%20des%
 20Kinikums%20Mittelbaden%2C%20Markus%20Enderle%2C%0D%0Aseine%20Aufgaben%2
 0vorstellen%20%28%20Klimaschutz%20im%20Gesundheitswesen%20usw.%20%29%20un
 d%20sich%20unseren%20Fragen%20und%20der%20Diskussion%20stellen.":Wir freu
 en uns alle Grüne und grüne Interessierte zu unserer nächsten Mitglied
 sversammlung\, erstmals wieder in Präsenz\, einladen zu dürfen. Unter a
 nderem wird der Klimamanager des Kinikums Mittelbaden\, Markus Enderle\,\
 n\nseine Aufgaben vorstellen ( Klimaschutz im Gesundheitswesen usw. ) und
  sich unseren Fragen und der Diskussion stellen.
CLASS:PUBLIC
DTSTART;TZID=Europe/Berlin:20210714T191500
DTEND;TZID=Europe/Berlin:20210714T201500
DTSTAMP:20260422T112218
END:VEVENT
END:VCALENDAR