BEGIN:VCALENDAR
VERSION:2.0
PRODID:gruene-suedhardt.de
METHOD:PUBLISH
BEGIN:VTIMEZONE
TZID:Europe/Berlin
X-LIC-LOCATION:Europe/Berlin
BEGIN:DAYLIGHT
TZOFFSETFROM:+0100
TZOFFSETTO:+0200
TZNAME:CEST
DTSTART:19700329T020000
RRULE:FREQ=YEARLY;INTERVAL=1;BYDAY=-1SU;BYMONTH=3
END:DAYLIGHT
BEGIN:STANDARD
TZOFFSETFROM:+0200
TZOFFSETTO:+0100
TZNAME:CET
DTSTART:19701025T030000
RRULE:FREQ=YEARLY;INTERVAL=1;BYDAY=-1SU;BYMONTH=10
END:STANDARD
END:VTIMEZONE
BEGIN:VEVENT
UID:72c65770d560e54f32c5ef3f8c753a2c@gruene-suedhardt.de
URL;VALUE=URI:https://gruene-suedhardt.de/termine/mitgliederversammlung-5
 /
LOCATION:Alte Schule, Saal 5/6, Kirchstraße 3, Ötigheim
SUMMARY:verschoben: Mitgliederversammlung
DESCRIPTION;ALTREP="data:text/html,%3Ch3%3EDiese%20Veranstaltung%20wurde%
 20ins%20neue%20Jahr%20verschoben%21%20Der%20neue%20Termin%20wird%20hier%2
 0rechtzeitig%20ver%C3%B6ffentlicht%21%3C%2Fh3%3E%0D%0AWir%20laden%20alle%
 20Mitglieder%20und%20Interessierte%20zur%20%C3%B6ffentlichen%20Mitglieder
 versammlung%20des%20OV%20S%C3%BCdhardt%20in%20den%20Saal%205%2F6%20der%20
 Alten%20Schule%20%28Kirchstra%C3%9Fe%203%29%20in%20%C3%96tigheim%20ein.%0
 D%0AAuf%20der%20Tagesordnung%20steht%20die%20Wahl%20des%20Vorstands.%0D%0
 A%0D%0A%3Cstrong%3EEs%20gilt%20die%202G-Regelung.%20Es%20besteht%20medizi
 nische%20Maskenpflicht%20bis%20auf%20den%20Platz.%3C%2Fstrong%3E":Diese V
 eranstaltung wurde ins neue Jahr verschoben! Der neue Termin wird hier re
 chtzeitig veröffentlicht!\n\nWir laden alle Mitglieder und Interessierte
  zur öffentlichen Mitgliederversammlung des OV Südhardt in den Saal 5/6
  der Alten Schule (Kirchstraße 3) in Ötigheim ein.\n\nAuf der Tagesordn
 ung steht die Wahl des Vorstands.\n\nEs gilt die 2G-Regelung. Es besteht 
 medizinische Maskenpflicht bis auf den Platz.
CLASS:PUBLIC
DTSTART;TZID=Europe/Berlin:20211124T191500
DTEND;TZID=Europe/Berlin:20211124T201500
DTSTAMP:20260422T112232
END:VEVENT
END:VCALENDAR