BEGIN:VCALENDAR
VERSION:2.0
PRODID:gruene-suedhardt.de
METHOD:PUBLISH
BEGIN:VTIMEZONE
TZID:Europe/Berlin
X-LIC-LOCATION:Europe/Berlin
BEGIN:DAYLIGHT
TZOFFSETFROM:+0100
TZOFFSETTO:+0200
TZNAME:CEST
DTSTART:19700329T020000
RRULE:FREQ=YEARLY;INTERVAL=1;BYDAY=-1SU;BYMONTH=3
END:DAYLIGHT
BEGIN:STANDARD
TZOFFSETFROM:+0200
TZOFFSETTO:+0100
TZNAME:CET
DTSTART:19701025T030000
RRULE:FREQ=YEARLY;INTERVAL=1;BYDAY=-1SU;BYMONTH=10
END:STANDARD
END:VTIMEZONE
BEGIN:VEVENT
UID:bed82c9d713c43b2b9aeeb879344cd82@gruene-suedhardt.de
URL;VALUE=URI:https://gruene-suedhardt.de/termine/mitgliederversammlung-9
 /
LOCATION:Farrenstall, Leopoldsstrasse 2, Bietigheim
SUMMARY:Mitgliederversammlung
DESCRIPTION;ALTREP="data:text/html,%3Cdiv%3ELiebe%20Mitglieder%20und%20Fr
 eunde%2C%3C%2Fdiv%3E%0D%0A%3Cdiv%3Ewir%20m%C3%B6chten%20Euch%20mal%20wied
 er%20zu%20einer%20Mitgliederversammlung%20einladen.%3C%2Fdiv%3E%0D%0A%3Cd
 iv%3E%3C%2Fdiv%3E%0D%0A%3Cdiv%3E%3Cstrong%3EThemenschwerpunkt%20wird%20di
 e%20Kommunalwahl%202024%20sein.%3C%2Fstrong%3E%3C%2Fdiv%3E%0D%0A%3Cdiv%3E
 %3C%2Fdiv%3E%0D%0A%3Cdiv%3EWir%20bitte%20um%20rege%20Teilnahme%21%21%3C%2
 Fdiv%3E":Liebe Mitglieder und Freunde\,\n\nwir möchten Euch mal wieder z
 u einer Mitgliederversammlung einladen.\n\nThemenschwerpunkt wird die Kom
 munalwahl 2024 sein.\n\nWir bitte um rege Teilnahme!!
CLASS:PUBLIC
DTSTART;TZID=Europe/Berlin:20231207T193000
DTEND;TZID=Europe/Berlin:20231207T203000
DTSTAMP:20260424T094738
END:VEVENT
END:VCALENDAR