BEGIN:VCALENDAR
VERSION:2.0
PRODID:gruene-suedhardt.de
METHOD:PUBLISH
BEGIN:VTIMEZONE
TZID:Europe/Berlin
X-LIC-LOCATION:Europe/Berlin
BEGIN:DAYLIGHT
TZOFFSETFROM:+0100
TZOFFSETTO:+0200
TZNAME:CEST
DTSTART:19700329T020000
RRULE:FREQ=YEARLY;INTERVAL=1;BYDAY=-1SU;BYMONTH=3
END:DAYLIGHT
BEGIN:STANDARD
TZOFFSETFROM:+0200
TZOFFSETTO:+0100
TZNAME:CET
DTSTART:19701025T030000
RRULE:FREQ=YEARLY;INTERVAL=1;BYDAY=-1SU;BYMONTH=10
END:STANDARD
END:VTIMEZONE
BEGIN:VEVENT
UID:0b8fc43ead6567dac9cf25fa86275984@gruene-suedhardt.de
URL;VALUE=URI:https://gruene-suedhardt.de/termine/mitgliederversammlung-a
 m-12-12-24/
LOCATION:Leopoldstr. 2, Bietigheim
SUMMARY:Mitgliederversammlung am 12.12.24
DESCRIPTION;ALTREP="data:text/html,%0A%3Cp%3E%3Cstrong%3EEinladung%20zur%
 20Mitgliederversammlung%20des%20B%C3%BCndnis%2090%2FDie%20Gr%C3%BCnen%20-
 %20Ortsverband%20S%C3%BCdhardt%3Cbr%3E%3C%2Fstrong%3E%3Cstrong%3EDonnerst
 ag%2C%2012.12.24%2C%20um%2019%3A30%20Uhr%20im%20B%C3%BCrgerhaus%20%E2%80%
 9EAlter%20Farrenstall%E2%80%9C%2C%20Bietigheim%3C%2Fstrong%3E%3C%2Fp%3E%0
 A%0A%0A%0A%3Cp%3E%3Cstrong%3ETagesordnung%3C%2Fstrong%3E%3C%2Fp%3E%0A%0A%
 0A%0A%3Col%20class%3D%22wp-block-list%22%3E%0A%3Cli%3EBegr%C3%BC%C3%9Fung
 %0A%3Col%20class%3D%22wp-block-list%22%3E%0A%3Cli%3EFeststellung%20der%20
 ordnungsgem%C3%A4%C3%9Fen%20Einladung%20und%20Beschlussf%C3%A4higkeit%3C%
 2Fli%3E%0A%3C%2Fol%3E%0A%3C%2Fli%3E%0A%0A%0A%0A%3Cli%3EWahl%20Delegierte%
 20zum%20Kreisausschuss%0A%3Col%20class%3D%22wp-block-list%22%3E%0A%3Cli%3
 EWahl%20der%20Wahlleitung%3C%2Fli%3E%0A%0A%0A%0A%3Cli%3EVorstellung%20der
 %20Kandidat%2Ainnen%3C%2Fli%3E%0A%0A%0A%0A%3Cli%3EDurchf%C3%BChrung%20der
 %20Wahl%0A%3Col%20class%3D%22wp-block-list%22%3E%0A%3Cli%3EDelegierte%2Ar
 %3C%2Fli%3E%0A%0A%0A%0A%3Cli%3EErsatzdelegierte%2Ar%3C%2Fli%3E%0A%3C%2Fol
 %3E%0A%3C%2Fli%3E%0A%3C%2Fol%3E%0A%3C%2Fli%3E%0A%0A%0A%0A%3Cli%3E%3Ca%20h
 ref%3D%22https%3A%2F%2Ffrank-brede.de%2F%22%20target%3D%22_blank%22%20rel
 %3D%22noopener%22%3EFrank%20Brede%20-%20unser%20Direktkandidat%20f%C3%BCr
 %20den%20Bundestag%20im%20Wahlkreis%20273%20Rastatt%2FBaden-Baden%20%E2%8
 0%93%20stellt%20sich%20vor%3C%2Fa%3E%3C%2Fli%3E%0A%0A%0A%0A%3Cli%3ESonsti
 ges%3C%2Fli%3E%0A%3C%2Fol%3E%0A%0A%0A%0A%3Cp%3ESabrina%20Henschel%20und%2
 0Michael%20Weber%3Cbr%3EVorsitzende%20OV%20S%C3%BCdhardt%3C%2Fp%3E%0A%0A%
 0A%0A%3Cp%3E%3Cstrong%3EInfo%3A%3C%2Fstrong%3E%3Cbr%3EDer%20Gr%C3%BCne%20
 OV%20S%C3%BCdhardt%20ist%20der%20gemeinsame%20Ortsverband%20f%C3%BCr%20di
 e%20Gemeinden%20Au%20am%20Rhein%2C%20Bietigheim%2C%20Durmersheim%2C%20Elc
 hesheim-Illingen%2C%20Muggensturm%2C%20%C3%96tigheim%20und%20Steinmauern.
 %3C%2Fp%3E%0A%0A%0A%0A%3Cp%3E%3Ca%20href%3D%22https%3A%2F%2Fb90grneovsdha
 rdt.live-website.com%22%3Ehttps%3A%2F%2Fb90grneovsdhardt.live-website.com
 %3C%2Fa%3E%3Cbr%3E%3Ca%20href%3D%22https%3A%2F%2Fwww.facebook.com%2Fgruen
 e.suedhardt%22%3Ehttps%3A%2F%2Fwww.facebook.com%2Fgruene.suedhardt%3C%2Fa
 %3E%3Cbr%3E%3Ca%20href%3D%22https%3A%2F%2Fwww.instagram.com%2Fgruene.sued
 hardt%2F%22%3Ehttps%3A%2F%2Fwww.instagram.com%2Fgruene.suedhardt%2F%3C%2F
 a%3E%3C%2Fp%3E%0A%0A%0A%0A%3Cp%3E%3Cstrong%3EKontakt%3A%3C%2Fstrong%3E%3C
 br%3E%3Ca%20href%3D%22mailto%3Ainfo%40gruene-suedhardt.de%22%3Einfo%40gru
 ene-suedhardt.de%3C%2Fa%3E%3C%2Fp%3E%0A%0A%0A%0A%3Cp%3E%3C%2Fp%3E%0A":Ein
 ladung zur Mitgliederversammlung des Bündnis 90/Die Grünen - Ortsverban
 d SüdhardtDonnerstag\, 12.12.24\, um 19:30 Uhr im Bürgerhaus „Alter F
 arrenstall“\, Bietigheim\n\nTagesordnung\n\nBegrüßung\n\nFeststellung
  der ordnungsgemäßen Einladung und Beschlussfähigkeit\n\nWahl Delegier
 te zum Kreisausschuss\n\nWahl der Wahlleitung\n\nVorstellung der Kandidat
 *innen\n\nDurchführung der Wahl\n\nDelegierte*r\n\nErsatzdelegierte*r\n\
 nFrank Brede - unser Direktkandidat für den Bundestag im Wahlkreis 273 R
 astatt/Baden-Baden – stellt sich vor\n\nSonstiges\n\nSabrina Henschel u
 nd Michael WeberVorsitzende OV Südhardt\n\nInfo:Der Grüne OV Südhardt 
 ist der gemeinsame Ortsverband für die Gemeinden Au am Rhein\, Bietighei
 m\, Durmersheim\, Elchesheim-Illingen\, Muggensturm\, Ötigheim und Stein
 mauern.\n\nhttps://b90grneovsdhardt.live-website.comhttps://www.facebook.
 com/gruene.suedhardthttps://www.instagram.com/gruene.suedhardt/\n\nKontak
 t:info@gruene-suedhardt.de
CLASS:PUBLIC
DTSTART;TZID=Europe/Berlin:20241212T193000
DTEND;TZID=Europe/Berlin:20241212T203000
DTSTAMP:20260424T094841
END:VEVENT
END:VCALENDAR