BEGIN:VCALENDAR
VERSION:2.0
PRODID:gruene-suedhardt.de
METHOD:PUBLISH
BEGIN:VTIMEZONE
TZID:Europe/Berlin
X-LIC-LOCATION:Europe/Berlin
BEGIN:DAYLIGHT
TZOFFSETFROM:+0100
TZOFFSETTO:+0200
TZNAME:CEST
DTSTART:19700329T020000
RRULE:FREQ=YEARLY;INTERVAL=1;BYDAY=-1SU;BYMONTH=3
END:DAYLIGHT
BEGIN:STANDARD
TZOFFSETFROM:+0200
TZOFFSETTO:+0100
TZNAME:CET
DTSTART:19701025T030000
RRULE:FREQ=YEARLY;INTERVAL=1;BYDAY=-1SU;BYMONTH=10
END:STANDARD
END:VTIMEZONE
BEGIN:VEVENT
UID:469433c3093aa63f19ae0d43b42cbeb9@gruene-suedhardt.de
URL;VALUE=URI:https://gruene-suedhardt.de/termine/mitgliederversammlung-f
 loating-pv/
LOCATION:Restaurant Korfu, Durmersheim
SUMMARY:Mitgliederversammlung – Floating PV
DESCRIPTION;ALTREP="data:text/html,Liebe%20Mitglieder%20und%20Freunde%20d
 es%20GR%C3%9CNEN%20OV%20S%C3%BCdhardt%2C%0D%0A%0D%0Aam%20%3Cstrong%3EDien
 stag%3C%2Fstrong%3E%3Cstrong%3E%2C%20den%2018.%20Juli%202023%3C%2Fstrong%
 3E%20treffen%20wir%20uns%20%3Cstrong%3Eum%2019%20Uhr%20im%20Restaurant%20
 Korfu%20in%20Durmersheim%20zu%20unserer%20n%C3%A4chsten%20Mitgliederversa
 mmlung%3C%2Fstrong%3E.%0D%0A%0D%0AThema%20der%20MGV%20ist%20das%20geplant
 e%20%3Cstrong%3EPhotovoltaik-Projekt%20auf%20dem%20St%C3%BCrmlinger%20See
 %20%2F%20Stichwort%20%E2%80%9EFloating%20PV%E2%80%9C%3C%2Fstrong%3E.%0D%0
 A%0D%0AAls%20Referenten%20konnten%20wir%20%3Cstrong%3EThorsten%20Volkmer%
 2C%20Gesch%C3%A4ftsf%C3%BChrer%20St%C3%BCrmlinger%20Kieswerke%3C%2Fstrong
 %3E%2C%20gewinnen.%0D%0A%0D%0AWir%20freuen%20uns%20auf%20einen%20spannend
 en%20Abend%20und%20hoffen%20auf%20euer%20zahlreiches%20Erscheinen%21":Lie
 be Mitglieder und Freunde des GRÜNEN OV Südhardt\,\n\nam Dienstag\, den
  18. Juli 2023 treffen wir uns um 19 Uhr im Restaurant Korfu in Durmershe
 im zu unserer nächsten Mitgliederversammlung.\n\nThema der MGV ist das g
 eplante Photovoltaik-Projekt auf dem Stürmlinger See / Stichwort „Floa
 ting PV“.\n\nAls Referenten konnten wir Thorsten Volkmer\, Geschäftsf
 ührer Stürmlinger Kieswerke\, gewinnen.\n\nWir freuen uns auf einen spa
 nnenden Abend und hoffen auf euer zahlreiches Erscheinen!
CLASS:PUBLIC
DTSTART;TZID=Europe/Berlin:20230718T190000
DTEND;TZID=Europe/Berlin:20230718T200000
DTSTAMP:20260422T112233
END:VEVENT
END:VCALENDAR