BEGIN:VCALENDAR
VERSION:2.0
PRODID:gruene-suedhardt.de
METHOD:PUBLISH
BEGIN:VTIMEZONE
TZID:Europe/Berlin
X-LIC-LOCATION:Europe/Berlin
BEGIN:DAYLIGHT
TZOFFSETFROM:+0100
TZOFFSETTO:+0200
TZNAME:CEST
DTSTART:19700329T020000
RRULE:FREQ=YEARLY;INTERVAL=1;BYDAY=-1SU;BYMONTH=3
END:DAYLIGHT
BEGIN:STANDARD
TZOFFSETFROM:+0200
TZOFFSETTO:+0100
TZNAME:CET
DTSTART:19701025T030000
RRULE:FREQ=YEARLY;INTERVAL=1;BYDAY=-1SU;BYMONTH=10
END:STANDARD
END:VTIMEZONE
BEGIN:VEVENT
UID:1497be8c859da3a04135cfb24e6f65db@gruene-suedhardt.de
URL;VALUE=URI:https://gruene-suedhardt.de/termine/mobilitaet-auf-dem-land
 /
LOCATION:La Trattoria - Zum Schiff - Kirchstraße 8, 76470 Ötigheim
SUMMARY:Mobilität auf dem Land
DESCRIPTION;ALTREP="data:text/html,Bei%20unser%20Mitgliederversammlung%20
 am%2030.03.%20wird%20es%20um%20das%20Thema%20%22Mobilit%C3%A4t%20auf%20de
 m%20Land%22%20gehen.%20Alle%20Gr%C3%BCne%20und%20gr%C3%BCne%20Interessier
 te%20sind%20dazu%20herzlich%20eingeladen.":Bei unser Mitgliederversammlun
 g am 30.03. wird es um das Thema "Mobilität auf dem Land" gehen. Alle Gr
 üne und grüne Interessierte sind dazu herzlich eingeladen.
CLASS:PUBLIC
DTSTART;TZID=Europe/Berlin:20230330T190000
DTEND;TZID=Europe/Berlin:20230330T200000
DTSTAMP:20260422T143255
END:VEVENT
END:VCALENDAR