BEGIN:VCALENDAR
VERSION:2.0
PRODID:gruene-suedhardt.de
METHOD:PUBLISH
BEGIN:VTIMEZONE
TZID:Europe/Berlin
X-LIC-LOCATION:Europe/Berlin
BEGIN:DAYLIGHT
TZOFFSETFROM:+0100
TZOFFSETTO:+0200
TZNAME:CEST
DTSTART:19700329T020000
RRULE:FREQ=YEARLY;INTERVAL=1;BYDAY=-1SU;BYMONTH=3
END:DAYLIGHT
BEGIN:STANDARD
TZOFFSETFROM:+0200
TZOFFSETTO:+0100
TZNAME:CET
DTSTART:19701025T030000
RRULE:FREQ=YEARLY;INTERVAL=1;BYDAY=-1SU;BYMONTH=10
END:STANDARD
END:VTIMEZONE
BEGIN:VEVENT
UID:b972ecc55a56efe04a73b2f5e8a76310@gruene-suedhardt.de
URL;VALUE=URI:https://gruene-suedhardt.de/termine/moebs-raeumt-auf-2/
LOCATION:Muggensturm, Ötigheim, Bietigheim, Steinmauern
SUMMARY:MÖBS räumt auf
DESCRIPTION;ALTREP="data:text/html,%3Ch5%3EGemeinschaftliche%20Putzaktion
 %20von%20Feld%2C%20Wald%20und%20Flur%20an%20der%20alle%20Privatpersonen%2
 C%20Schulklassen%2C%20Kinderg%C3%A4rten%2C%20Vereine%2C%20etc.%20teilnehm
 en%20k%C3%B6nnen.%3C%2Fh5%3E%0D%0A%3Ch3%3EMuggensturm%3C%2Fh3%3E%0D%0ATre
 ffpunkt%3A%20%3F%3F%3F%0D%0A%3Ch3%3E%C3%96tigheim%3C%2Fh3%3E%0D%0ATreffpu
 nkt%3A%20Am%20Rathausplatz%0D%0A%0D%0A%3Ca%20href%3D%22https%3A%2F%2Fwww.
 oetigheim.de%2Fpb%2Fsite%2FOetigheim_2019%2Fnode%2F3007364%3FQUERYSTRING%
 3DM%25C3%25B6bs%2520r%25C3%25A4umt%2520auf%22%3EInfos%20und%20Anmeldung%3
 C%2Fa%3E%0D%0A%3Ch3%3EBietigheim%3C%2Fh3%3E%0D%0ATreffpunkt%3A%20Bauhof%2
 C%20Br%C3%BChlwiese%201%0D%0A%0D%0A%3Ca%20href%3D%22mailto%3Amartina.scha
 uer%40bietigheim.de%22%3EAnmeldung%20per%20Mail%3C%2Fa%3E%0D%0A%3Ch3%3ESt
 einmauern%3C%2Fh3%3E%0D%0ATreffpunkt%3A%20Murghalle%2C%20Am%20Sportplatz%
 0D%0A%0D%0A%3Ca%20href%3D%22https%3A%2F%2Fwww.steinmauern.de%2Ffileadmin%
 2Fmedia%2Fdokumente%2Faktuelles%2FM%25C3%2596BS_r%25C3%25A4umt_auf_STEINM
 AUERN_2021_NEU.pdf%22%3EAnmeldeformular%3C%2Fa%3E":Gemeinschaftliche Putz
 aktion von Feld\, Wald und Flur an der alle Privatpersonen\, Schulklassen
 \, Kindergärten\, Vereine\, etc. teilnehmen können.\n\nMuggensturm\n\nT
 reffpunkt: ???\n\nÖtigheim\n\nTreffpunkt: Am Rathausplatz\n\nInfos und A
 nmeldung\n\nBietigheim\n\nTreffpunkt: Bauhof\, Brühlwiese 1\n\nAnmeldung
  per Mail\n\nSteinmauern\n\nTreffpunkt: Murghalle\, Am Sportplatz\n\nAnme
 ldeformular
CLASS:PUBLIC
DTSTART;TZID=Europe/Berlin:20211113T093000
DTEND;TZID=Europe/Berlin:20211113T113000
DTSTAMP:20260422T112217
END:VEVENT
END:VCALENDAR