BEGIN:VCALENDAR
VERSION:2.0
PRODID:gruene-suedhardt.de
METHOD:PUBLISH
BEGIN:VTIMEZONE
TZID:Europe/Berlin
X-LIC-LOCATION:Europe/Berlin
BEGIN:DAYLIGHT
TZOFFSETFROM:+0100
TZOFFSETTO:+0200
TZNAME:CEST
DTSTART:19700329T020000
RRULE:FREQ=YEARLY;INTERVAL=1;BYDAY=-1SU;BYMONTH=3
END:DAYLIGHT
BEGIN:STANDARD
TZOFFSETFROM:+0200
TZOFFSETTO:+0100
TZNAME:CET
DTSTART:19701025T030000
RRULE:FREQ=YEARLY;INTERVAL=1;BYDAY=-1SU;BYMONTH=10
END:STANDARD
END:VTIMEZONE
BEGIN:VEVENT
UID:b85c5c3419051bd15c3dc5fcb84d0299@gruene-suedhardt.de
URL;VALUE=URI:https://gruene-suedhardt.de/termine/neujahrsempfang-gruene-
 ra-bad/
LOCATION:Reithalle Rastatt, Am Schlossplatz 9, Rastatt
SUMMARY:Neujahrsempfang GRÜNE RA BAD
DESCRIPTION;ALTREP="data:text/html,%0A%3Cfigure%20class%3D%22wp-block-ima
 ge%20size-large%22%3E%3Cimg%20src%3D%22https%3A%2F%2Fgruene-suedhardt.de%
 2Fwp-content%2Fuploads%2F2025%2F12%2FGruener-Neujahrsempfang-729x1024.jpg
 %22%20alt%3D%22%22%20class%3D%22wp-image-1537%22%20%2F%3E%3C%2Ffigure%3E%
 0A%0A%0A%0A%3Cp%3ELiebe%20Freundinnen%20und%20Freunde%2C%3C%2Fp%3E%0A%0A%
 0A%0A%3Cp%3Ewir%20wollen%20gemeinsam%20gr%C3%BCn%2C%20engagiert%20und%20z
 uversichtlich%20ins%20neue%20Jahr%20starten%20und%20laden%20Euch%20mit%20
 allen%20Lieben%2C%20Freundinnen%2C%20Freunden%20und%20Bekannten%20herzlic
 h%20ein%20zu%20unserem%3C%2Fp%3E%0A%0A%0A%0A%3Ch2%20class%3D%22wp-block-h
 eading%22%3EGR%C3%9CNEN%20NEUJAHRSEMPFANG%3C%2Fh2%3E%0A%0A%0A%0A%3Cp%3E%3
 Cstrong%3Eam%2003.01.2026%20ab%2017.00%20Uhr%3Cbr%3Ein%20der%20Reithalle%
 20Rastatt%2C%20Am%20Schlossplatz%209%2C%2076437%20Rastatt.%3C%2Fstrong%3E
 %3Cbr%3E%3C%2Fp%3E%0A%0A%0A%0A%3Cp%3EWir%20wollen%20in%20Rastatt%2C%20der
 %20Stadt%20der%20Demokratie%2C%20in%20der%20am%20Ende%20der%20badischen%2
 0Revolution%20Freiheitsk%C3%A4mpfer%20festgesetzt%20und%20umgebracht%20wu
 rden%20ein%20positives%20Zukunftszeichen%20setzen%20gegen%20die%20zunehme
 nden%20rechtsextremen%20Tendenzen.%20Unsere%20Zukunft%20soll%20von%20Zuve
 rsicht%20und%20Besonnenheit%20gepr%C3%A4gt%20sein%20und%20nicht%20von%20A
 ngstmache%20und%20Hetze.%20Das%20k%C3%B6nnen%20wir%20nur%20gemeinsam%20sc
 haffen%2C%20indem%20wir%20als%20wehrhafte%20Demokratinnen%20und%20Demokra
 ten%20zusammenstehen.%3C%2Fp%3E%0A%0A%0A%0A%3Cp%3EMit%20uns%20feiern%20u.
 a.%20unser%20Landesvorsitzender%20Pascal%20Haggenm%C3%BCller%2C%20unsere%
 20Landtagskandidaten%20f%C3%BCr%20den%20Wahlkreis%2032%20%28Rastatt%29%20
 Thomas%20Hentschel%20MdL%20und%20f%C3%BCr%20den%20Wahlkreis%2033%20%28Bad
 en-Baden%29%20Dr.%20Joachim%20Heck%20sowie%20weitere%20%C3%9Cberraschungs
 g%C3%A4ste.%3C%2Fp%3E%0A%0A%0A%0A%3Cp%3EWir%20freuen%20uns%20auf%20ein%20
 fr%C3%B6hliches%20Fest%20und%20einen%20guten%20Austausch.%20Wenn%20es%20E
 uch%20m%C3%B6glich%20ist%2C%20freuen%20wir%20uns%20%C3%BCber%20eine%20Anm
 eldung%20per%20Mail%20an%20info%40gruene-ra-bad.de%20bis%20zum%2030.12.20
 25%20zur%20besseren%20Planung.%20Ihr%20seid%20uns%20aber%20auch%20willkom
 men%2C%20wenn%20Ihr%20Euch%20kurzfristig%20entscheidet.%20%3C%2Fp%3E%0A%0
 A%0A%0A%3Cp%3EMit%20freundlichen%20Gr%C3%BC%C3%9Fen%20im%20Namen%20des%20
 Kreisvorstandes%3C%2Fp%3E%0A%0A%0A%0A%3Cp%3EBirgit%20Gerhard-Hentschel%20
 und%20Stefan%20Hubertus%3C%2Fp%3E%0A%0A%0A%0A%3Cp%3E%3C%2Fp%3E%0A":Liebe 
 Freundinnen und Freunde\,\n\nwir wollen gemeinsam grün\, engagiert und z
 uversichtlich ins neue Jahr starten und laden Euch mit allen Lieben\, Fre
 undinnen\, Freunden und Bekannten herzlich ein zu unserem\n\nGRÜNEN NEUJ
 AHRSEMPFANG\n\nam 03.01.2026 ab 17.00 Uhrin der Reithalle Rastatt\, Am Sc
 hlossplatz 9\, 76437 Rastatt.\n\nWir wollen in Rastatt\, der Stadt der De
 mokratie\, in der am Ende der badischen Revolution Freiheitskämpfer fest
 gesetzt und umgebracht wurden ein positives Zukunftszeichen setzen gegen 
 die zunehmenden rechtsextremen Tendenzen. Unsere Zukunft soll von Zuversi
 cht und Besonnenheit geprägt sein und nicht von Angstmache und Hetze. Da
 s können wir nur gemeinsam schaffen\, indem wir als wehrhafte Demokratin
 nen und Demokraten zusammenstehen.\n\nMit uns feiern u.a. unser Landesvor
 sitzender Pascal Haggenmüller\, unsere Landtagskandidaten für den Wahlk
 reis 32 (Rastatt) Thomas Hentschel MdL und für den Wahlkreis 33 (Baden-B
 aden) Dr. Joachim Heck sowie weitere Überraschungsgäste.\n\nWir freuen 
 uns auf ein fröhliches Fest und einen guten Austausch. Wenn es Euch mög
 lich ist\, freuen wir uns über eine Anmeldung per Mail an info@gruene-ra
 -bad.de bis zum 30.12.2025 zur besseren Planung. Ihr seid uns aber auch w
 illkommen\, wenn Ihr Euch kurzfristig entscheidet.\n\nMit freundlichen Gr
 üßen im Namen des Kreisvorstandes\n\nBirgit Gerhard-Hentschel und Stefa
 n Hubertus
CLASS:PUBLIC
DTSTART;TZID=Europe/Berlin:20260103T170000
DTEND;TZID=Europe/Berlin:20260103T180000
DTSTAMP:20260422T142557
END:VEVENT
END:VCALENDAR