BEGIN:VCALENDAR
VERSION:2.0
PRODID:gruene-suedhardt.de
METHOD:PUBLISH
BEGIN:VTIMEZONE
TZID:Europe/Berlin
X-LIC-LOCATION:Europe/Berlin
BEGIN:DAYLIGHT
TZOFFSETFROM:+0100
TZOFFSETTO:+0200
TZNAME:CEST
DTSTART:19700329T020000
RRULE:FREQ=YEARLY;INTERVAL=1;BYDAY=-1SU;BYMONTH=3
END:DAYLIGHT
BEGIN:STANDARD
TZOFFSETFROM:+0200
TZOFFSETTO:+0100
TZNAME:CET
DTSTART:19701025T030000
RRULE:FREQ=YEARLY;INTERVAL=1;BYDAY=-1SU;BYMONTH=10
END:STANDARD
END:VTIMEZONE
BEGIN:VEVENT
UID:9df698403df6255c0be271d677f14806@gruene-suedhardt.de
URL;VALUE=URI:https://gruene-suedhardt.de/termine/nominierungsversammlung
 -fuer-den-gemeinderat-in-oetigheim/
LOCATION:
SUMMARY:Aufstellung der Kreistagsliste für den Wahlbezirk 5
DESCRIPTION;ALTREP="data:text/html,":
CLASS:PUBLIC
DTSTART;TZID=Europe/Berlin:20240216T000000
DTEND;TZID=Europe/Berlin:20240216T010000
DTSTAMP:20260424T095004
END:VEVENT
END:VCALENDAR