BEGIN:VCALENDAR
VERSION:2.0
PRODID:gruene-suedhardt.de
METHOD:PUBLISH
BEGIN:VTIMEZONE
TZID:Europe/Berlin
X-LIC-LOCATION:Europe/Berlin
BEGIN:DAYLIGHT
TZOFFSETFROM:+0100
TZOFFSETTO:+0200
TZNAME:CEST
DTSTART:19700329T020000
RRULE:FREQ=YEARLY;INTERVAL=1;BYDAY=-1SU;BYMONTH=3
END:DAYLIGHT
BEGIN:STANDARD
TZOFFSETFROM:+0200
TZOFFSETTO:+0100
TZNAME:CET
DTSTART:19701025T030000
RRULE:FREQ=YEARLY;INTERVAL=1;BYDAY=-1SU;BYMONTH=10
END:STANDARD
END:VTIMEZONE
BEGIN:VEVENT
UID:4a140975eee719807eb0023be1576928@gruene-suedhardt.de
URL;VALUE=URI:https://gruene-suedhardt.de/termine/offener-treff/
LOCATION:Phönix Stube, Grenzstr. 78, Durmersheim
SUMMARY:OFFENER TREFF
DESCRIPTION;ALTREP="data:text/html,%0A%3Cp%3EWir%20laden%20interessierte%
 20B%C3%BCrgerinnen%20und%20B%C3%BCrger%20zum%20Austausch%20in%20der%20Ph%
 C3%B6nix-Stube%20in%20Durmersheim%20ein%20und%20freuen%20uns%20auf%20inte
 ressante%20Gespr%C3%A4che.%3C%2Fp%3E%0A%0A%0A%0A%3Cp%3E%3C%2Fp%3E%0A":Wir
  laden interessierte Bürgerinnen und Bürger zum Austausch in der Phöni
 x-Stube in Durmersheim ein und freuen uns auf interessante Gespräche.
CLASS:PUBLIC
DTSTART;TZID=Europe/Berlin:20250731T190000
DTEND;TZID=Europe/Berlin:20250731T200000
DTSTAMP:20260422T112217
END:VEVENT
END:VCALENDAR