BEGIN:VCALENDAR
VERSION:2.0
PRODID:gruene-suedhardt.de
METHOD:PUBLISH
BEGIN:VTIMEZONE
TZID:Europe/Berlin
X-LIC-LOCATION:Europe/Berlin
BEGIN:DAYLIGHT
TZOFFSETFROM:+0100
TZOFFSETTO:+0200
TZNAME:CEST
DTSTART:19700329T020000
RRULE:FREQ=YEARLY;INTERVAL=1;BYDAY=-1SU;BYMONTH=3
END:DAYLIGHT
BEGIN:STANDARD
TZOFFSETFROM:+0200
TZOFFSETTO:+0100
TZNAME:CET
DTSTART:19701025T030000
RRULE:FREQ=YEARLY;INTERVAL=1;BYDAY=-1SU;BYMONTH=10
END:STANDARD
END:VTIMEZONE
BEGIN:VEVENT
UID:f175bb652c2917c38044ed03cc427015@gruene-suedhardt.de
URL;VALUE=URI:https://gruene-suedhardt.de/termine/offener-treff-22012026/
LOCATION:Alter Farrenstall, Leopoldstr. 2, Bietigheim
SUMMARY:Offener Treff
DESCRIPTION;ALTREP="data:text/html,%0A%3Cfigure%20class%3D%22wp-block-ima
 ge%20size-large%22%3E%3Cimg%20src%3D%22https%3A%2F%2Fgruene-suedhardt.de%
 2Fwp-content%2Fuploads%2F2025%2F11%2FOT-22.1.26-819x1024.png%22%20alt%3D%
 22%22%20class%3D%22wp-image-1526%22%20%2F%3E%3C%2Ffigure%3E%0A%0A%0A%0A%3
 Cp%3EDer%20B90%2FGR%C3%9CNE%20OV%20S%C3%BCdhardt%20l%C3%A4dt%20politisch%
 20interessierte%20B%C3%BCrger%2Ainnen%20zum%20Austausch%20in%20gem%C3%BCt
 licher%20Atmosph%C3%A4re%20ein.%3C%2Fp%3E%0A%0A%0A%0A%3Cp%3E%F0%9F%93%8DB
 %C3%BCrgerzentrum%20Alter%20Farrenstall%2C%20Leopoldstra%C3%9Fe%202%2C%20
 Bietigheim%3C%2Fp%3E%0A%0A%0A%0A%3Cp%3E%F0%9F%93%85Donnerstag%2C%2022.1.2
 026%3C%2Fp%3E%0A%0A%0A%0A%3Cp%3E%F0%9F%95%96%2019%20Uhr%3Cbr%3E%3C%2Fp%3E
 %0A%0A%0A%0A%3Cp%3E%3C%2Fp%3E%0A%0A%0A%0A%3Cp%3E%3C%2Fp%3E%0A":Der B90/GR
 ÜNE OV Südhardt lädt politisch interessierte Bürger*innen zum Austaus
 ch in gemütlicher Atmosphäre ein.\n\n📍Bürgerzentrum Alter Farrensta
 ll\, Leopoldstraße 2\, Bietigheim\n\n📅Donnerstag\, 22.1.2026\n\n🕖 
 19 Uhr
CLASS:PUBLIC
DTSTART;TZID=Europe/Berlin:20260122T190000
DTEND;TZID=Europe/Berlin:20260122T220000
DTSTAMP:20260422T112211
END:VEVENT
END:VCALENDAR