BEGIN:VCALENDAR
VERSION:2.0
PRODID:gruene-suedhardt.de
METHOD:PUBLISH
BEGIN:VTIMEZONE
TZID:Europe/Berlin
X-LIC-LOCATION:Europe/Berlin
BEGIN:DAYLIGHT
TZOFFSETFROM:+0100
TZOFFSETTO:+0200
TZNAME:CEST
DTSTART:19700329T020000
RRULE:FREQ=YEARLY;INTERVAL=1;BYDAY=-1SU;BYMONTH=3
END:DAYLIGHT
BEGIN:STANDARD
TZOFFSETFROM:+0200
TZOFFSETTO:+0100
TZNAME:CET
DTSTART:19701025T030000
RRULE:FREQ=YEARLY;INTERVAL=1;BYDAY=-1SU;BYMONTH=10
END:STANDARD
END:VTIMEZONE
BEGIN:VEVENT
UID:477a74cd04644bd5bb9deb12adab8894@gruene-suedhardt.de
URL;VALUE=URI:https://gruene-suedhardt.de/termine/offener-treff-23042026/
LOCATION:Alter Farrenstall, Leopoldstr. 2, Bietigheim
SUMMARY:Offener Treff
DESCRIPTION;ALTREP="data:text/html,%0A%3Cp%3EDer%20B90%2FGR%C3%9CNE%20OV%
 20S%C3%BCdhardt%20l%C3%A4dt%20politisch%20interessierte%20B%C3%BCrger%2Ai
 nnen%20zum%20Austausch%20in%20gem%C3%BCtlicher%20Atmosph%C3%A4re%20ein.%3
 C%2Fp%3E%0A%0A%0A%0A%3Cp%3E%F0%9F%93%8DB%C3%BCrgerzentrum%20Alter%20Farre
 nstall%2C%20Leopoldstra%C3%9Fe%202%2C%20Bietigheim%3C%2Fp%3E%0A%0A%0A%0A%
 3Cp%3E%F0%9F%93%85Donnerstag%2C%2023.4.2026%3C%2Fp%3E%0A%0A%0A%0A%3Cp%3E%
 F0%9F%95%96%2019%20Uhr%3Cbr%3E%3C%2Fp%3E%0A%0A%0A%0A%3Cp%3E%3C%2Fp%3E%0A%
 0A%0A%0A%3Cp%3E%3C%2Fp%3E%0A":Der B90/GRÜNE OV Südhardt lädt politisch
  interessierte Bürger*innen zum Austausch in gemütlicher Atmosphäre ei
 n.\n\n📍Bürgerzentrum Alter Farrenstall\, Leopoldstraße 2\, Bietighei
 m\n\n📅Donnerstag\, 23.4.2026\n\n🕖 19 Uhr
CLASS:PUBLIC
DTSTART;TZID=Europe/Berlin:20260423T190000
DTEND;TZID=Europe/Berlin:20260423T220000
DTSTAMP:20260422T144940
END:VEVENT
END:VCALENDAR