BEGIN:VCALENDAR
VERSION:2.0
PRODID:gruene-suedhardt.de
METHOD:PUBLISH
BEGIN:VTIMEZONE
TZID:Europe/Berlin
X-LIC-LOCATION:Europe/Berlin
BEGIN:DAYLIGHT
TZOFFSETFROM:+0100
TZOFFSETTO:+0200
TZNAME:CEST
DTSTART:19700329T020000
RRULE:FREQ=YEARLY;INTERVAL=1;BYDAY=-1SU;BYMONTH=3
END:DAYLIGHT
BEGIN:STANDARD
TZOFFSETFROM:+0200
TZOFFSETTO:+0100
TZNAME:CET
DTSTART:19701025T030000
RRULE:FREQ=YEARLY;INTERVAL=1;BYDAY=-1SU;BYMONTH=10
END:STANDARD
END:VTIMEZONE
BEGIN:VEVENT
UID:5d3cbd68bdb3a67c24fee105fef342dd@gruene-suedhardt.de
URL;VALUE=URI:https://gruene-suedhardt.de/termine/offener-treff-24092025/
LOCATION:Alter Farrenstall, Leopoldstr. 2, Bietigheim
SUMMARY:Offener Treff
DESCRIPTION;ALTREP="data:text/html,%0A%3Cfigure%20class%3D%22wp-block-ima
 ge%20size-large%22%3E%3Cimg%20src%3D%22https%3A%2F%2Fgruene-suedhardt.de%
 2Fwp-content%2Fuploads%2F2025%2F09%2FOffenener-Treff-OV-Suedhardt-24.09.2
 025-819x1024.png%22%20alt%3D%22%22%20class%3D%22wp-image-1501%22%20%2F%3E
 %3C%2Ffigure%3E%0A%0A%0A%0A%3Cp%3E%3Cbr%3EDer%20B90%2FGR%C3%9CNE%20OV%20S
 %C3%BCdhardt%20l%C3%A4dt%20politisch%20interessierte%20B%C3%BCrger%2Ainne
 n%20zum%20Austausch%20in%20gem%C3%BCtlicher%20Atmosph%C3%A4re%20ein.%3C%2
 Fp%3E%0A%0A%0A%0A%3Cp%3E%F0%9F%93%8DB%C3%BCrgerzentrum%20Alter%20Farrenst
 all%2C%20Leopoldstra%C3%9Fe%202%2C%20Bietigheim%3C%2Fp%3E%0A%0A%0A%0A%3Cp
 %3E%F0%9F%93%85Mittwoch%2C%2014.09.2025%3C%2Fp%3E%0A%0A%0A%0A%3Cp%3E%F0%9
 F%95%96%2019%20Uhr%3Cbr%3E%3C%2Fp%3E%0A%0A%0A%0A%3Cp%3E%3C%2Fp%3E%0A%0A%0
 A%0A%3Cp%3E%3C%2Fp%3E%0A":Der B90/GRÜNE OV Südhardt lädt politisch int
 eressierte Bürger*innen zum Austausch in gemütlicher Atmosphäre ein.\n
 \n📍Bürgerzentrum Alter Farrenstall\, Leopoldstraße 2\, Bietigheim\n\
 n📅Mittwoch\, 14.09.2025\n\n🕖 19 Uhr
CLASS:PUBLIC
DTSTART;TZID=Europe/Berlin:20250924T190000
DTEND;TZID=Europe/Berlin:20250924T210000
DTSTAMP:20260424T094841
END:VEVENT
END:VCALENDAR