BEGIN:VCALENDAR
VERSION:2.0
PRODID:gruene-suedhardt.de
METHOD:PUBLISH
BEGIN:VTIMEZONE
TZID:Europe/Berlin
X-LIC-LOCATION:Europe/Berlin
BEGIN:DAYLIGHT
TZOFFSETFROM:+0100
TZOFFSETTO:+0200
TZNAME:CEST
DTSTART:19700329T020000
RRULE:FREQ=YEARLY;INTERVAL=1;BYDAY=-1SU;BYMONTH=3
END:DAYLIGHT
BEGIN:STANDARD
TZOFFSETFROM:+0200
TZOFFSETTO:+0100
TZNAME:CET
DTSTART:19701025T030000
RRULE:FREQ=YEARLY;INTERVAL=1;BYDAY=-1SU;BYMONTH=10
END:STANDARD
END:VTIMEZONE
BEGIN:VEVENT
UID:489b10ea41393ac3504739d61be5c3e1@gruene-suedhardt.de
URL;VALUE=URI:https://gruene-suedhardt.de/termine/online-veranstaltung-kl
 imaschutz-jetzt/
LOCATION:Online
SUMMARY:Online-Veranstaltung: Klimaschutz jetzt!
DESCRIPTION;ALTREP="data:text/html,Thomas%20Hentschel%20im%20Gespr%C3%A4c
 h%20mit%20Dr.%20Erwin%20Gro%C3%9F%20%28Klimab%C3%BCndnis%20Rastatt%29%0D%
 0A%0D%0AVieles%20wurde%20bereits%20in%20Baden-W%C3%BCrttemberg%20auf%20de
 n%20Weg%20gebracht%2C%20um%20die%20Klimaziele%20zu%20erreichen.%20Aber%20
 reicht%20das%20aus%2C%20um%20die%20ehrgeizigen%20Klimaziele%20zu%20erreic
 hen%3F%20Was%20waren%20die%20wichtigsten%20Klimaschutz-Ma%C3%9Fnahmen%2C%
 20die%20das%20Land%2C%20Kommunen%2C%20Unternehmen%20und%20Privathaushalte
 %20bis%20jetzt%20umgesetzt%20haben%3F%20Was%20muss%20noch%20alles%20konkr
 et%20bis%20wann%20getan%20werden%2C%20um%20die%20Klimaziele%20zu%20erreic
 hen%20und%20den%20Temparaturanstieg%20auf%201%2C5%20Grad%20zu%20begrenzen
 %3F%20Dar%C3%BCber%20m%C3%B6chte%20Thomas%20Hentschel%20mit%20Dr.%20Erwin
 %20Gro%C3%9F%20vom%20Klimab%C3%BCndnis%20diskutieren.%0D%0A%0D%0ADie%20Ve
 ranstaltung%20wird%20Live%20auf%20Facebook%20%28%3Ca%20href%3D%22https%3A
 %2F%2Fwww.facebook.com%2Fmdl.thomas.hentschel%2Flive%2F%22%3Ehttps%3A%2F%
 2Fwww.facebook.com%2Fmdl.thomas.hentschel%2Flive%2F%3C%2Fa%3E%29%20und%20
 YouTube%20%28%3Ca%20href%3D%22https%3A%2F%2Fwww.youtube.com%2Fchannel%2FU
 C6WdCeoPu_GdlmsPpgQgjyg%2Flive%22%3Ehttps%3A%2F%2Fwww.youtube.com%2Fchann
 el%2FUC6WdCeoPu_GdlmsPpgQgjyg%2Flive%3C%2Fa%3E%29%20%C3%BCbertragen.%0D%0
 A%0D%0A%0D%0A%0D%0APowered%20by%20%3Ca%20href%3D%22https%3A%2F%2Frestream
 .io%22%3ERestream.io%3C%2Fa%3E":Thomas Hentschel im Gespräch mit Dr. Erw
 in Groß (Klimabündnis Rastatt)\n\nVieles wurde bereits in Baden-Württe
 mberg auf den Weg gebracht\, um die Klimaziele zu erreichen. Aber reicht 
 das aus\, um die ehrgeizigen Klimaziele zu erreichen? Was waren die wicht
 igsten Klimaschutz-Maßnahmen\, die das Land\, Kommunen\, Unternehmen und
  Privathaushalte bis jetzt umgesetzt haben? Was muss noch alles konkret b
 is wann getan werden\, um die Klimaziele zu erreichen und den Temparatura
 nstieg auf 1\,5 Grad zu begrenzen? Darüber möchte Thomas Hentschel mit 
 Dr. Erwin Groß vom Klimabündnis diskutieren.\n\nDie Veranstaltung wird 
 Live auf Facebook (https://www.facebook.com/mdl.thomas.hentschel/live/) u
 nd YouTube (https://www.youtube.com/channel/UC6WdCeoPu_GdlmsPpgQgjyg/live
 ) übertragen.\n\nPowered by Restream.io
CLASS:PUBLIC
DTSTART;TZID=Europe/Berlin:20210120T190000
DTEND;TZID=Europe/Berlin:20210120T200000
DTSTAMP:20260422T112350
END:VEVENT
END:VCALENDAR