BEGIN:VCALENDAR
VERSION:2.0
PRODID:gruene-suedhardt.de
METHOD:PUBLISH
BEGIN:VTIMEZONE
TZID:Europe/Berlin
X-LIC-LOCATION:Europe/Berlin
BEGIN:DAYLIGHT
TZOFFSETFROM:+0100
TZOFFSETTO:+0200
TZNAME:CEST
DTSTART:19700329T020000
RRULE:FREQ=YEARLY;INTERVAL=1;BYDAY=-1SU;BYMONTH=3
END:DAYLIGHT
BEGIN:STANDARD
TZOFFSETFROM:+0200
TZOFFSETTO:+0100
TZNAME:CET
DTSTART:19701025T030000
RRULE:FREQ=YEARLY;INTERVAL=1;BYDAY=-1SU;BYMONTH=10
END:STANDARD
END:VTIMEZONE
BEGIN:VEVENT
UID:5e39dd117f76c5096b1b096c80b9eae2@gruene-suedhardt.de
URL;VALUE=URI:https://gruene-suedhardt.de/termine/online-veranstaltung-zu
 kunft-der-mobilitaet/
LOCATION:Online
SUMMARY:Online-Veranstaltung: Zukunft der Mobilität
DESCRIPTION;ALTREP="data:text/html,%3Cspan%20style%3D%22font-family%3A%20
 Calibri%2Csans-serif%3Bfont-size%3A%20small%22%3E%3Cb%3EBarbara%20Saebel%
 20MdL%20veranstaltet%20Online-Diskussion%20zur%20Zukunft%20der%20Mobilit%
 C3%A4t%20mit%20Thomas%20Hentschel%20MdL%3C%2Fb%3E%3C%2Fspan%3E%0D%0A%0D%0
 A%3Cspan%20style%3D%22font-family%3A%20Calibri%2Csans-serif%3Bfont-size%3
 A%20small%22%3EZu%20einem%20Online-Vortrag%20mit%20Diskussion%20l%C3%A4dt
 %20die%20Ettlinger%20Gr%C3%BCne%20Landtagsabgeordnete%20Barbara%20Saebel%
 20am%20Dienstag%2C%20den%2012.%20Januar%20um%2019%20Uhr%20zum%20Thema%20%
 E2%80%9EZukunft%20der%20Mobilit%C3%A4t%E2%80%9C%20mit%20ihrem%20Rastatter
 %20Kollegen%20Thomas%20Hentschel%20MdL%2C%20Sprecher%20f%C3%BCr%20E-Mobil
 it%C3%A4t.%20Hentschel%2C%20Mitglied%20im%20Verkehrsausschuss%2C%20sprich
 t%20%C3%BCber%20die%20Zukunft%20des%20Autos%20mit%20alternativen%20Antrie
 ben%20und%20Kraftstoffen%2C%20des%20Rads%20mit%20E-Bike%20Netz%20und%20Ra
 dschnellwegen%2C%20des%20Fu%C3%9Fverkehrs%20mit%20autofreien%20Innenst%C3
 %A4dten%20und%20des%20%C3%96PNVs%20mit%20Taktausweitung%2C%20L%C3%BCckens
 chl%C3%BCssen%20und%20OnDemand-Verkehren.%0D%0A%0D%0AAnmeldung%20unter%20
 %3Ca%20href%3D%22mailto%3Amail%40barbara-saebel.eu%22%20target%3D%22_blan
 k%22%20rel%3D%22noopener%20noreferrer%22%3Email%40barbara-saebel.eu%3C%2F
 a%3E%20f%C3%BCr%20den%20Teilnahmelink.%3C%2Fspan%3E":Barbara Saebel MdL v
 eranstaltet Online-Diskussion zur Zukunft der Mobilität mit Thomas Hents
 chel MdL\n\nZu einem Online-Vortrag mit Diskussion lädt die Ettlinger Gr
 üne Landtagsabgeordnete Barbara Saebel am Dienstag\, den 12. Januar um 1
 9 Uhr zum Thema „Zukunft der Mobilität“ mit ihrem Rastatter Kollegen
  Thomas Hentschel MdL\, Sprecher für E-Mobilität. Hentschel\, Mitglied 
 im Verkehrsausschuss\, spricht über die Zukunft des Autos mit alternativ
 en Antrieben und Kraftstoffen\, des Rads mit E-Bike Netz und Radschnellwe
 gen\, des Fußverkehrs mit autofreien Innenstädten und des ÖPNVs mit Ta
 ktausweitung\, Lückenschlüssen und OnDemand-Verkehren.\n\nAnmeldung unt
 er mail@barbara-saebel.eu für den Teilnahmelink.
CLASS:PUBLIC
DTSTART;TZID=Europe/Berlin:20210112T190000
DTEND;TZID=Europe/Berlin:20210112T200000
DTSTAMP:20260424T094949
END:VEVENT
END:VCALENDAR