BEGIN:VCALENDAR
VERSION:2.0
PRODID:gruene-suedhardt.de
METHOD:PUBLISH
BEGIN:VTIMEZONE
TZID:Europe/Berlin
X-LIC-LOCATION:Europe/Berlin
BEGIN:DAYLIGHT
TZOFFSETFROM:+0100
TZOFFSETTO:+0200
TZNAME:CEST
DTSTART:19700329T020000
RRULE:FREQ=YEARLY;INTERVAL=1;BYDAY=-1SU;BYMONTH=3
END:DAYLIGHT
BEGIN:STANDARD
TZOFFSETFROM:+0200
TZOFFSETTO:+0100
TZNAME:CET
DTSTART:19701025T030000
RRULE:FREQ=YEARLY;INTERVAL=1;BYDAY=-1SU;BYMONTH=10
END:STANDARD
END:VTIMEZONE
BEGIN:VEVENT
UID:4d72b015cffa1c06876a63c708ea10e2@gruene-suedhardt.de
URL;VALUE=URI:https://gruene-suedhardt.de/termine/onlinegespraech-die-neu
 e-landesregierung/
LOCATION:GoToMeeting
SUMMARY:Onlinegespräch: Die neue Landesregierung
DESCRIPTION;ALTREP="data:text/html,%3Cp%20class%3D%22bodytext%22%20style%
 3D%22text-align%3A%20left%22%3EAm%2012.%20Mai%20findet%20die%20Wahl%20des
 %20Ministerpr%C3%A4sidenten%20im%20Landtag%20statt%2C%20im%20Anschluss%20
 werden%20die%20Minister%2Ainnen%20bekannt%20gegeben%20und%20vereidigt.%20
 Zuvor%20wurde%20am%205.%20Mai%20der%20Koalitionsvertrag%20vorgestellt%2C%
 20%C3%BCber%20den%20am%208.%20Mai%20auf%20digitalen%20Parteitagen%20von%2
 0GR%C3%9CNEN%20und%20CDU%20abgestimmt%20werden%20soll.%3C%2Fp%3E%0D%0A%3C
 p%20class%3D%22bodytext%22%3EThomas%20Hentschel%20und%20Hans-Peter%20Behr
 ens%20laden%20alle%20interessierten%20B%C3%BCrger%2Ainnen%20ein%2C%20mit%
 20Ihnen%20am%2012.%20Mai%2C%20ab%2019.00%20Uhr%20online%20%C3%BCber%20den
 %20Koalitionsvertrag%20und%20die%20neue%20Landesregierung%20ins%20Gespr%C
 3%A4ch%20zu%20kommen.%20Was%20sind%20die%20wichtigsten%20Ziele%2C%20die%2
 0im%20Koalitionsvertrag%20vereinbart%20wurden%3F%20Welche%20politischen%2
 0Schwerpunkte%20werden%20die%20verschiedenen%20gr%C3%BCn%20und%20schwarz-
 gef%C3%BChrten%20Ministerien%20setzen%3F%20Hans-Peter%20Behrens%20wird%20
 vor%20allem%20auf%20die%20Bereiche%20Energie%20und%20Klima%20und%20Thomas
 %20Hentschel%20auf%20die%20Bereiche%20Verkehrspolitik%20und%20Recht%20ein
 gehen.%20Selbstverst%C3%A4ndlich%20k%C3%B6nnen%20die%20Teilnehmer%2Ainnen
 %20auch%20zu%20allen%20weiteren%20Politikfeldern%20und%20Themen%20nachfra
 gen%20und%20Anmerkungen%20machen.%3C%2Fp%3E%0D%0A%3Cp%20class%3D%22bodyte
 xt%22%3E%3Cstrong%3EDie%20Veranstaltung%20findet%20online%20%C3%BCber%20g
 otomeeting%20statt.%20Eine%20Anmeldung%20ist%20nicht%20notwendig.%20%3C%2
 Fstrong%3E%3C%2Fp%3E%0D%0A%3Cp%20class%3D%22bodytext%22%3E%3Cstrong%3EDer
 %20Zugangslink%20lautet%20%3Ca%20href%3D%22https%3A%2F%2Fglobal.gotomeeti
 ng.com%2Fjoin%2F148471397%22%20target%3D%22_blank%22%20rel%3D%22noopener%
 20noreferrer%22%3Ehttps%3A%2F%2Fglobal.gotomeeting.com%2Fjoin%2F148471397
 %3C%2Fa%3E%2C%20die%20Teilnahme%20ist%20auch%20%C3%BCber%20Telefon%20m%C3
 %B6glich%20unter%200721%209881%204161%2C%20Zugangscode%3A%C2%A0148-471-39
 7%3C%2Fstrong%3E%3C%2Fp%3E%0D%0A%3Cp%20class%3D%22bodytext%22%3EDer%20Koa
 litionsvertrag%20kann%20%3Ca%20href%3D%22https%3A%2F%2Fwww.gruene-bw.de%2
 Fwp-content%2Fuploads%2F2021%2F05%2FJetzt-fuer-morgen-Der-Erneuerungsvert
 rag-fuer-Baden-Wuerttemberg-gruen-schwarze-Koalition-2021-2026.pdf%22%20t
 arget%3D%22_blank%22%20rel%3D%22noopener%20noreferrer%22%3Ehier%3C%2Fa%3E
 %20abgerufen%20werden.%3C%2Fp%3E":Am 12. Mai findet die Wahl des Minister
 präsidenten im Landtag statt\, im Anschluss werden die Minister*innen be
 kannt gegeben und vereidigt. Zuvor wurde am 5. Mai der Koalitionsvertrag 
 vorgestellt\, über den am 8. Mai auf digitalen Parteitagen von GRÜNEN u
 nd CDU abgestimmt werden soll.\n\nThomas Hentschel und Hans-Peter Behrens
  laden alle interessierten Bürger*innen ein\, mit Ihnen am 12. Mai\, ab 
 19.00 Uhr online über den Koalitionsvertrag und die neue Landesregierung
  ins Gespräch zu kommen. Was sind die wichtigsten Ziele\, die im Koaliti
 onsvertrag vereinbart wurden? Welche politischen Schwerpunkte werden die 
 verschiedenen grün und schwarz-geführten Ministerien setzen? Hans-Peter
  Behrens wird vor allem auf die Bereiche Energie und Klima und Thomas Hen
 tschel auf die Bereiche Verkehrspolitik und Recht eingehen. Selbstverstä
 ndlich können die Teilnehmer*innen auch zu allen weiteren Politikfeldern
  und Themen nachfragen und Anmerkungen machen.\n\nDie Veranstaltung finde
 t online über gotomeeting statt. Eine Anmeldung ist nicht notwendig.\n\n
 Der Zugangslink lautet https://global.gotomeeting.com/join/148471397\, di
 e Teilnahme ist auch über Telefon möglich unter 0721 9881 4161\, Zugang
 scode: 148-471-397\n\nDer Koalitionsvertrag kann hier abgerufen werden.
CLASS:PUBLIC
DTSTART;TZID=Europe/Berlin:20210512T190000
DTEND;TZID=Europe/Berlin:20210512T200000
DTSTAMP:20260422T142955
END:VEVENT
END:VCALENDAR