BEGIN:VCALENDAR
VERSION:2.0
PRODID:gruene-suedhardt.de
METHOD:PUBLISH
BEGIN:VTIMEZONE
TZID:Europe/Berlin
X-LIC-LOCATION:Europe/Berlin
BEGIN:DAYLIGHT
TZOFFSETFROM:+0100
TZOFFSETTO:+0200
TZNAME:CEST
DTSTART:19700329T020000
RRULE:FREQ=YEARLY;INTERVAL=1;BYDAY=-1SU;BYMONTH=3
END:DAYLIGHT
BEGIN:STANDARD
TZOFFSETFROM:+0200
TZOFFSETTO:+0100
TZNAME:CET
DTSTART:19701025T030000
RRULE:FREQ=YEARLY;INTERVAL=1;BYDAY=-1SU;BYMONTH=10
END:STANDARD
END:VTIMEZONE
BEGIN:VEVENT
UID:dcbb99a089d51f1a58a3992c675c2f42@gruene-suedhardt.de
URL;VALUE=URI:https://gruene-suedhardt.de/termine/orange-day/
LOCATION:Grünes Büro Rastatt, Rossistraße 2, Rastatt
SUMMARY:Orange Day
DESCRIPTION;ALTREP="data:text/html,%0A%3Cfigure%20class%3D%22wp-block-ima
 ge%20size-large%22%3E%3Cimg%20src%3D%22https%3A%2F%2Fgruene-suedhardt.de%
 2Fwp-content%2Fuploads%2F2025%2F11%2FOrange-Day-819x1024.png%22%20alt%3D%
 22%22%20class%3D%22wp-image-1513%22%20%2F%3E%3C%2Ffigure%3E%0A%0A%0A%0A%3
 Cp%3E%3C%2Fp%3E%0A%0A%0A%0A%3Cp%3EDer%20%22Orange%20Day%22%20ist%20der%20
 internationale%20Tag%20zur%20Beseitigung%20von%20Gewalt%20gegen%20Frauen%
 20am%2025.%20November.%20Er%20ist%20Teil%20der%20weltweiten%20%3Ca%20href
 %3D%22https%3A%2F%2Funwomen.de%2Forange-the-world%2F%22%20target%3D%22_bl
 ank%22%20rel%3D%22noreferrer%20noopener%22%3E%3Cstrong%3EUN-Kampagne%20%2
 2Orange%20the%20World%22%3C%2Fstrong%3E%3C%2Fa%3E%2C%20die%20bis%20zum%20
 10.%20Dezember%20%28Tag%20der%20Menschenrechte%29%20l%C3%A4uft%2C%20um%20
 auf%20Gewalt%20an%20Frauen%20und%20M%C3%A4dchen%20aufmerksam%20zu%20mache
 n%20und%20die%20Gleichstellung%20zu%20f%C3%B6rdern.%20Die%20Farbe%20Orang
 e%20steht%20dabei%20symbolisch%20f%C3%BCr%20Mut%2C%20Kraft%20und%20Gewalt
 freiheit.%3C%2Fp%3E%0A%0A%0A%0A%3Cp%3E%F0%9F%93%85%20Dienstag%2C%2025.%20
 November%202025%3Cbr%3E%F0%9F%95%96%20ab%2017%3A00%20Uhr%3Cbr%3E%F0%9F%91
 %89%20Gr%C3%BCnes%20B%C3%BCro%20Rastatt%2C%20Rossistra%C3%9Fe%202%2C%20Ra
 statt%3C%2Fp%3E%0A%0A%0A%0A%3Cp%3E%3C%2Fp%3E%0A":Der "Orange Day" ist der
  internationale Tag zur Beseitigung von Gewalt gegen Frauen am 25. Novemb
 er. Er ist Teil der weltweiten UN-Kampagne "Orange the World"\, die bis z
 um 10. Dezember (Tag der Menschenrechte) läuft\, um auf Gewalt an Frauen
  und Mädchen aufmerksam zu machen und die Gleichstellung zu fördern. Di
 e Farbe Orange steht dabei symbolisch für Mut\, Kraft und Gewaltfreiheit
 .\n\n📅 Dienstag\, 25. November 2025🕖 ab 17:00 Uhr👉 Grünes Büro
  Rastatt\, Rossistraße 2\, Rastatt
CLASS:PUBLIC
DTSTART;TZID=Europe/Berlin:20251125T170000
DTEND;TZID=Europe/Berlin:20251125T180000
DTSTAMP:20260422T112219
END:VEVENT
END:VCALENDAR