BEGIN:VCALENDAR
VERSION:2.0
PRODID:gruene-suedhardt.de
METHOD:PUBLISH
BEGIN:VTIMEZONE
TZID:Europe/Berlin
X-LIC-LOCATION:Europe/Berlin
BEGIN:DAYLIGHT
TZOFFSETFROM:+0100
TZOFFSETTO:+0200
TZNAME:CEST
DTSTART:19700329T020000
RRULE:FREQ=YEARLY;INTERVAL=1;BYDAY=-1SU;BYMONTH=3
END:DAYLIGHT
BEGIN:STANDARD
TZOFFSETFROM:+0200
TZOFFSETTO:+0100
TZNAME:CET
DTSTART:19701025T030000
RRULE:FREQ=YEARLY;INTERVAL=1;BYDAY=-1SU;BYMONTH=10
END:STANDARD
END:VTIMEZONE
BEGIN:VEVENT
UID:97b5ccb2fb6b88079cffbdb6d1f066e1@gruene-suedhardt.de
URL;VALUE=URI:https://gruene-suedhardt.de/termine/plastikmuell-vermeidung
 -in-baeckereien/
LOCATION:Farrenstall, Bietigheim
SUMMARY:Plastikmüll-Vermeidung in Bäckereien
DESCRIPTION;ALTREP="data:text/html,mit%20Oliver%20Braun%2C%20Obermeister%
 20der%3Cem%3E%C2%A0B%C3%A4ckerinnung%C2%A0%3C%2Fem%3EBaden-Baden%2FMurgta
 l%2FB%C3%BChl":mit Oliver Braun\, Obermeister der Bäckerinnung Baden-B
 aden/Murgtal/Bühl
CLASS:PUBLIC
DTSTART;TZID=Europe/Berlin:20210923T191500
DTEND;TZID=Europe/Berlin:20210923T201500
DTSTAMP:20260422T112358
END:VEVENT
END:VCALENDAR