BEGIN:VCALENDAR
VERSION:2.0
PRODID:gruene-suedhardt.de
METHOD:PUBLISH
BEGIN:VTIMEZONE
TZID:Europe/Berlin
X-LIC-LOCATION:Europe/Berlin
BEGIN:DAYLIGHT
TZOFFSETFROM:+0100
TZOFFSETTO:+0200
TZNAME:CEST
DTSTART:19700329T020000
RRULE:FREQ=YEARLY;INTERVAL=1;BYDAY=-1SU;BYMONTH=3
END:DAYLIGHT
BEGIN:STANDARD
TZOFFSETFROM:+0200
TZOFFSETTO:+0100
TZNAME:CET
DTSTART:19701025T030000
RRULE:FREQ=YEARLY;INTERVAL=1;BYDAY=-1SU;BYMONTH=10
END:STANDARD
END:VTIMEZONE
BEGIN:VEVENT
UID:ea0f6078aefa72c733cf69653ff9f434@gruene-suedhardt.de
URL;VALUE=URI:https://gruene-suedhardt.de/termine/podiumsdiskussion/
LOCATION:Bürgerzentrum Alter Tabakschuppen - Halle A, Stöckwiese 6, 764
 67 Bietigheim
SUMMARY:Podiumsdiskussion
DESCRIPTION;ALTREP="data:text/html,%0A%3Cp%3EDer%20Jugendbeirat%20Bietigh
 eim%20veranstaltet%20eine%20Podiumsdiskussion%20f%C3%BCr%20Jugendliche%2C
 %20Neuw%C3%A4hler%2Ainnen%20und%20Interessierte.%20%3C%2Fp%3E%0A%0A%0A%0A
 %3Cp%3EUnser%20Bundestagskandidat%20%3Ca%20href%3D%22https%3A%2F%2Ffrank-
 brede.de%2F%22%20target%3D%22_blank%22%20rel%3D%22noreferrer%20noopener%2
 2%3E%3Cstrong%3EDr.%20Frank%20Brede%3C%2Fstrong%3E%3C%2Fa%3E%20im%20Wahlk
 reis%20Rastatt%20%2F%20Baden-Baden%20stellt%20sich%20gemeinsam%20mit%20an
 deren%20Kandidaten%20der%20Diskussion%20und%20steht%20Rede%20und%20Antwor
 t.%3Cbr%3E%3Cbr%3E%3C%2Fp%3E%0A%0A%0A%0A%3Cp%3E%3C%2Fp%3E%0A":Der Jugendb
 eirat Bietigheim veranstaltet eine Podiumsdiskussion für Jugendliche\, N
 euwähler*innen und Interessierte.\n\nUnser Bundestagskandidat Dr. Frank 
 Brede im Wahlkreis Rastatt / Baden-Baden stellt sich gemeinsam mit andere
 n Kandidaten der Diskussion und steht Rede und Antwort.
CLASS:PUBLIC
DTSTART;TZID=Europe/Berlin:20250117T170000
DTEND;TZID=Europe/Berlin:20250117T180000
DTSTAMP:20260422T100745
END:VEVENT
END:VCALENDAR